BEGIN:VCALENDAR
PRODID:-//WikiCFP//djf4te 1.0//EN
VERSION:2.0
CALSCALE:GREGORIAN
BEGIN:VEVENT
DTSTAMP:20260420T174607Z
DTSTART;VALUE=DATE:20160503
DTEND;VALUE=DATE:20160506
SUMMARY:HOST 2016
DESCRIPTION:IEEE International Symposium on Hardware Oriented Security an
 d Trust
URL:http://www.wikicfp.com/cfp/servlet/event.showcfp?eventid=48406&copyow
 nerid=81299
UID:cfp550357-E@wikicfp.com
END:VEVENT
BEGIN:VEVENT
DTSTAMP:20260420T174607Z
DTSTART;VALUE=DATE:20151108
SUMMARY:HOST 2016 Abstract Due
DESCRIPTION:IEEE International Symposium on Hardware Oriented Security an
 d Trust
URL:http://www.wikicfp.com/cfp/servlet/event.showcfp?eventid=48406&copyow
 nerid=81299
UID:cfp550357-A@wikicfp.com
END:VEVENT
BEGIN:VEVENT
DTSTAMP:20260420T174607Z
DTSTART;VALUE=DATE:20151112
SUMMARY:HOST 2016 Deadline
DESCRIPTION:IEEE International Symposium on Hardware Oriented Security an
 d Trust
URL:http://www.wikicfp.com/cfp/servlet/event.showcfp?eventid=48406&copyow
 nerid=81299
UID:cfp550357-D@wikicfp.com
END:VEVENT
BEGIN:VEVENT
DTSTAMP:20260420T174607Z
DTSTART;VALUE=DATE:20160131
SUMMARY:HOST 2016 Notification Due
DESCRIPTION:IEEE International Symposium on Hardware Oriented Security an
 d Trust
URL:http://www.wikicfp.com/cfp/servlet/event.showcfp?eventid=48406&copyow
 nerid=81299
UID:cfp550357-N@wikicfp.com
END:VEVENT
BEGIN:VEVENT
DTSTAMP:20260420T174607Z
DTSTART;VALUE=DATE:20160228
SUMMARY:HOST 2016 Final Version Due
DESCRIPTION:IEEE International Symposium on Hardware Oriented Security an
 d Trust
URL:http://www.wikicfp.com/cfp/servlet/event.showcfp?eventid=48406&copyow
 nerid=81299
UID:cfp550357-N@wikicfp.com
END:VEVENT
BEGIN:VEVENT
DTSTAMP:20260420T174607Z
DTSTART;VALUE=DATE:20161219
DTEND;VALUE=DATE:20161221
SUMMARY:AsianHOST 2016
DESCRIPTION:IEEE Asian Hardware-Oriented Security and Trust Symposium 201
 6
URL:http://www.wikicfp.com/cfp/servlet/event.showcfp?eventid=55598&copyow
 nerid=81299
UID:cfp606732-E@wikicfp.com
END:VEVENT
BEGIN:VEVENT
DTSTAMP:20260420T174607Z
DTSTART;VALUE=DATE:20160808
SUMMARY:AsianHOST 2016 Abstract Due
DESCRIPTION:IEEE Asian Hardware-Oriented Security and Trust Symposium 201
 6
URL:http://www.wikicfp.com/cfp/servlet/event.showcfp?eventid=55598&copyow
 nerid=81299
UID:cfp606732-A@wikicfp.com
END:VEVENT
BEGIN:VEVENT
DTSTAMP:20260420T174607Z
DTSTART;VALUE=DATE:20160815
SUMMARY:AsianHOST 2016 Deadline
DESCRIPTION:IEEE Asian Hardware-Oriented Security and Trust Symposium 201
 6
URL:http://www.wikicfp.com/cfp/servlet/event.showcfp?eventid=55598&copyow
 nerid=81299
UID:cfp606732-D@wikicfp.com
END:VEVENT
BEGIN:VEVENT
DTSTAMP:20260420T174607Z
DTSTART;VALUE=DATE:20160922
SUMMARY:AsianHOST 2016 Notification Due
DESCRIPTION:IEEE Asian Hardware-Oriented Security and Trust Symposium 201
 6
URL:http://www.wikicfp.com/cfp/servlet/event.showcfp?eventid=55598&copyow
 nerid=81299
UID:cfp606732-N@wikicfp.com
END:VEVENT
BEGIN:VEVENT
DTSTAMP:20260420T174607Z
DTSTART;VALUE=DATE:20161015
SUMMARY:AsianHOST 2016 Final Version Due
DESCRIPTION:IEEE Asian Hardware-Oriented Security and Trust Symposium 201
 6
URL:http://www.wikicfp.com/cfp/servlet/event.showcfp?eventid=55598&copyow
 nerid=81299
UID:cfp606732-N@wikicfp.com
END:VEVENT
BEGIN:VEVENT
DTSTAMP:20260420T174607Z
DTSTART;VALUE=DATE:20181019
DTEND;VALUE=DATE:20181020
SUMMARY:ASHES 2018
DESCRIPTION:Second Workshop on Attacks and Solutions in Hardware Security
 
URL:http://www.wikicfp.com/cfp/servlet/event.showcfp?eventid=75851&copyow
 nerid=81299
UID:cfp723622-E@wikicfp.com
END:VEVENT
BEGIN:VEVENT
DTSTAMP:20260420T174607Z
DTSTART;VALUE=DATE:20180708
SUMMARY:ASHES 2018 Deadline
DESCRIPTION:Second Workshop on Attacks and Solutions in Hardware Security
 
URL:http://www.wikicfp.com/cfp/servlet/event.showcfp?eventid=75851&copyow
 nerid=81299
UID:cfp723622-D@wikicfp.com
END:VEVENT
BEGIN:VEVENT
DTSTAMP:20260420T174607Z
DTSTART;VALUE=DATE:20180905
SUMMARY:ASHES 2018 Notification Due
DESCRIPTION:Second Workshop on Attacks and Solutions in Hardware Security
 
URL:http://www.wikicfp.com/cfp/servlet/event.showcfp?eventid=75851&copyow
 nerid=81299
UID:cfp723622-N@wikicfp.com
END:VEVENT
BEGIN:VEVENT
DTSTAMP:20260420T174607Z
DTSTART;VALUE=DATE:20180919
SUMMARY:ASHES 2018 Final Version Due
DESCRIPTION:Second Workshop on Attacks and Solutions in Hardware Security
 
URL:http://www.wikicfp.com/cfp/servlet/event.showcfp?eventid=75851&copyow
 nerid=81299
UID:cfp723622-N@wikicfp.com
END:VEVENT
BEGIN:VEVENT
DTSTAMP:20260420T174607Z
DTSTART;VALUE=DATE:20181217
DTEND;VALUE=DATE:20181220
SUMMARY:AsianHOST 2018
DESCRIPTION:Asian Hardware-Oriented Security and Trust Symposium 
URL:http://www.wikicfp.com/cfp/servlet/event.showcfp?eventid=76259&copyow
 nerid=81299
UID:cfp725505-E@wikicfp.com
END:VEVENT
BEGIN:VEVENT
DTSTAMP:20260420T174607Z
DTSTART;VALUE=DATE:20180727
SUMMARY:AsianHOST 2018 Abstract Due
DESCRIPTION:Asian Hardware-Oriented Security and Trust Symposium 
URL:http://www.wikicfp.com/cfp/servlet/event.showcfp?eventid=76259&copyow
 nerid=81299
UID:cfp725505-A@wikicfp.com
END:VEVENT
BEGIN:VEVENT
DTSTAMP:20260420T174607Z
DTSTART;VALUE=DATE:20180803
SUMMARY:AsianHOST 2018 Deadline
DESCRIPTION:Asian Hardware-Oriented Security and Trust Symposium 
URL:http://www.wikicfp.com/cfp/servlet/event.showcfp?eventid=76259&copyow
 nerid=81299
UID:cfp725505-D@wikicfp.com
END:VEVENT
BEGIN:VEVENT
DTSTAMP:20260420T174607Z
DTSTART;VALUE=DATE:20180915
SUMMARY:AsianHOST 2018 Notification Due
DESCRIPTION:Asian Hardware-Oriented Security and Trust Symposium 
URL:http://www.wikicfp.com/cfp/servlet/event.showcfp?eventid=76259&copyow
 nerid=81299
UID:cfp725505-N@wikicfp.com
END:VEVENT
BEGIN:VEVENT
DTSTAMP:20260420T174607Z
DTSTART;VALUE=DATE:20181015
SUMMARY:AsianHOST 2018 Final Version Due
DESCRIPTION:Asian Hardware-Oriented Security and Trust Symposium 
URL:http://www.wikicfp.com/cfp/servlet/event.showcfp?eventid=76259&copyow
 nerid=81299
UID:cfp725505-N@wikicfp.com
END:VEVENT
BEGIN:VEVENT
DTSTAMP:20260420T174607Z
DTSTART;VALUE=DATE:20191115
DTEND;VALUE=DATE:20191116
SUMMARY:ASHES 2019
DESCRIPTION:Workshop on Attacks and Solutions in Hardware Security
URL:http://www.wikicfp.com/cfp/servlet/event.showcfp?eventid=89793&copyow
 nerid=81299
UID:cfp785814-E@wikicfp.com
END:VEVENT
BEGIN:VEVENT
DTSTAMP:20260420T174607Z
DTSTART;VALUE=DATE:20190719
SUMMARY:ASHES 2019 Deadline
DESCRIPTION:Workshop on Attacks and Solutions in Hardware Security
URL:http://www.wikicfp.com/cfp/servlet/event.showcfp?eventid=89793&copyow
 nerid=81299
UID:cfp785814-D@wikicfp.com
END:VEVENT
BEGIN:VEVENT
DTSTAMP:20260420T174607Z
DTSTART;VALUE=DATE:20190814
SUMMARY:ASHES 2019 Notification Due
DESCRIPTION:Workshop on Attacks and Solutions in Hardware Security
URL:http://www.wikicfp.com/cfp/servlet/event.showcfp?eventid=89793&copyow
 nerid=81299
UID:cfp785814-N@wikicfp.com
END:VEVENT
BEGIN:VEVENT
DTSTAMP:20260420T174607Z
DTSTART;VALUE=DATE:20190830
SUMMARY:ASHES 2019 Final Version Due
DESCRIPTION:Workshop on Attacks and Solutions in Hardware Security
URL:http://www.wikicfp.com/cfp/servlet/event.showcfp?eventid=89793&copyow
 nerid=81299
UID:cfp785814-N@wikicfp.com
END:VEVENT
BEGIN:VEVENT
DTSTAMP:20260420T174607Z
DTSTART;VALUE=DATE:20201113
DTEND;VALUE=DATE:20201114
SUMMARY:ASHES 2020
DESCRIPTION:Fourth Workshop on Attacks and Solutions in Hardware Security
 
URL:http://www.wikicfp.com/cfp/servlet/event.showcfp?eventid=104613&copyo
 wnerid=81299
UID:cfp836586-E@wikicfp.com
END:VEVENT
BEGIN:VEVENT
DTSTAMP:20260420T174607Z
DTSTART;VALUE=DATE:20200717
SUMMARY:ASHES 2020 Deadline
DESCRIPTION:Fourth Workshop on Attacks and Solutions in Hardware Security
 
URL:http://www.wikicfp.com/cfp/servlet/event.showcfp?eventid=104613&copyo
 wnerid=81299
UID:cfp836586-D@wikicfp.com
END:VEVENT
BEGIN:VEVENT
DTSTAMP:20260420T174607Z
DTSTART;VALUE=DATE:20200819
SUMMARY:ASHES 2020 Notification Due
DESCRIPTION:Fourth Workshop on Attacks and Solutions in Hardware Security
 
URL:http://www.wikicfp.com/cfp/servlet/event.showcfp?eventid=104613&copyo
 wnerid=81299
UID:cfp836586-N@wikicfp.com
END:VEVENT
BEGIN:VEVENT
DTSTAMP:20260420T174607Z
DTSTART;VALUE=DATE:20200902
SUMMARY:ASHES 2020 Final Version Due
DESCRIPTION:Fourth Workshop on Attacks and Solutions in Hardware Security
 
URL:http://www.wikicfp.com/cfp/servlet/event.showcfp?eventid=104613&copyo
 wnerid=81299
UID:cfp836586-N@wikicfp.com
END:VEVENT
BEGIN:VEVENT
DTSTAMP:20260420T174607Z
DTSTART;VALUE=DATE:20211119
DTEND;VALUE=DATE:20211120
SUMMARY:ASHES 2021
DESCRIPTION:Fifth Workshop on Attacks and Solutions in Hardware Security
URL:http://www.wikicfp.com/cfp/servlet/event.showcfp?eventid=135301&copyo
 wnerid=81299
UID:cfp888897-E@wikicfp.com
END:VEVENT
BEGIN:VEVENT
DTSTAMP:20260420T174607Z
DTSTART;VALUE=DATE:20210723
SUMMARY:ASHES 2021 Deadline
DESCRIPTION:Fifth Workshop on Attacks and Solutions in Hardware Security
URL:http://www.wikicfp.com/cfp/servlet/event.showcfp?eventid=135301&copyo
 wnerid=81299
UID:cfp888897-D@wikicfp.com
END:VEVENT
BEGIN:VEVENT
DTSTAMP:20260420T174607Z
DTSTART;VALUE=DATE:20210830
SUMMARY:ASHES 2021 Notification Due
DESCRIPTION:Fifth Workshop on Attacks and Solutions in Hardware Security
URL:http://www.wikicfp.com/cfp/servlet/event.showcfp?eventid=135301&copyo
 wnerid=81299
UID:cfp888897-N@wikicfp.com
END:VEVENT
BEGIN:VEVENT
DTSTAMP:20260420T174607Z
DTSTART;VALUE=DATE:20210913
SUMMARY:ASHES 2021 Final Version Due
DESCRIPTION:Fifth Workshop on Attacks and Solutions in Hardware Security
URL:http://www.wikicfp.com/cfp/servlet/event.showcfp?eventid=135301&copyo
 wnerid=81299
UID:cfp888897-N@wikicfp.com
END:VEVENT
END:VCALENDAR
