BEGIN:VCALENDAR
PRODID:-//WikiCFP//hutao_es 1.0//EN
VERSION:2.0
CALSCALE:GREGORIAN
BEGIN:VEVENT
DTSTAMP:20260425T143509Z
DTSTART;VALUE=DATE:20151102
DTEND;VALUE=DATE:20151105
SUMMARY:ETT-CASCON 2015
DESCRIPTION:Emerging Technologies Track (ETT) - Annual International Conf
 erence on Computer Science and Software Engineering (CASCON)
URL:http://www.wikicfp.com/cfp/servlet/event.showcfp?eventid=46740&copyow
 nerid=79943
UID:cfp540158-E@wikicfp.com
END:VEVENT
BEGIN:VEVENT
DTSTAMP:20260425T143509Z
DTSTART;VALUE=DATE:20150814
SUMMARY:ETT-CASCON 2015 Abstract Due
DESCRIPTION:Emerging Technologies Track (ETT) - Annual International Conf
 erence on Computer Science and Software Engineering (CASCON)
URL:http://www.wikicfp.com/cfp/servlet/event.showcfp?eventid=46740&copyow
 nerid=79943
UID:cfp540158-A@wikicfp.com
END:VEVENT
BEGIN:VEVENT
DTSTAMP:20260425T143509Z
DTSTART;VALUE=DATE:20150821
SUMMARY:ETT-CASCON 2015 Deadline
DESCRIPTION:Emerging Technologies Track (ETT) - Annual International Conf
 erence on Computer Science and Software Engineering (CASCON)
URL:http://www.wikicfp.com/cfp/servlet/event.showcfp?eventid=46740&copyow
 nerid=79943
UID:cfp540158-D@wikicfp.com
END:VEVENT
BEGIN:VEVENT
DTSTAMP:20260425T143509Z
DTSTART;VALUE=DATE:20150918
SUMMARY:ETT-CASCON 2015 Notification Due
DESCRIPTION:Emerging Technologies Track (ETT) - Annual International Conf
 erence on Computer Science and Software Engineering (CASCON)
URL:http://www.wikicfp.com/cfp/servlet/event.showcfp?eventid=46740&copyow
 nerid=79943
UID:cfp540158-N@wikicfp.com
END:VEVENT
BEGIN:VEVENT
DTSTAMP:20260425T143509Z
DTSTART;VALUE=DATE:20151002
SUMMARY:ETT-CASCON 2015 Final Version Due
DESCRIPTION:Emerging Technologies Track (ETT) - Annual International Conf
 erence on Computer Science and Software Engineering (CASCON)
URL:http://www.wikicfp.com/cfp/servlet/event.showcfp?eventid=46740&copyow
 nerid=79943
UID:cfp540158-N@wikicfp.com
END:VEVENT
BEGIN:VEVENT
DTSTAMP:20260425T143509Z
DTSTART;VALUE=DATE:20151216
DTEND;VALUE=DATE:20151219
SUMMARY:VNC 2015
DESCRIPTION:7th IEEE Vehicular Networking Conference
URL:http://www.wikicfp.com/cfp/servlet/event.showcfp?eventid=44959&copyow
 nerid=79943
UID:cfp540157-E@wikicfp.com
END:VEVENT
BEGIN:VEVENT
DTSTAMP:20260425T143509Z
DTSTART;VALUE=DATE:20150914
SUMMARY:VNC 2015 Deadline
DESCRIPTION:7th IEEE Vehicular Networking Conference
URL:http://www.wikicfp.com/cfp/servlet/event.showcfp?eventid=44959&copyow
 nerid=79943
UID:cfp540157-D@wikicfp.com
END:VEVENT
BEGIN:VEVENT
DTSTAMP:20260425T143509Z
DTSTART;VALUE=DATE:20151026
SUMMARY:VNC 2015 Notification Due
DESCRIPTION:7th IEEE Vehicular Networking Conference
URL:http://www.wikicfp.com/cfp/servlet/event.showcfp?eventid=44959&copyow
 nerid=79943
UID:cfp540157-N@wikicfp.com
END:VEVENT
BEGIN:VEVENT
DTSTAMP:20260425T143509Z
DTSTART;VALUE=DATE:20151109
SUMMARY:VNC 2015 Final Version Due
DESCRIPTION:7th IEEE Vehicular Networking Conference
URL:http://www.wikicfp.com/cfp/servlet/event.showcfp?eventid=44959&copyow
 nerid=79943
UID:cfp540157-N@wikicfp.com
END:VEVENT
END:VCALENDAR
