BEGIN:VCALENDAR
PRODID:-//WikiCFP//wangli_xidian 1.0//EN
VERSION:2.0
CALSCALE:GREGORIAN
BEGIN:VEVENT
DTSTAMP:20260423T170650Z
DTSTART;VALUE=DATE:20160523
DTEND;VALUE=DATE:20160528
SUMMARY:ICC 2016
DESCRIPTION:IEEE International Conference on Communications
URL:http://www.wikicfp.com/cfp/servlet/event.showcfp?eventid=45048&copyow
 nerid=79224
UID:cfp535448-E@wikicfp.com
END:VEVENT
BEGIN:VEVENT
DTSTAMP:20260423T170650Z
DTSTART;VALUE=DATE:20160410
DTEND;VALUE=DATE:20160416
SUMMARY:INFOCOM 2016
DESCRIPTION:IEEE Conference on Computer Communications
URL:http://www.wikicfp.com/cfp/servlet/event.showcfp?eventid=45050&copyow
 nerid=79224
UID:cfp535449-E@wikicfp.com
END:VEVENT
BEGIN:VEVENT
DTSTAMP:20260423T170650Z
DTSTART;VALUE=DATE:20150724
SUMMARY:INFOCOM 2016 Abstract Due
DESCRIPTION:IEEE Conference on Computer Communications
URL:http://www.wikicfp.com/cfp/servlet/event.showcfp?eventid=45050&copyow
 nerid=79224
UID:cfp535449-A@wikicfp.com
END:VEVENT
BEGIN:VEVENT
DTSTAMP:20260423T170650Z
DTSTART;VALUE=DATE:20150731
SUMMARY:INFOCOM 2016 Deadline
DESCRIPTION:IEEE Conference on Computer Communications
URL:http://www.wikicfp.com/cfp/servlet/event.showcfp?eventid=45050&copyow
 nerid=79224
UID:cfp535449-D@wikicfp.com
END:VEVENT
BEGIN:VEVENT
DTSTAMP:20260423T170650Z
DTSTART;VALUE=DATE:20151120
SUMMARY:INFOCOM 2016 Notification Due
DESCRIPTION:IEEE Conference on Computer Communications
URL:http://www.wikicfp.com/cfp/servlet/event.showcfp?eventid=45050&copyow
 nerid=79224
UID:cfp535449-N@wikicfp.com
END:VEVENT
BEGIN:VEVENT
DTSTAMP:20260423T170650Z
DTSTART;VALUE=DATE:20160115
SUMMARY:INFOCOM 2016 Final Version Due
DESCRIPTION:IEEE Conference on Computer Communications
URL:http://www.wikicfp.com/cfp/servlet/event.showcfp?eventid=45050&copyow
 nerid=79224
UID:cfp535449-N@wikicfp.com
END:VEVENT
BEGIN:VEVENT
DTSTAMP:20260423T170650Z
DTSTART;VALUE=DATE:20160403
DTEND;VALUE=DATE:20160407
SUMMARY:WCNC 2016
DESCRIPTION:IEEE Wireless Communications and Networking Conference
URL:http://www.wikicfp.com/cfp/servlet/event.showcfp?eventid=45794&copyow
 nerid=79224
UID:cfp535450-E@wikicfp.com
END:VEVENT
BEGIN:VEVENT
DTSTAMP:20260423T170650Z
DTSTART;VALUE=DATE:20150915
SUMMARY:WCNC 2016 Deadline
DESCRIPTION:IEEE Wireless Communications and Networking Conference
URL:http://www.wikicfp.com/cfp/servlet/event.showcfp?eventid=45794&copyow
 nerid=79224
UID:cfp535450-D@wikicfp.com
END:VEVENT
BEGIN:VEVENT
DTSTAMP:20260423T170650Z
DTSTART;VALUE=DATE:20151215
SUMMARY:WCNC 2016 Notification Due
DESCRIPTION:IEEE Wireless Communications and Networking Conference
URL:http://www.wikicfp.com/cfp/servlet/event.showcfp?eventid=45794&copyow
 nerid=79224
UID:cfp535450-N@wikicfp.com
END:VEVENT
BEGIN:VEVENT
DTSTAMP:20260423T170650Z
DTSTART;VALUE=DATE:20160112
SUMMARY:WCNC 2016 Final Version Due
DESCRIPTION:IEEE Wireless Communications and Networking Conference
URL:http://www.wikicfp.com/cfp/servlet/event.showcfp?eventid=45794&copyow
 nerid=79224
UID:cfp535450-N@wikicfp.com
END:VEVENT
BEGIN:VEVENT
DTSTAMP:20260423T170650Z
DTSTART;VALUE=DATE:20160515
DTEND;VALUE=DATE:20160519
SUMMARY:VTC-Spring 2016
DESCRIPTION:IEEE 83rd Vehicular Technology Conference: VTC2016-Spring
URL:http://www.wikicfp.com/cfp/servlet/event.showcfp?eventid=46193&copyow
 nerid=79224
UID:cfp535451-E@wikicfp.com
END:VEVENT
BEGIN:VEVENT
DTSTAMP:20260423T170650Z
DTSTART;VALUE=DATE:20150920
SUMMARY:VTC-Spring 2016 Deadline
DESCRIPTION:IEEE 83rd Vehicular Technology Conference: VTC2016-Spring
URL:http://www.wikicfp.com/cfp/servlet/event.showcfp?eventid=46193&copyow
 nerid=79224
UID:cfp535451-D@wikicfp.com
END:VEVENT
BEGIN:VEVENT
DTSTAMP:20260423T170650Z
DTSTART;VALUE=DATE:20151220
SUMMARY:VTC-Spring 2016 Notification Due
DESCRIPTION:IEEE 83rd Vehicular Technology Conference: VTC2016-Spring
URL:http://www.wikicfp.com/cfp/servlet/event.showcfp?eventid=46193&copyow
 nerid=79224
UID:cfp535451-N@wikicfp.com
END:VEVENT
BEGIN:VEVENT
DTSTAMP:20260423T170650Z
DTSTART;VALUE=DATE:20160221
SUMMARY:VTC-Spring 2016 Final Version Due
DESCRIPTION:IEEE 83rd Vehicular Technology Conference: VTC2016-Spring
URL:http://www.wikicfp.com/cfp/servlet/event.showcfp?eventid=46193&copyow
 nerid=79224
UID:cfp535451-N@wikicfp.com
END:VEVENT
END:VCALENDAR
