BEGIN:VCALENDAR
PRODID:-//WikiCFP//fcharfi 1.0//EN
VERSION:2.0
CALSCALE:GREGORIAN
BEGIN:VEVENT
DTSTAMP:20260424T035855Z
DTSTART;VALUE=DATE:20151111
DTEND;VALUE=DATE:20151114
SUMMARY:INFuture 2015
DESCRIPTION:INFuture2015: e-Institutions â Openness\, Accessibility\, a
 nd Preservation
URL:http://www.wikicfp.com/cfp/servlet/event.showcfp?eventid=45636&copyow
 nerid=78989
UID:cfp533902-E@wikicfp.com
END:VEVENT
BEGIN:VEVENT
DTSTAMP:20260424T035855Z
DTSTART;VALUE=DATE:20150601
SUMMARY:INFuture 2015 Deadline
DESCRIPTION:INFuture2015: e-Institutions â Openness\, Accessibility\, a
 nd Preservation
URL:http://www.wikicfp.com/cfp/servlet/event.showcfp?eventid=45636&copyow
 nerid=78989
UID:cfp533902-D@wikicfp.com
END:VEVENT
BEGIN:VEVENT
DTSTAMP:20260424T035855Z
DTSTART;VALUE=DATE:20150615
SUMMARY:INFuture 2015 Notification Due
DESCRIPTION:INFuture2015: e-Institutions â Openness\, Accessibility\, a
 nd Preservation
URL:http://www.wikicfp.com/cfp/servlet/event.showcfp?eventid=45636&copyow
 nerid=78989
UID:cfp533902-N@wikicfp.com
END:VEVENT
BEGIN:VEVENT
DTSTAMP:20260424T035855Z
DTSTART;VALUE=DATE:20150701
SUMMARY:INFuture 2015 Final Version Due
DESCRIPTION:INFuture2015: e-Institutions â Openness\, Accessibility\, a
 nd Preservation
URL:http://www.wikicfp.com/cfp/servlet/event.showcfp?eventid=45636&copyow
 nerid=78989
UID:cfp533902-N@wikicfp.com
END:VEVENT
BEGIN:VEVENT
DTSTAMP:20260424T035855Z
DTSTART;VALUE=DATE:20151122
DTEND;VALUE=DATE:20151126
SUMMARY:SoSWS 2015
DESCRIPTION:Special Session on Smart Workspace
URL:http://www.wikicfp.com/cfp/servlet/event.showcfp?eventid=44518&copyow
 nerid=78989
UID:cfp533894-E@wikicfp.com
END:VEVENT
BEGIN:VEVENT
DTSTAMP:20260424T035855Z
DTSTART;VALUE=DATE:20150701
SUMMARY:SoSWS 2015 Deadline
DESCRIPTION:Special Session on Smart Workspace
URL:http://www.wikicfp.com/cfp/servlet/event.showcfp?eventid=44518&copyow
 nerid=78989
UID:cfp533894-D@wikicfp.com
END:VEVENT
BEGIN:VEVENT
DTSTAMP:20260424T035855Z
DTSTART;VALUE=DATE:20150901
SUMMARY:SoSWS 2015 Notification Due
DESCRIPTION:Special Session on Smart Workspace
URL:http://www.wikicfp.com/cfp/servlet/event.showcfp?eventid=44518&copyow
 nerid=78989
UID:cfp533894-N@wikicfp.com
END:VEVENT
BEGIN:VEVENT
DTSTAMP:20260424T035855Z
DTSTART;VALUE=DATE:20150915
SUMMARY:SoSWS 2015 Final Version Due
DESCRIPTION:Special Session on Smart Workspace
URL:http://www.wikicfp.com/cfp/servlet/event.showcfp?eventid=44518&copyow
 nerid=78989
UID:cfp533894-N@wikicfp.com
END:VEVENT
BEGIN:VEVENT
DTSTAMP:20260424T035855Z
DTSTART;VALUE=DATE:20160410
DTEND;VALUE=DATE:20160416
SUMMARY:INFOCOM 2016
DESCRIPTION:IEEE Conference on Computer Communications
URL:http://www.wikicfp.com/cfp/servlet/event.showcfp?eventid=45050&copyow
 nerid=78989
UID:cfp533892-E@wikicfp.com
END:VEVENT
BEGIN:VEVENT
DTSTAMP:20260424T035855Z
DTSTART;VALUE=DATE:20150724
SUMMARY:INFOCOM 2016 Abstract Due
DESCRIPTION:IEEE Conference on Computer Communications
URL:http://www.wikicfp.com/cfp/servlet/event.showcfp?eventid=45050&copyow
 nerid=78989
UID:cfp533892-A@wikicfp.com
END:VEVENT
BEGIN:VEVENT
DTSTAMP:20260424T035855Z
DTSTART;VALUE=DATE:20150731
SUMMARY:INFOCOM 2016 Deadline
DESCRIPTION:IEEE Conference on Computer Communications
URL:http://www.wikicfp.com/cfp/servlet/event.showcfp?eventid=45050&copyow
 nerid=78989
UID:cfp533892-D@wikicfp.com
END:VEVENT
BEGIN:VEVENT
DTSTAMP:20260424T035855Z
DTSTART;VALUE=DATE:20151120
SUMMARY:INFOCOM 2016 Notification Due
DESCRIPTION:IEEE Conference on Computer Communications
URL:http://www.wikicfp.com/cfp/servlet/event.showcfp?eventid=45050&copyow
 nerid=78989
UID:cfp533892-N@wikicfp.com
END:VEVENT
BEGIN:VEVENT
DTSTAMP:20260424T035855Z
DTSTART;VALUE=DATE:20160115
SUMMARY:INFOCOM 2016 Final Version Due
DESCRIPTION:IEEE Conference on Computer Communications
URL:http://www.wikicfp.com/cfp/servlet/event.showcfp?eventid=45050&copyow
 nerid=78989
UID:cfp533892-N@wikicfp.com
END:VEVENT
BEGIN:VEVENT
DTSTAMP:20260424T035855Z
DTSTART;VALUE=DATE:20151112
DTEND;VALUE=DATE:20151114
SUMMARY:MobiCASE 2015
DESCRIPTION:The 7th International Conference on Mobile Computing\, Applic
 ations and Services
URL:http://www.wikicfp.com/cfp/servlet/event.showcfp?eventid=46639&copyow
 nerid=78989
UID:cfp533897-E@wikicfp.com
END:VEVENT
BEGIN:VEVENT
DTSTAMP:20260424T035855Z
DTSTART;VALUE=DATE:20150803
SUMMARY:MobiCASE 2015 Deadline
DESCRIPTION:The 7th International Conference on Mobile Computing\, Applic
 ations and Services
URL:http://www.wikicfp.com/cfp/servlet/event.showcfp?eventid=46639&copyow
 nerid=78989
UID:cfp533897-D@wikicfp.com
END:VEVENT
BEGIN:VEVENT
DTSTAMP:20260424T035855Z
DTSTART;VALUE=DATE:20150906
SUMMARY:MobiCASE 2015 Notification Due
DESCRIPTION:The 7th International Conference on Mobile Computing\, Applic
 ations and Services
URL:http://www.wikicfp.com/cfp/servlet/event.showcfp?eventid=46639&copyow
 nerid=78989
UID:cfp533897-N@wikicfp.com
END:VEVENT
BEGIN:VEVENT
DTSTAMP:20260424T035855Z
DTSTART;VALUE=DATE:20150920
SUMMARY:MobiCASE 2015 Final Version Due
DESCRIPTION:The 7th International Conference on Mobile Computing\, Applic
 ations and Services
URL:http://www.wikicfp.com/cfp/servlet/event.showcfp?eventid=46639&copyow
 nerid=78989
UID:cfp533897-N@wikicfp.com
END:VEVENT
BEGIN:VEVENT
DTSTAMP:20260424T035855Z
DTSTART;VALUE=DATE:20151026
DTEND;VALUE=DATE:20151028
SUMMARY:MobileDeLi 2015
DESCRIPTION:The Third International Workshop on Mobile Development Lifecy
 cle
URL:http://www.wikicfp.com/cfp/servlet/event.showcfp?eventid=45681&copyow
 nerid=78989
UID:cfp533898-E@wikicfp.com
END:VEVENT
BEGIN:VEVENT
DTSTAMP:20260424T035855Z
DTSTART;VALUE=DATE:20150807
SUMMARY:MobileDeLi 2015 Deadline
DESCRIPTION:The Third International Workshop on Mobile Development Lifecy
 cle
URL:http://www.wikicfp.com/cfp/servlet/event.showcfp?eventid=45681&copyow
 nerid=78989
UID:cfp533898-D@wikicfp.com
END:VEVENT
BEGIN:VEVENT
DTSTAMP:20260424T035855Z
DTSTART;VALUE=DATE:20150907
SUMMARY:MobileDeLi 2015 Notification Due
DESCRIPTION:The Third International Workshop on Mobile Development Lifecy
 cle
URL:http://www.wikicfp.com/cfp/servlet/event.showcfp?eventid=45681&copyow
 nerid=78989
UID:cfp533898-N@wikicfp.com
END:VEVENT
BEGIN:VEVENT
DTSTAMP:20260424T035855Z
DTSTART;VALUE=DATE:20150921
DTEND;VALUE=DATE:20150924
SUMMARY:CSCESM 2015
DESCRIPTION:The Second International Conference on Computer Science\, Com
 puter Engineering\, & Social Media
URL:http://www.wikicfp.com/cfp/servlet/event.showcfp?eventid=41168&copyow
 nerid=78989
UID:cfp533899-E@wikicfp.com
END:VEVENT
BEGIN:VEVENT
DTSTAMP:20260424T035855Z
DTSTART;VALUE=DATE:20150821
SUMMARY:CSCESM 2015 Deadline
DESCRIPTION:The Second International Conference on Computer Science\, Com
 puter Engineering\, & Social Media
URL:http://www.wikicfp.com/cfp/servlet/event.showcfp?eventid=41168&copyow
 nerid=78989
UID:cfp533899-D@wikicfp.com
END:VEVENT
BEGIN:VEVENT
DTSTAMP:20260424T035855Z
DTSTART;VALUE=DATE:20150902
SUMMARY:CSCESM 2015 Notification Due
DESCRIPTION:The Second International Conference on Computer Science\, Com
 puter Engineering\, & Social Media
URL:http://www.wikicfp.com/cfp/servlet/event.showcfp?eventid=41168&copyow
 nerid=78989
UID:cfp533899-N@wikicfp.com
END:VEVENT
BEGIN:VEVENT
DTSTAMP:20260424T035855Z
DTSTART;VALUE=DATE:20150913
SUMMARY:CSCESM 2015 Final Version Due
DESCRIPTION:The Second International Conference on Computer Science\, Com
 puter Engineering\, & Social Media
URL:http://www.wikicfp.com/cfp/servlet/event.showcfp?eventid=41168&copyow
 nerid=78989
UID:cfp533899-N@wikicfp.com
END:VEVENT
BEGIN:VEVENT
DTSTAMP:20260424T035855Z
DTSTART;VALUE=DATE:20160523
DTEND;VALUE=DATE:20160528
SUMMARY:IPDPS 2016
DESCRIPTION:IEEE International Parallel and Distributed Processing Sympos
 ium 
URL:http://www.wikicfp.com/cfp/servlet/event.showcfp?eventid=44913&copyow
 nerid=78989
UID:cfp533893-E@wikicfp.com
END:VEVENT
BEGIN:VEVENT
DTSTAMP:20260424T035855Z
DTSTART;VALUE=DATE:20151007
SUMMARY:IPDPS 2016 Abstract Due
DESCRIPTION:IEEE International Parallel and Distributed Processing Sympos
 ium 
URL:http://www.wikicfp.com/cfp/servlet/event.showcfp?eventid=44913&copyow
 nerid=78989
UID:cfp533893-A@wikicfp.com
END:VEVENT
BEGIN:VEVENT
DTSTAMP:20260424T035855Z
DTSTART;VALUE=DATE:20151014
SUMMARY:IPDPS 2016 Deadline
DESCRIPTION:IEEE International Parallel and Distributed Processing Sympos
 ium 
URL:http://www.wikicfp.com/cfp/servlet/event.showcfp?eventid=44913&copyow
 nerid=78989
UID:cfp533893-D@wikicfp.com
END:VEVENT
BEGIN:VEVENT
DTSTAMP:20260424T035855Z
DTSTART;VALUE=DATE:20151216
SUMMARY:IPDPS 2016 Notification Due
DESCRIPTION:IEEE International Parallel and Distributed Processing Sympos
 ium 
URL:http://www.wikicfp.com/cfp/servlet/event.showcfp?eventid=44913&copyow
 nerid=78989
UID:cfp533893-N@wikicfp.com
END:VEVENT
BEGIN:VEVENT
DTSTAMP:20260424T035855Z
DTSTART;VALUE=DATE:20160131
SUMMARY:IPDPS 2016 Final Version Due
DESCRIPTION:IEEE International Parallel and Distributed Processing Sympos
 ium 
URL:http://www.wikicfp.com/cfp/servlet/event.showcfp?eventid=44913&copyow
 nerid=78989
UID:cfp533893-N@wikicfp.com
END:VEVENT
BEGIN:VEVENT
DTSTAMP:20260424T035855Z
DTSTART;VALUE=DATE:20151210
DTEND;VALUE=DATE:20151211
SUMMARY:ICITCS 2015
DESCRIPTION:IV International Conference on Information Technology and Com
 puter Science
URL:http://www.wikicfp.com/cfp/servlet/event.showcfp?eventid=44250&copyow
 nerid=78989
UID:cfp533900-E@wikicfp.com
END:VEVENT
BEGIN:VEVENT
DTSTAMP:20260424T035855Z
DTSTART;VALUE=DATE:20151209
SUMMARY:ICITCS 2015 Deadline
DESCRIPTION:IV International Conference on Information Technology and Com
 puter Science
URL:http://www.wikicfp.com/cfp/servlet/event.showcfp?eventid=44250&copyow
 nerid=78989
UID:cfp533900-D@wikicfp.com
END:VEVENT
END:VCALENDAR
