BEGIN:VCALENDAR
PRODID:-//WikiCFP//aleciano 1.0//EN
VERSION:2.0
CALSCALE:GREGORIAN
BEGIN:VEVENT
DTSTAMP:20260424T043017Z
DTSTART;VALUE=DATE:20160523
DTEND;VALUE=DATE:20160528
SUMMARY:ICC 2016
DESCRIPTION:IEEE International Conference on Communications
URL:http://www.wikicfp.com/cfp/servlet/event.showcfp?eventid=45048&copyow
 nerid=78901
UID:cfp533591-E@wikicfp.com
END:VEVENT
BEGIN:VEVENT
DTSTAMP:20260424T043017Z
DTSTART;VALUE=DATE:20150112
DTEND;VALUE=DATE:20150115
SUMMARY:ICOIN 2015
DESCRIPTION:The International Conference on Information Networking 2015
URL:http://www.wikicfp.com/cfp/servlet/event.showcfp?eventid=39467&copyow
 nerid=78901
UID:cfp536846-E@wikicfp.com
END:VEVENT
BEGIN:VEVENT
DTSTAMP:20260424T043017Z
DTSTART;VALUE=DATE:20140930
SUMMARY:ICOIN 2015 Deadline
DESCRIPTION:The International Conference on Information Networking 2015
URL:http://www.wikicfp.com/cfp/servlet/event.showcfp?eventid=39467&copyow
 nerid=78901
UID:cfp536846-D@wikicfp.com
END:VEVENT
BEGIN:VEVENT
DTSTAMP:20260424T043017Z
DTSTART;VALUE=DATE:20141031
SUMMARY:ICOIN 2015 Notification Due
DESCRIPTION:The International Conference on Information Networking 2015
URL:http://www.wikicfp.com/cfp/servlet/event.showcfp?eventid=39467&copyow
 nerid=78901
UID:cfp536846-N@wikicfp.com
END:VEVENT
BEGIN:VEVENT
DTSTAMP:20260424T043017Z
DTSTART;VALUE=DATE:20141130
SUMMARY:ICOIN 2015 Final Version Due
DESCRIPTION:The International Conference on Information Networking 2015
URL:http://www.wikicfp.com/cfp/servlet/event.showcfp?eventid=39467&copyow
 nerid=78901
UID:cfp536846-N@wikicfp.com
END:VEVENT
BEGIN:VEVENT
DTSTAMP:20260424T043017Z
DTSTART;VALUE=DATE:20151019
DTEND;VALUE=DATE:20151022
SUMMARY:WiMob 2015
DESCRIPTION:The 11th IEEE International Conference on Wireless and Mobile
  Computing\, Networking and Communications
URL:http://www.wikicfp.com/cfp/servlet/event.showcfp?eventid=44836&copyow
 nerid=78901
UID:cfp533831-E@wikicfp.com
END:VEVENT
BEGIN:VEVENT
DTSTAMP:20260424T043017Z
DTSTART;VALUE=DATE:20150625
SUMMARY:WiMob 2015 Deadline
DESCRIPTION:The 11th IEEE International Conference on Wireless and Mobile
  Computing\, Networking and Communications
URL:http://www.wikicfp.com/cfp/servlet/event.showcfp?eventid=44836&copyow
 nerid=78901
UID:cfp533831-D@wikicfp.com
END:VEVENT
BEGIN:VEVENT
DTSTAMP:20260424T043017Z
DTSTART;VALUE=DATE:20150731
SUMMARY:WiMob 2015 Notification Due
DESCRIPTION:The 11th IEEE International Conference on Wireless and Mobile
  Computing\, Networking and Communications
URL:http://www.wikicfp.com/cfp/servlet/event.showcfp?eventid=44836&copyow
 nerid=78901
UID:cfp533831-N@wikicfp.com
END:VEVENT
BEGIN:VEVENT
DTSTAMP:20260424T043017Z
DTSTART;VALUE=DATE:20150901
SUMMARY:WiMob 2015 Final Version Due
DESCRIPTION:The 11th IEEE International Conference on Wireless and Mobile
  Computing\, Networking and Communications
URL:http://www.wikicfp.com/cfp/servlet/event.showcfp?eventid=44836&copyow
 nerid=78901
UID:cfp533831-N@wikicfp.com
END:VEVENT
BEGIN:VEVENT
DTSTAMP:20260424T043017Z
DTSTART;VALUE=DATE:20160109
DTEND;VALUE=DATE:20160113
SUMMARY:CCNC 2016
DESCRIPTION:CCNC 2016 : IEEE Consumer Communications & Networking Confere
 nce
URL:http://www.wikicfp.com/cfp/servlet/event.showcfp?eventid=46213&copyow
 nerid=78901
UID:cfp537955-E@wikicfp.com
END:VEVENT
BEGIN:VEVENT
DTSTAMP:20260424T043017Z
DTSTART;VALUE=DATE:20150710
SUMMARY:CCNC 2016 Deadline
DESCRIPTION:CCNC 2016 : IEEE Consumer Communications & Networking Confere
 nce
URL:http://www.wikicfp.com/cfp/servlet/event.showcfp?eventid=46213&copyow
 nerid=78901
UID:cfp537955-D@wikicfp.com
END:VEVENT
BEGIN:VEVENT
DTSTAMP:20260424T043017Z
DTSTART;VALUE=DATE:20150904
SUMMARY:CCNC 2016 Notification Due
DESCRIPTION:CCNC 2016 : IEEE Consumer Communications & Networking Confere
 nce
URL:http://www.wikicfp.com/cfp/servlet/event.showcfp?eventid=46213&copyow
 nerid=78901
UID:cfp537955-N@wikicfp.com
END:VEVENT
BEGIN:VEVENT
DTSTAMP:20260424T043017Z
DTSTART;VALUE=DATE:20151102
SUMMARY:CCNC 2016 Final Version Due
DESCRIPTION:CCNC 2016 : IEEE Consumer Communications & Networking Confere
 nce
URL:http://www.wikicfp.com/cfp/servlet/event.showcfp?eventid=46213&copyow
 nerid=78901
UID:cfp537955-N@wikicfp.com
END:VEVENT
BEGIN:VEVENT
DTSTAMP:20260424T043017Z
DTSTART;VALUE=DATE:20151026
DTEND;VALUE=DATE:20151029
SUMMARY:CIT 2015
DESCRIPTION:The 15th IEEE International Conference on Computer and Inform
 ation Technology
URL:http://www.wikicfp.com/cfp/servlet/event.showcfp?eventid=45293&copyow
 nerid=78901
UID:cfp535599-E@wikicfp.com
END:VEVENT
BEGIN:VEVENT
DTSTAMP:20260424T043017Z
DTSTART;VALUE=DATE:20150715
SUMMARY:CIT 2015 Deadline
DESCRIPTION:The 15th IEEE International Conference on Computer and Inform
 ation Technology
URL:http://www.wikicfp.com/cfp/servlet/event.showcfp?eventid=45293&copyow
 nerid=78901
UID:cfp535599-D@wikicfp.com
END:VEVENT
BEGIN:VEVENT
DTSTAMP:20260424T043017Z
DTSTART;VALUE=DATE:20150815
SUMMARY:CIT 2015 Notification Due
DESCRIPTION:The 15th IEEE International Conference on Computer and Inform
 ation Technology
URL:http://www.wikicfp.com/cfp/servlet/event.showcfp?eventid=45293&copyow
 nerid=78901
UID:cfp535599-N@wikicfp.com
END:VEVENT
BEGIN:VEVENT
DTSTAMP:20260424T043017Z
DTSTART;VALUE=DATE:20150915
SUMMARY:CIT 2015 Final Version Due
DESCRIPTION:The 15th IEEE International Conference on Computer and Inform
 ation Technology
URL:http://www.wikicfp.com/cfp/servlet/event.showcfp?eventid=45293&copyow
 nerid=78901
UID:cfp535599-N@wikicfp.com
END:VEVENT
BEGIN:VEVENT
DTSTAMP:20260424T043017Z
DTSTART;VALUE=DATE:20151117
DTEND;VALUE=DATE:20151121
SUMMARY:AICCSA 2015
DESCRIPTION:ACS/IEEE International Conference on Computer Systems and App
 lications
URL:http://www.wikicfp.com/cfp/servlet/event.showcfp?eventid=45351&copyow
 nerid=78901
UID:cfp536839-E@wikicfp.com
END:VEVENT
BEGIN:VEVENT
DTSTAMP:20260424T043017Z
DTSTART;VALUE=DATE:20150721
SUMMARY:AICCSA 2015 Deadline
DESCRIPTION:ACS/IEEE International Conference on Computer Systems and App
 lications
URL:http://www.wikicfp.com/cfp/servlet/event.showcfp?eventid=45351&copyow
 nerid=78901
UID:cfp536839-D@wikicfp.com
END:VEVENT
BEGIN:VEVENT
DTSTAMP:20260424T043017Z
DTSTART;VALUE=DATE:20150908
SUMMARY:AICCSA 2015 Notification Due
DESCRIPTION:ACS/IEEE International Conference on Computer Systems and App
 lications
URL:http://www.wikicfp.com/cfp/servlet/event.showcfp?eventid=45351&copyow
 nerid=78901
UID:cfp536839-N@wikicfp.com
END:VEVENT
BEGIN:VEVENT
DTSTAMP:20260424T043017Z
DTSTART;VALUE=DATE:20150918
SUMMARY:AICCSA 2015 Final Version Due
DESCRIPTION:ACS/IEEE International Conference on Computer Systems and App
 lications
URL:http://www.wikicfp.com/cfp/servlet/event.showcfp?eventid=45351&copyow
 nerid=78901
UID:cfp536839-N@wikicfp.com
END:VEVENT
BEGIN:VEVENT
DTSTAMP:20260424T043017Z
DTSTART;VALUE=DATE:20160410
DTEND;VALUE=DATE:20160416
SUMMARY:INFOCOM 2016
DESCRIPTION:IEEE Conference on Computer Communications
URL:http://www.wikicfp.com/cfp/servlet/event.showcfp?eventid=45050&copyow
 nerid=78901
UID:cfp537944-E@wikicfp.com
END:VEVENT
BEGIN:VEVENT
DTSTAMP:20260424T043017Z
DTSTART;VALUE=DATE:20150724
SUMMARY:INFOCOM 2016 Abstract Due
DESCRIPTION:IEEE Conference on Computer Communications
URL:http://www.wikicfp.com/cfp/servlet/event.showcfp?eventid=45050&copyow
 nerid=78901
UID:cfp537944-A@wikicfp.com
END:VEVENT
BEGIN:VEVENT
DTSTAMP:20260424T043017Z
DTSTART;VALUE=DATE:20150731
SUMMARY:INFOCOM 2016 Deadline
DESCRIPTION:IEEE Conference on Computer Communications
URL:http://www.wikicfp.com/cfp/servlet/event.showcfp?eventid=45050&copyow
 nerid=78901
UID:cfp537944-D@wikicfp.com
END:VEVENT
BEGIN:VEVENT
DTSTAMP:20260424T043017Z
DTSTART;VALUE=DATE:20151120
SUMMARY:INFOCOM 2016 Notification Due
DESCRIPTION:IEEE Conference on Computer Communications
URL:http://www.wikicfp.com/cfp/servlet/event.showcfp?eventid=45050&copyow
 nerid=78901
UID:cfp537944-N@wikicfp.com
END:VEVENT
BEGIN:VEVENT
DTSTAMP:20260424T043017Z
DTSTART;VALUE=DATE:20160115
SUMMARY:INFOCOM 2016 Final Version Due
DESCRIPTION:IEEE Conference on Computer Communications
URL:http://www.wikicfp.com/cfp/servlet/event.showcfp?eventid=45050&copyow
 nerid=78901
UID:cfp537944-N@wikicfp.com
END:VEVENT
BEGIN:VEVENT
DTSTAMP:20260424T043017Z
DTSTART;VALUE=DATE:20151214
DTEND;VALUE=DATE:20151217
SUMMARY:IPCCC 2015
DESCRIPTION:International Performance Computing and Communications Confer
 ence
URL:http://www.wikicfp.com/cfp/servlet/event.showcfp?eventid=45051&copyow
 nerid=78901
UID:cfp533388-E@wikicfp.com
END:VEVENT
BEGIN:VEVENT
DTSTAMP:20260424T043017Z
DTSTART;VALUE=DATE:20150824
SUMMARY:IPCCC 2015 Abstract Due
DESCRIPTION:International Performance Computing and Communications Confer
 ence
URL:http://www.wikicfp.com/cfp/servlet/event.showcfp?eventid=45051&copyow
 nerid=78901
UID:cfp533388-A@wikicfp.com
END:VEVENT
BEGIN:VEVENT
DTSTAMP:20260424T043017Z
DTSTART;VALUE=DATE:20150831
SUMMARY:IPCCC 2015 Deadline
DESCRIPTION:International Performance Computing and Communications Confer
 ence
URL:http://www.wikicfp.com/cfp/servlet/event.showcfp?eventid=45051&copyow
 nerid=78901
UID:cfp533388-D@wikicfp.com
END:VEVENT
BEGIN:VEVENT
DTSTAMP:20260424T043017Z
DTSTART;VALUE=DATE:20151010
SUMMARY:IPCCC 2015 Notification Due
DESCRIPTION:International Performance Computing and Communications Confer
 ence
URL:http://www.wikicfp.com/cfp/servlet/event.showcfp?eventid=45051&copyow
 nerid=78901
UID:cfp533388-N@wikicfp.com
END:VEVENT
BEGIN:VEVENT
DTSTAMP:20260424T043017Z
DTSTART;VALUE=DATE:20151020
SUMMARY:IPCCC 2015 Final Version Due
DESCRIPTION:International Performance Computing and Communications Confer
 ence
URL:http://www.wikicfp.com/cfp/servlet/event.showcfp?eventid=45051&copyow
 nerid=78901
UID:cfp533388-N@wikicfp.com
END:VEVENT
BEGIN:VEVENT
DTSTAMP:20260424T043017Z
DTSTART;VALUE=DATE:20160403
DTEND;VALUE=DATE:20160407
SUMMARY:WCNC 2016
DESCRIPTION:IEEE Wireless Communications and Networking Conference
URL:http://www.wikicfp.com/cfp/servlet/event.showcfp?eventid=45794&copyow
 nerid=78901
UID:cfp533593-E@wikicfp.com
END:VEVENT
BEGIN:VEVENT
DTSTAMP:20260424T043017Z
DTSTART;VALUE=DATE:20150915
SUMMARY:WCNC 2016 Deadline
DESCRIPTION:IEEE Wireless Communications and Networking Conference
URL:http://www.wikicfp.com/cfp/servlet/event.showcfp?eventid=45794&copyow
 nerid=78901
UID:cfp533593-D@wikicfp.com
END:VEVENT
BEGIN:VEVENT
DTSTAMP:20260424T043017Z
DTSTART;VALUE=DATE:20151215
SUMMARY:WCNC 2016 Notification Due
DESCRIPTION:IEEE Wireless Communications and Networking Conference
URL:http://www.wikicfp.com/cfp/servlet/event.showcfp?eventid=45794&copyow
 nerid=78901
UID:cfp533593-N@wikicfp.com
END:VEVENT
BEGIN:VEVENT
DTSTAMP:20260424T043017Z
DTSTART;VALUE=DATE:20160112
SUMMARY:WCNC 2016 Final Version Due
DESCRIPTION:IEEE Wireless Communications and Networking Conference
URL:http://www.wikicfp.com/cfp/servlet/event.showcfp?eventid=45794&copyow
 nerid=78901
UID:cfp533593-N@wikicfp.com
END:VEVENT
BEGIN:VEVENT
DTSTAMP:20260424T043017Z
DTSTART;VALUE=DATE:20160515
DTEND;VALUE=DATE:20160519
SUMMARY:VTC-Spring 2016
DESCRIPTION:IEEE 83rd Vehicular Technology Conference: VTC2016-Spring
URL:http://www.wikicfp.com/cfp/servlet/event.showcfp?eventid=46193&copyow
 nerid=78901
UID:cfp533390-E@wikicfp.com
END:VEVENT
BEGIN:VEVENT
DTSTAMP:20260424T043017Z
DTSTART;VALUE=DATE:20150920
SUMMARY:VTC-Spring 2016 Deadline
DESCRIPTION:IEEE 83rd Vehicular Technology Conference: VTC2016-Spring
URL:http://www.wikicfp.com/cfp/servlet/event.showcfp?eventid=46193&copyow
 nerid=78901
UID:cfp533390-D@wikicfp.com
END:VEVENT
BEGIN:VEVENT
DTSTAMP:20260424T043017Z
DTSTART;VALUE=DATE:20151220
SUMMARY:VTC-Spring 2016 Notification Due
DESCRIPTION:IEEE 83rd Vehicular Technology Conference: VTC2016-Spring
URL:http://www.wikicfp.com/cfp/servlet/event.showcfp?eventid=46193&copyow
 nerid=78901
UID:cfp533390-N@wikicfp.com
END:VEVENT
BEGIN:VEVENT
DTSTAMP:20260424T043017Z
DTSTART;VALUE=DATE:20160221
SUMMARY:VTC-Spring 2016 Final Version Due
DESCRIPTION:IEEE 83rd Vehicular Technology Conference: VTC2016-Spring
URL:http://www.wikicfp.com/cfp/servlet/event.showcfp?eventid=46193&copyow
 nerid=78901
UID:cfp533390-N@wikicfp.com
END:VEVENT
BEGIN:VEVENT
DTSTAMP:20260424T043017Z
DTSTART;VALUE=DATE:20160314
DTEND;VALUE=DATE:20160319
SUMMARY:PerCom 2016
DESCRIPTION:IEEE International Conference on Pervasive Computing and Comm
 unications
URL:http://www.wikicfp.com/cfp/servlet/event.showcfp?eventid=45785&copyow
 nerid=78901
UID:cfp537312-E@wikicfp.com
END:VEVENT
BEGIN:VEVENT
DTSTAMP:20260424T043017Z
DTSTART;VALUE=DATE:20150918
SUMMARY:PerCom 2016 Abstract Due
DESCRIPTION:IEEE International Conference on Pervasive Computing and Comm
 unications
URL:http://www.wikicfp.com/cfp/servlet/event.showcfp?eventid=45785&copyow
 nerid=78901
UID:cfp537312-A@wikicfp.com
END:VEVENT
BEGIN:VEVENT
DTSTAMP:20260424T043017Z
DTSTART;VALUE=DATE:20150925
SUMMARY:PerCom 2016 Deadline
DESCRIPTION:IEEE International Conference on Pervasive Computing and Comm
 unications
URL:http://www.wikicfp.com/cfp/servlet/event.showcfp?eventid=45785&copyow
 nerid=78901
UID:cfp537312-D@wikicfp.com
END:VEVENT
BEGIN:VEVENT
DTSTAMP:20260424T043017Z
DTSTART;VALUE=DATE:20151130
SUMMARY:PerCom 2016 Notification Due
DESCRIPTION:IEEE International Conference on Pervasive Computing and Comm
 unications
URL:http://www.wikicfp.com/cfp/servlet/event.showcfp?eventid=45785&copyow
 nerid=78901
UID:cfp537312-N@wikicfp.com
END:VEVENT
BEGIN:VEVENT
DTSTAMP:20260424T043017Z
DTSTART;VALUE=DATE:20160115
SUMMARY:PerCom 2016 Final Version Due
DESCRIPTION:IEEE International Conference on Pervasive Computing and Comm
 unications
URL:http://www.wikicfp.com/cfp/servlet/event.showcfp?eventid=45785&copyow
 nerid=78901
UID:cfp537312-N@wikicfp.com
END:VEVENT
BEGIN:VEVENT
DTSTAMP:20260424T043017Z
DTSTART;VALUE=DATE:20160627
DTEND;VALUE=DATE:20160701
SUMMARY:ISCC 2016
DESCRIPTION:The 21th IEEE Symposium on Computers and Communications
URL:http://www.wikicfp.com/cfp/servlet/event.showcfp?eventid=50017&copyow
 nerid=78901
UID:cfp565752-E@wikicfp.com
END:VEVENT
BEGIN:VEVENT
DTSTAMP:20260424T043017Z
DTSTART;VALUE=DATE:20160121
SUMMARY:ISCC 2016 Deadline
DESCRIPTION:The 21th IEEE Symposium on Computers and Communications
URL:http://www.wikicfp.com/cfp/servlet/event.showcfp?eventid=50017&copyow
 nerid=78901
UID:cfp565752-D@wikicfp.com
END:VEVENT
BEGIN:VEVENT
DTSTAMP:20260424T043017Z
DTSTART;VALUE=DATE:20160315
SUMMARY:ISCC 2016 Notification Due
DESCRIPTION:The 21th IEEE Symposium on Computers and Communications
URL:http://www.wikicfp.com/cfp/servlet/event.showcfp?eventid=50017&copyow
 nerid=78901
UID:cfp565752-N@wikicfp.com
END:VEVENT
BEGIN:VEVENT
DTSTAMP:20260424T043017Z
DTSTART;VALUE=DATE:20160331
SUMMARY:ISCC 2016 Final Version Due
DESCRIPTION:The 21th IEEE Symposium on Computers and Communications
URL:http://www.wikicfp.com/cfp/servlet/event.showcfp?eventid=50017&copyow
 nerid=78901
UID:cfp565752-N@wikicfp.com
END:VEVENT
BEGIN:VEVENT
DTSTAMP:20260424T043017Z
DTSTART;VALUE=DATE:20160804
DTEND;VALUE=DATE:20160806
SUMMARY:ICVS 2016
DESCRIPTION:WASET International Conference on Vehicle Safety
URL:http://www.wikicfp.com/cfp/servlet/event.showcfp?eventid=38083&copyow
 nerid=78901
UID:cfp558207-E@wikicfp.com
END:VEVENT
BEGIN:VEVENT
DTSTAMP:20260424T043017Z
DTSTART;VALUE=DATE:20160204
SUMMARY:ICVS 2016 Deadline
DESCRIPTION:WASET International Conference on Vehicle Safety
URL:http://www.wikicfp.com/cfp/servlet/event.showcfp?eventid=38083&copyow
 nerid=78901
UID:cfp558207-D@wikicfp.com
END:VEVENT
BEGIN:VEVENT
DTSTAMP:20260424T043017Z
DTSTART;VALUE=DATE:20160304
SUMMARY:ICVS 2016 Notification Due
DESCRIPTION:WASET International Conference on Vehicle Safety
URL:http://www.wikicfp.com/cfp/servlet/event.showcfp?eventid=38083&copyow
 nerid=78901
UID:cfp558207-N@wikicfp.com
END:VEVENT
BEGIN:VEVENT
DTSTAMP:20260424T043017Z
DTSTART;VALUE=DATE:20160404
SUMMARY:ICVS 2016 Final Version Due
DESCRIPTION:WASET International Conference on Vehicle Safety
URL:http://www.wikicfp.com/cfp/servlet/event.showcfp?eventid=38083&copyow
 nerid=78901
UID:cfp558207-N@wikicfp.com
END:VEVENT
BEGIN:VEVENT
DTSTAMP:20260424T043017Z
DTSTART;VALUE=DATE:20160801
DTEND;VALUE=DATE:20160805
SUMMARY:ICCCN 2016
DESCRIPTION:International Conference on Computer Communication and Networ
 ks 
URL:http://www.wikicfp.com/cfp/servlet/event.showcfp?eventid=49747&copyow
 nerid=78901
UID:cfp565337-E@wikicfp.com
END:VEVENT
BEGIN:VEVENT
DTSTAMP:20260424T043017Z
DTSTART;VALUE=DATE:20160301
SUMMARY:ICCCN 2016 Deadline
DESCRIPTION:International Conference on Computer Communication and Networ
 ks 
URL:http://www.wikicfp.com/cfp/servlet/event.showcfp?eventid=49747&copyow
 nerid=78901
UID:cfp565337-D@wikicfp.com
END:VEVENT
BEGIN:VEVENT
DTSTAMP:20260424T043017Z
DTSTART;VALUE=DATE:20160430
SUMMARY:ICCCN 2016 Notification Due
DESCRIPTION:International Conference on Computer Communication and Networ
 ks 
URL:http://www.wikicfp.com/cfp/servlet/event.showcfp?eventid=49747&copyow
 nerid=78901
UID:cfp565337-N@wikicfp.com
END:VEVENT
BEGIN:VEVENT
DTSTAMP:20260424T043017Z
DTSTART;VALUE=DATE:20160508
SUMMARY:ICCCN 2016 Final Version Due
DESCRIPTION:International Conference on Computer Communication and Networ
 ks 
URL:http://www.wikicfp.com/cfp/servlet/event.showcfp?eventid=49747&copyow
 nerid=78901
UID:cfp565337-N@wikicfp.com
END:VEVENT
END:VCALENDAR
