BEGIN:VCALENDAR
PRODID:-//WikiCFP//ahknor 1.0//EN
VERSION:2.0
CALSCALE:GREGORIAN
BEGIN:VEVENT
DTSTAMP:20260424T090314Z
DTSTART;VALUE=DATE:20151101
DTEND;VALUE=DATE:20151104
SUMMARY:IIT'15 2015
DESCRIPTION:11th International Conference on Innovations in Information T
 echnology 
URL:http://www.wikicfp.com/cfp/servlet/event.showcfp?eventid=43804&copyow
 nerid=78022
UID:cfp527750-E@wikicfp.com
END:VEVENT
BEGIN:VEVENT
DTSTAMP:20260424T090314Z
DTSTART;VALUE=DATE:20150530
SUMMARY:IIT'15 2015 Deadline
DESCRIPTION:11th International Conference on Innovations in Information T
 echnology 
URL:http://www.wikicfp.com/cfp/servlet/event.showcfp?eventid=43804&copyow
 nerid=78022
UID:cfp527750-D@wikicfp.com
END:VEVENT
BEGIN:VEVENT
DTSTAMP:20260424T090314Z
DTSTART;VALUE=DATE:20150715
SUMMARY:IIT'15 2015 Notification Due
DESCRIPTION:11th International Conference on Innovations in Information T
 echnology 
URL:http://www.wikicfp.com/cfp/servlet/event.showcfp?eventid=43804&copyow
 nerid=78022
UID:cfp527750-N@wikicfp.com
END:VEVENT
BEGIN:VEVENT
DTSTAMP:20260424T090314Z
DTSTART;VALUE=DATE:20150901
SUMMARY:IIT'15 2015 Final Version Due
DESCRIPTION:11th International Conference on Innovations in Information T
 echnology 
URL:http://www.wikicfp.com/cfp/servlet/event.showcfp?eventid=43804&copyow
 nerid=78022
UID:cfp527750-N@wikicfp.com
END:VEVENT
BEGIN:VEVENT
DTSTAMP:20260424T090314Z
DTSTART;VALUE=DATE:20151103
DTEND;VALUE=DATE:20151106
SUMMARY:CSCloud 2015
DESCRIPTION:The 2nd IEEE International Conference on Cyber Security and C
 loud Computing
URL:http://www.wikicfp.com/cfp/servlet/event.showcfp?eventid=46008&copyow
 nerid=78022
UID:cfp527753-E@wikicfp.com
END:VEVENT
BEGIN:VEVENT
DTSTAMP:20260424T090314Z
DTSTART;VALUE=DATE:20150530
SUMMARY:CSCloud 2015 Deadline
DESCRIPTION:The 2nd IEEE International Conference on Cyber Security and C
 loud Computing
URL:http://www.wikicfp.com/cfp/servlet/event.showcfp?eventid=46008&copyow
 nerid=78022
UID:cfp527753-D@wikicfp.com
END:VEVENT
BEGIN:VEVENT
DTSTAMP:20260424T090314Z
DTSTART;VALUE=DATE:20150801
SUMMARY:CSCloud 2015 Notification Due
DESCRIPTION:The 2nd IEEE International Conference on Cyber Security and C
 loud Computing
URL:http://www.wikicfp.com/cfp/servlet/event.showcfp?eventid=46008&copyow
 nerid=78022
UID:cfp527753-N@wikicfp.com
END:VEVENT
BEGIN:VEVENT
DTSTAMP:20260424T090314Z
DTSTART;VALUE=DATE:20150820
SUMMARY:CSCloud 2015 Final Version Due
DESCRIPTION:The 2nd IEEE International Conference on Cyber Security and C
 loud Computing
URL:http://www.wikicfp.com/cfp/servlet/event.showcfp?eventid=46008&copyow
 nerid=78022
UID:cfp527753-N@wikicfp.com
END:VEVENT
BEGIN:VEVENT
DTSTAMP:20260424T090314Z
DTSTART;VALUE=DATE:20150911
DTEND;VALUE=DATE:20150914
SUMMARY:ITASC 2015
DESCRIPTION:Fourth International Workshop on Technologies and Application
 s for Smart Cities (I-TASC â15)
URL:http://www.wikicfp.com/cfp/servlet/event.showcfp?eventid=45066&copyow
 nerid=78022
UID:cfp527748-E@wikicfp.com
END:VEVENT
BEGIN:VEVENT
DTSTAMP:20260424T090314Z
DTSTART;VALUE=DATE:20150531
SUMMARY:ITASC 2015 Deadline
DESCRIPTION:Fourth International Workshop on Technologies and Application
 s for Smart Cities (I-TASC â15)
URL:http://www.wikicfp.com/cfp/servlet/event.showcfp?eventid=45066&copyow
 nerid=78022
UID:cfp527748-D@wikicfp.com
END:VEVENT
BEGIN:VEVENT
DTSTAMP:20260424T090314Z
DTSTART;VALUE=DATE:20150620
SUMMARY:ITASC 2015 Notification Due
DESCRIPTION:Fourth International Workshop on Technologies and Application
 s for Smart Cities (I-TASC â15)
URL:http://www.wikicfp.com/cfp/servlet/event.showcfp?eventid=45066&copyow
 nerid=78022
UID:cfp527748-N@wikicfp.com
END:VEVENT
BEGIN:VEVENT
DTSTAMP:20260424T090314Z
DTSTART;VALUE=DATE:20150630
SUMMARY:ITASC 2015 Final Version Due
DESCRIPTION:Fourth International Workshop on Technologies and Application
 s for Smart Cities (I-TASC â15)
URL:http://www.wikicfp.com/cfp/servlet/event.showcfp?eventid=45066&copyow
 nerid=78022
UID:cfp527748-N@wikicfp.com
END:VEVENT
BEGIN:VEVENT
DTSTAMP:20260424T090314Z
DTSTART;VALUE=DATE:20151026
DTEND;VALUE=DATE:20151028
SUMMARY:InterIoT 2015
DESCRIPTION:Conference on Interoperability in IoT
URL:http://www.wikicfp.com/cfp/servlet/event.showcfp?eventid=44734&copyow
 nerid=78022
UID:cfp527747-E@wikicfp.com
END:VEVENT
BEGIN:VEVENT
DTSTAMP:20260424T090314Z
DTSTART;VALUE=DATE:20150601
SUMMARY:InterIoT 2015 Deadline
DESCRIPTION:Conference on Interoperability in IoT
URL:http://www.wikicfp.com/cfp/servlet/event.showcfp?eventid=44734&copyow
 nerid=78022
UID:cfp527747-D@wikicfp.com
END:VEVENT
BEGIN:VEVENT
DTSTAMP:20260424T090314Z
DTSTART;VALUE=DATE:20150725
SUMMARY:InterIoT 2015 Notification Due
DESCRIPTION:Conference on Interoperability in IoT
URL:http://www.wikicfp.com/cfp/servlet/event.showcfp?eventid=44734&copyow
 nerid=78022
UID:cfp527747-N@wikicfp.com
END:VEVENT
BEGIN:VEVENT
DTSTAMP:20260424T090314Z
DTSTART;VALUE=DATE:20150825
SUMMARY:InterIoT 2015 Final Version Due
DESCRIPTION:Conference on Interoperability in IoT
URL:http://www.wikicfp.com/cfp/servlet/event.showcfp?eventid=44734&copyow
 nerid=78022
UID:cfp527747-N@wikicfp.com
END:VEVENT
BEGIN:VEVENT
DTSTAMP:20260424T090314Z
DTSTART;VALUE=DATE:20151214
DTEND;VALUE=DATE:20151217
SUMMARY:WF-IoT 2015
DESCRIPTION:2nd IEEE World Forum on Internet of Things 
URL:http://www.wikicfp.com/cfp/servlet/event.showcfp?eventid=44644&copyow
 nerid=78022
UID:cfp527746-E@wikicfp.com
END:VEVENT
BEGIN:VEVENT
DTSTAMP:20260424T090314Z
DTSTART;VALUE=DATE:20150615
SUMMARY:WF-IoT 2015 Deadline
DESCRIPTION:2nd IEEE World Forum on Internet of Things 
URL:http://www.wikicfp.com/cfp/servlet/event.showcfp?eventid=44644&copyow
 nerid=78022
UID:cfp527746-D@wikicfp.com
END:VEVENT
BEGIN:VEVENT
DTSTAMP:20260424T090314Z
DTSTART;VALUE=DATE:20150915
SUMMARY:WF-IoT 2015 Notification Due
DESCRIPTION:2nd IEEE World Forum on Internet of Things 
URL:http://www.wikicfp.com/cfp/servlet/event.showcfp?eventid=44644&copyow
 nerid=78022
UID:cfp527746-N@wikicfp.com
END:VEVENT
BEGIN:VEVENT
DTSTAMP:20260424T090314Z
DTSTART;VALUE=DATE:20131031
SUMMARY:WF-IoT 2015 Final Version Due
DESCRIPTION:2nd IEEE World Forum on Internet of Things 
URL:http://www.wikicfp.com/cfp/servlet/event.showcfp?eventid=44644&copyow
 nerid=78022
UID:cfp527746-N@wikicfp.com
END:VEVENT
BEGIN:VEVENT
DTSTAMP:20260424T090314Z
DTSTART;VALUE=DATE:20151002
DTEND;VALUE=DATE:20151003
SUMMARY:MESOCA 2015
DESCRIPTION:IEEE 9th Symposium on the Maintenance and Evolution of Servic
 e-Oriented Systems and Cloud-Based Environments
URL:http://www.wikicfp.com/cfp/servlet/event.showcfp?eventid=45018&copyow
 nerid=78022
UID:cfp534584-E@wikicfp.com
END:VEVENT
BEGIN:VEVENT
DTSTAMP:20260424T090314Z
DTSTART;VALUE=DATE:20150619
SUMMARY:MESOCA 2015 Deadline
DESCRIPTION:IEEE 9th Symposium on the Maintenance and Evolution of Servic
 e-Oriented Systems and Cloud-Based Environments
URL:http://www.wikicfp.com/cfp/servlet/event.showcfp?eventid=45018&copyow
 nerid=78022
UID:cfp534584-D@wikicfp.com
END:VEVENT
BEGIN:VEVENT
DTSTAMP:20260424T090314Z
DTSTART;VALUE=DATE:20150727
SUMMARY:MESOCA 2015 Notification Due
DESCRIPTION:IEEE 9th Symposium on the Maintenance and Evolution of Servic
 e-Oriented Systems and Cloud-Based Environments
URL:http://www.wikicfp.com/cfp/servlet/event.showcfp?eventid=45018&copyow
 nerid=78022
UID:cfp534584-N@wikicfp.com
END:VEVENT
BEGIN:VEVENT
DTSTAMP:20260424T090314Z
DTSTART;VALUE=DATE:20150803
SUMMARY:MESOCA 2015 Final Version Due
DESCRIPTION:IEEE 9th Symposium on the Maintenance and Evolution of Servic
 e-Oriented Systems and Cloud-Based Environments
URL:http://www.wikicfp.com/cfp/servlet/event.showcfp?eventid=45018&copyow
 nerid=78022
UID:cfp534584-N@wikicfp.com
END:VEVENT
BEGIN:VEVENT
DTSTAMP:20260424T090314Z
DTSTART;VALUE=DATE:20150915
DTEND;VALUE=DATE:20150916
SUMMARY:CLIoT  2015
DESCRIPTION:3rd International Workshop on Cloud for IoT
URL:http://www.wikicfp.com/cfp/servlet/event.showcfp?eventid=46203&copyow
 nerid=78022
UID:cfp534604-E@wikicfp.com
END:VEVENT
BEGIN:VEVENT
DTSTAMP:20260424T090314Z
DTSTART;VALUE=DATE:20150626
SUMMARY:CLIoT  2015 Deadline
DESCRIPTION:3rd International Workshop on Cloud for IoT
URL:http://www.wikicfp.com/cfp/servlet/event.showcfp?eventid=46203&copyow
 nerid=78022
UID:cfp534604-D@wikicfp.com
END:VEVENT
BEGIN:VEVENT
DTSTAMP:20260424T090314Z
DTSTART;VALUE=DATE:20150724
SUMMARY:CLIoT  2015 Notification Due
DESCRIPTION:3rd International Workshop on Cloud for IoT
URL:http://www.wikicfp.com/cfp/servlet/event.showcfp?eventid=46203&copyow
 nerid=78022
UID:cfp534604-N@wikicfp.com
END:VEVENT
BEGIN:VEVENT
DTSTAMP:20260424T090314Z
DTSTART;VALUE=DATE:20150731
SUMMARY:CLIoT  2015 Final Version Due
DESCRIPTION:3rd International Workshop on Cloud for IoT
URL:http://www.wikicfp.com/cfp/servlet/event.showcfp?eventid=46203&copyow
 nerid=78022
UID:cfp534604-N@wikicfp.com
END:VEVENT
BEGIN:VEVENT
DTSTAMP:20260424T090314Z
DTSTART;VALUE=DATE:20151008
DTEND;VALUE=DATE:20141010
SUMMARY:IoT-Symp 2015
DESCRIPTION:The First IEEE Internet-of-Things Symposium (
URL:http://www.wikicfp.com/cfp/servlet/event.showcfp?eventid=45882&copyow
 nerid=78022
UID:cfp527751-E@wikicfp.com
END:VEVENT
BEGIN:VEVENT
DTSTAMP:20260424T090314Z
DTSTART;VALUE=DATE:20150629
SUMMARY:IoT-Symp 2015 Deadline
DESCRIPTION:The First IEEE Internet-of-Things Symposium (
URL:http://www.wikicfp.com/cfp/servlet/event.showcfp?eventid=45882&copyow
 nerid=78022
UID:cfp527751-D@wikicfp.com
END:VEVENT
BEGIN:VEVENT
DTSTAMP:20260424T090314Z
DTSTART;VALUE=DATE:20150803
SUMMARY:IoT-Symp 2015 Notification Due
DESCRIPTION:The First IEEE Internet-of-Things Symposium (
URL:http://www.wikicfp.com/cfp/servlet/event.showcfp?eventid=45882&copyow
 nerid=78022
UID:cfp527751-N@wikicfp.com
END:VEVENT
BEGIN:VEVENT
DTSTAMP:20260424T090314Z
DTSTART;VALUE=DATE:20150901
SUMMARY:IoT-Symp 2015 Final Version Due
DESCRIPTION:The First IEEE Internet-of-Things Symposium (
URL:http://www.wikicfp.com/cfp/servlet/event.showcfp?eventid=45882&copyow
 nerid=78022
UID:cfp527751-N@wikicfp.com
END:VEVENT
BEGIN:VEVENT
DTSTAMP:20260424T090314Z
DTSTART;VALUE=DATE:20151130
DTEND;VALUE=DATE:20151204
SUMMARY:CloudCom 2015
DESCRIPTION:7th IEEE International Conference on Cloud Computing Technolo
 gy and Science
URL:http://www.wikicfp.com/cfp/servlet/event.showcfp?eventid=45000&copyow
 nerid=78022
UID:cfp534587-E@wikicfp.com
END:VEVENT
BEGIN:VEVENT
DTSTAMP:20260424T090314Z
DTSTART;VALUE=DATE:20150630
SUMMARY:CloudCom 2015 Deadline
DESCRIPTION:7th IEEE International Conference on Cloud Computing Technolo
 gy and Science
URL:http://www.wikicfp.com/cfp/servlet/event.showcfp?eventid=45000&copyow
 nerid=78022
UID:cfp534587-D@wikicfp.com
END:VEVENT
BEGIN:VEVENT
DTSTAMP:20260424T090314Z
DTSTART;VALUE=DATE:20150815
SUMMARY:CloudCom 2015 Notification Due
DESCRIPTION:7th IEEE International Conference on Cloud Computing Technolo
 gy and Science
URL:http://www.wikicfp.com/cfp/servlet/event.showcfp?eventid=45000&copyow
 nerid=78022
UID:cfp534587-N@wikicfp.com
END:VEVENT
BEGIN:VEVENT
DTSTAMP:20260424T090314Z
DTSTART;VALUE=DATE:20150915
SUMMARY:CloudCom 2015 Final Version Due
DESCRIPTION:7th IEEE International Conference on Cloud Computing Technolo
 gy and Science
URL:http://www.wikicfp.com/cfp/servlet/event.showcfp?eventid=45000&copyow
 nerid=78022
UID:cfp534587-N@wikicfp.com
END:VEVENT
BEGIN:VEVENT
DTSTAMP:20260424T090314Z
DTSTART;VALUE=DATE:20151026
DTEND;VALUE=DATE:20151028
SUMMARY:IoTaaS 2015
DESCRIPTION:2nd International Conference on Internet of Things as a Servi
 ce
URL:http://www.wikicfp.com/cfp/servlet/event.showcfp?eventid=45279&copyow
 nerid=78022
UID:cfp534600-E@wikicfp.com
END:VEVENT
BEGIN:VEVENT
DTSTAMP:20260424T090314Z
DTSTART;VALUE=DATE:20150701
SUMMARY:IoTaaS 2015 Deadline
DESCRIPTION:2nd International Conference on Internet of Things as a Servi
 ce
URL:http://www.wikicfp.com/cfp/servlet/event.showcfp?eventid=45279&copyow
 nerid=78022
UID:cfp534600-D@wikicfp.com
END:VEVENT
BEGIN:VEVENT
DTSTAMP:20260424T090314Z
DTSTART;VALUE=DATE:20150801
SUMMARY:IoTaaS 2015 Notification Due
DESCRIPTION:2nd International Conference on Internet of Things as a Servi
 ce
URL:http://www.wikicfp.com/cfp/servlet/event.showcfp?eventid=45279&copyow
 nerid=78022
UID:cfp534600-N@wikicfp.com
END:VEVENT
BEGIN:VEVENT
DTSTAMP:20260424T090314Z
DTSTART;VALUE=DATE:20150915
SUMMARY:IoTaaS 2015 Final Version Due
DESCRIPTION:2nd International Conference on Internet of Things as a Servi
 ce
URL:http://www.wikicfp.com/cfp/servlet/event.showcfp?eventid=45279&copyow
 nerid=78022
UID:cfp534600-N@wikicfp.com
END:VEVENT
BEGIN:VEVENT
DTSTAMP:20260424T090314Z
DTSTART;VALUE=DATE:20151206
DTEND;VALUE=DATE:20151211
SUMMARY:CCSNA 2015
DESCRIPTION:The Fourth IEEE International Workshop on Cloud Computing Sys
 tems\, Networks\, and Applications 2015 
URL:http://www.wikicfp.com/cfp/servlet/event.showcfp?eventid=45822&copyow
 nerid=78022
UID:cfp527744-E@wikicfp.com
END:VEVENT
BEGIN:VEVENT
DTSTAMP:20260424T090314Z
DTSTART;VALUE=DATE:20150701
SUMMARY:CCSNA 2015 Deadline
DESCRIPTION:The Fourth IEEE International Workshop on Cloud Computing Sys
 tems\, Networks\, and Applications 2015 
URL:http://www.wikicfp.com/cfp/servlet/event.showcfp?eventid=45822&copyow
 nerid=78022
UID:cfp527744-D@wikicfp.com
END:VEVENT
BEGIN:VEVENT
DTSTAMP:20260424T090314Z
DTSTART;VALUE=DATE:20150901
SUMMARY:CCSNA 2015 Notification Due
DESCRIPTION:The Fourth IEEE International Workshop on Cloud Computing Sys
 tems\, Networks\, and Applications 2015 
URL:http://www.wikicfp.com/cfp/servlet/event.showcfp?eventid=45822&copyow
 nerid=78022
UID:cfp527744-N@wikicfp.com
END:VEVENT
BEGIN:VEVENT
DTSTAMP:20260424T090314Z
DTSTART;VALUE=DATE:20151001
SUMMARY:CCSNA 2015 Final Version Due
DESCRIPTION:The Fourth IEEE International Workshop on Cloud Computing Sys
 tems\, Networks\, and Applications 2015 
URL:http://www.wikicfp.com/cfp/servlet/event.showcfp?eventid=45822&copyow
 nerid=78022
UID:cfp527744-N@wikicfp.com
END:VEVENT
BEGIN:VEVENT
DTSTAMP:20260424T090314Z
DTSTART;VALUE=DATE:20151028
DTEND;VALUE=DATE:20151031
SUMMARY:ICTC 2015
DESCRIPTION:The 6th International Conference on Information and Communica
 tion Technology Convergence
URL:http://www.wikicfp.com/cfp/servlet/event.showcfp?eventid=44622&copyow
 nerid=78022
UID:cfp527745-E@wikicfp.com
END:VEVENT
BEGIN:VEVENT
DTSTAMP:20260424T090314Z
DTSTART;VALUE=DATE:20150715
SUMMARY:ICTC 2015 Deadline
DESCRIPTION:The 6th International Conference on Information and Communica
 tion Technology Convergence
URL:http://www.wikicfp.com/cfp/servlet/event.showcfp?eventid=44622&copyow
 nerid=78022
UID:cfp527745-D@wikicfp.com
END:VEVENT
BEGIN:VEVENT
DTSTAMP:20260424T090314Z
DTSTART;VALUE=DATE:20150830
SUMMARY:ICTC 2015 Notification Due
DESCRIPTION:The 6th International Conference on Information and Communica
 tion Technology Convergence
URL:http://www.wikicfp.com/cfp/servlet/event.showcfp?eventid=44622&copyow
 nerid=78022
UID:cfp527745-N@wikicfp.com
END:VEVENT
BEGIN:VEVENT
DTSTAMP:20260424T090314Z
DTSTART;VALUE=DATE:20150915
SUMMARY:ICTC 2015 Final Version Due
DESCRIPTION:The 6th International Conference on Information and Communica
 tion Technology Convergence
URL:http://www.wikicfp.com/cfp/servlet/event.showcfp?eventid=44622&copyow
 nerid=78022
UID:cfp527745-N@wikicfp.com
END:VEVENT
BEGIN:VEVENT
DTSTAMP:20260424T090314Z
DTSTART;VALUE=DATE:20151026
DTEND;VALUE=DATE:20151029
SUMMARY:I-SOCA 2015
DESCRIPTION:First International Workshop on Internet of Things: Smart Obj
 ects\, Cloud and Applications in conjunction with The 15th IEEE CIT conf
 erence
URL:http://www.wikicfp.com/cfp/servlet/event.showcfp?eventid=46118&copyow
 nerid=78022
UID:cfp534601-E@wikicfp.com
END:VEVENT
BEGIN:VEVENT
DTSTAMP:20260424T090314Z
DTSTART;VALUE=DATE:20150715
SUMMARY:I-SOCA 2015 Deadline
DESCRIPTION:First International Workshop on Internet of Things: Smart Obj
 ects\, Cloud and Applications in conjunction with The 15th IEEE CIT conf
 erence
URL:http://www.wikicfp.com/cfp/servlet/event.showcfp?eventid=46118&copyow
 nerid=78022
UID:cfp534601-D@wikicfp.com
END:VEVENT
BEGIN:VEVENT
DTSTAMP:20260424T090314Z
DTSTART;VALUE=DATE:20150815
SUMMARY:I-SOCA 2015 Notification Due
DESCRIPTION:First International Workshop on Internet of Things: Smart Obj
 ects\, Cloud and Applications in conjunction with The 15th IEEE CIT conf
 erence
URL:http://www.wikicfp.com/cfp/servlet/event.showcfp?eventid=46118&copyow
 nerid=78022
UID:cfp534601-N@wikicfp.com
END:VEVENT
BEGIN:VEVENT
DTSTAMP:20260424T090314Z
DTSTART;VALUE=DATE:20150915
SUMMARY:I-SOCA 2015 Final Version Due
DESCRIPTION:First International Workshop on Internet of Things: Smart Obj
 ects\, Cloud and Applications in conjunction with The 15th IEEE CIT conf
 erence
URL:http://www.wikicfp.com/cfp/servlet/event.showcfp?eventid=46118&copyow
 nerid=78022
UID:cfp534601-N@wikicfp.com
END:VEVENT
BEGIN:VEVENT
DTSTAMP:20260424T090314Z
DTSTART;VALUE=DATE:20150730
SUMMARY:IJSSOE 2016 Deadline
DESCRIPTION:CFP Special Issue of IJSSOE On: Big Data and Cloud Computing 
 for Scientific and Novel Applications
URL:http://www.wikicfp.com/cfp/servlet/event.showcfp?eventid=46200&copyow
 nerid=78022
UID:cfp534605-D@wikicfp.com
END:VEVENT
BEGIN:VEVENT
DTSTAMP:20260424T090314Z
DTSTART;VALUE=DATE:20150930
SUMMARY:IJSSOE 2016 Notification Due
DESCRIPTION:CFP Special Issue of IJSSOE On: Big Data and Cloud Computing 
 for Scientific and Novel Applications
URL:http://www.wikicfp.com/cfp/servlet/event.showcfp?eventid=46200&copyow
 nerid=78022
UID:cfp534605-N@wikicfp.com
END:VEVENT
BEGIN:VEVENT
DTSTAMP:20260424T090314Z
DTSTART;VALUE=DATE:20151030
SUMMARY:IJSSOE 2016 Final Version Due
DESCRIPTION:CFP Special Issue of IJSSOE On: Big Data and Cloud Computing 
 for Scientific and Novel Applications
URL:http://www.wikicfp.com/cfp/servlet/event.showcfp?eventid=46200&copyow
 nerid=78022
UID:cfp534605-N@wikicfp.com
END:VEVENT
BEGIN:VEVENT
DTSTAMP:20260424T090314Z
DTSTART;VALUE=DATE:20151117
DTEND;VALUE=DATE:20151121
SUMMARY:IoTSMS 2015
DESCRIPTION:Second International Workshop on  Internet of Things\, System
 s\, Management and Security
URL:http://www.wikicfp.com/cfp/servlet/event.showcfp?eventid=46305&copyow
 nerid=78022
UID:cfp534602-E@wikicfp.com
END:VEVENT
BEGIN:VEVENT
DTSTAMP:20260424T090314Z
DTSTART;VALUE=DATE:20150801
SUMMARY:IoTSMS 2015 Deadline
DESCRIPTION:Second International Workshop on  Internet of Things\, System
 s\, Management and Security
URL:http://www.wikicfp.com/cfp/servlet/event.showcfp?eventid=46305&copyow
 nerid=78022
UID:cfp534602-D@wikicfp.com
END:VEVENT
BEGIN:VEVENT
DTSTAMP:20260424T090314Z
DTSTART;VALUE=DATE:20150901
SUMMARY:IoTSMS 2015 Notification Due
DESCRIPTION:Second International Workshop on  Internet of Things\, System
 s\, Management and Security
URL:http://www.wikicfp.com/cfp/servlet/event.showcfp?eventid=46305&copyow
 nerid=78022
UID:cfp534602-N@wikicfp.com
END:VEVENT
BEGIN:VEVENT
DTSTAMP:20260424T090314Z
DTSTART;VALUE=DATE:20150922
SUMMARY:IoTSMS 2015 Final Version Due
DESCRIPTION:Second International Workshop on  Internet of Things\, System
 s\, Management and Security
URL:http://www.wikicfp.com/cfp/servlet/event.showcfp?eventid=46305&copyow
 nerid=78022
UID:cfp534602-N@wikicfp.com
END:VEVENT
BEGIN:VEVENT
DTSTAMP:20260424T090314Z
DTSTART;VALUE=DATE:20151219
DTEND;VALUE=DATE:20151222
SUMMARY:SC2  2015
DESCRIPTION:The 5th International Symposium on Cloud and Service Computin
 g
URL:http://www.wikicfp.com/cfp/servlet/event.showcfp?eventid=45194&copyow
 nerid=78022
UID:cfp527749-E@wikicfp.com
END:VEVENT
BEGIN:VEVENT
DTSTAMP:20260424T090314Z
DTSTART;VALUE=DATE:20150815
SUMMARY:SC2  2015 Deadline
DESCRIPTION:The 5th International Symposium on Cloud and Service Computin
 g
URL:http://www.wikicfp.com/cfp/servlet/event.showcfp?eventid=45194&copyow
 nerid=78022
UID:cfp527749-D@wikicfp.com
END:VEVENT
BEGIN:VEVENT
DTSTAMP:20260424T090314Z
DTSTART;VALUE=DATE:20150915
SUMMARY:SC2  2015 Notification Due
DESCRIPTION:The 5th International Symposium on Cloud and Service Computin
 g
URL:http://www.wikicfp.com/cfp/servlet/event.showcfp?eventid=45194&copyow
 nerid=78022
UID:cfp527749-N@wikicfp.com
END:VEVENT
BEGIN:VEVENT
DTSTAMP:20260424T090314Z
DTSTART;VALUE=DATE:20150930
SUMMARY:SC2  2015 Final Version Due
DESCRIPTION:The 5th International Symposium on Cloud and Service Computin
 g
URL:http://www.wikicfp.com/cfp/servlet/event.showcfp?eventid=45194&copyow
 nerid=78022
UID:cfp527749-N@wikicfp.com
END:VEVENT
BEGIN:VEVENT
DTSTAMP:20260424T090314Z
DTSTART;VALUE=DATE:20151207
DTEND;VALUE=DATE:20151211
SUMMARY:CloudAM  2015
DESCRIPTION:CloudAM 2015 @ IEEE/ACM UCC: International Workshop on Clouds
  and (eScience) Applications Management
URL:http://www.wikicfp.com/cfp/servlet/event.showcfp?eventid=46756&copyow
 nerid=78022
UID:cfp534586-E@wikicfp.com
END:VEVENT
BEGIN:VEVENT
DTSTAMP:20260424T090314Z
DTSTART;VALUE=DATE:20150822
SUMMARY:CloudAM  2015 Deadline
DESCRIPTION:CloudAM 2015 @ IEEE/ACM UCC: International Workshop on Clouds
  and (eScience) Applications Management
URL:http://www.wikicfp.com/cfp/servlet/event.showcfp?eventid=46756&copyow
 nerid=78022
UID:cfp534586-D@wikicfp.com
END:VEVENT
BEGIN:VEVENT
DTSTAMP:20260424T090314Z
DTSTART;VALUE=DATE:20150915
SUMMARY:CloudAM  2015 Notification Due
DESCRIPTION:CloudAM 2015 @ IEEE/ACM UCC: International Workshop on Clouds
  and (eScience) Applications Management
URL:http://www.wikicfp.com/cfp/servlet/event.showcfp?eventid=46756&copyow
 nerid=78022
UID:cfp534586-N@wikicfp.com
END:VEVENT
BEGIN:VEVENT
DTSTAMP:20260424T090314Z
DTSTART;VALUE=DATE:20150915
SUMMARY:CloudAM  2015 Final Version Due
DESCRIPTION:CloudAM 2015 @ IEEE/ACM UCC: International Workshop on Clouds
  and (eScience) Applications Management
URL:http://www.wikicfp.com/cfp/servlet/event.showcfp?eventid=46756&copyow
 nerid=78022
UID:cfp534586-N@wikicfp.com
END:VEVENT
BEGIN:VEVENT
DTSTAMP:20260424T090314Z
DTSTART;VALUE=DATE:20150922
SUMMARY:IJCCSA 2015 Deadline
DESCRIPTION:International Journal on Cloud Computing: Services and Archit
 ecture
URL:http://www.wikicfp.com/cfp/servlet/event.showcfp?eventid=40776&copyow
 nerid=78022
UID:cfp534583-D@wikicfp.com
END:VEVENT
BEGIN:VEVENT
DTSTAMP:20260424T090314Z
DTSTART;VALUE=DATE:20151022
SUMMARY:IJCCSA 2015 Notification Due
DESCRIPTION:International Journal on Cloud Computing: Services and Archit
 ecture
URL:http://www.wikicfp.com/cfp/servlet/event.showcfp?eventid=40776&copyow
 nerid=78022
UID:cfp534583-N@wikicfp.com
END:VEVENT
BEGIN:VEVENT
DTSTAMP:20260424T090314Z
DTSTART;VALUE=DATE:20151031
SUMMARY:IJCCSA 2015 Final Version Due
DESCRIPTION:International Journal on Cloud Computing: Services and Archit
 ecture
URL:http://www.wikicfp.com/cfp/servlet/event.showcfp?eventid=40776&copyow
 nerid=78022
UID:cfp534583-N@wikicfp.com
END:VEVENT
END:VCALENDAR
