BEGIN:VCALENDAR
PRODID:-//WikiCFP//isocc2015 1.0//EN
VERSION:2.0
CALSCALE:GREGORIAN
BEGIN:VEVENT
DTSTAMP:20260426T012216Z
DTSTART;VALUE=DATE:20151102
DTEND;VALUE=DATE:20151106
SUMMARY:ISOCC  2015
DESCRIPTION:12th International SoC Design Conference
URL:http://www.wikicfp.com/cfp/servlet/event.showcfp?eventid=45647&copyow
 nerid=77525
UID:cfp524557-E@wikicfp.com
END:VEVENT
BEGIN:VEVENT
DTSTAMP:20260426T012216Z
DTSTART;VALUE=DATE:20150915
SUMMARY:ISOCC  2015 Abstract Due
DESCRIPTION:12th International SoC Design Conference
URL:http://www.wikicfp.com/cfp/servlet/event.showcfp?eventid=45647&copyow
 nerid=77525
UID:cfp524557-A@wikicfp.com
END:VEVENT
BEGIN:VEVENT
DTSTAMP:20260426T012216Z
DTSTART;VALUE=DATE:20150729
SUMMARY:ISOCC  2015 Deadline
DESCRIPTION:12th International SoC Design Conference
URL:http://www.wikicfp.com/cfp/servlet/event.showcfp?eventid=45647&copyow
 nerid=77525
UID:cfp524557-D@wikicfp.com
END:VEVENT
BEGIN:VEVENT
DTSTAMP:20260426T012216Z
DTSTART;VALUE=DATE:20150901
SUMMARY:ISOCC  2015 Notification Due
DESCRIPTION:12th International SoC Design Conference
URL:http://www.wikicfp.com/cfp/servlet/event.showcfp?eventid=45647&copyow
 nerid=77525
UID:cfp524557-N@wikicfp.com
END:VEVENT
BEGIN:VEVENT
DTSTAMP:20260426T012216Z
DTSTART;VALUE=DATE:20150915
SUMMARY:ISOCC  2015 Final Version Due
DESCRIPTION:12th International SoC Design Conference
URL:http://www.wikicfp.com/cfp/servlet/event.showcfp?eventid=45647&copyow
 nerid=77525
UID:cfp524557-N@wikicfp.com
END:VEVENT
END:VCALENDAR
