BEGIN:VCALENDAR
PRODID:-//WikiCFP//xinyu 1.0//EN
VERSION:2.0
CALSCALE:GREGORIAN
BEGIN:VEVENT
DTSTAMP:20260419T205552Z
DTSTART;VALUE=DATE:20151130
DTEND;VALUE=DATE:20151203
SUMMARY:APLAS 2015
DESCRIPTION:13th Asian Symposium on Programming Languages and Systems
URL:http://www.wikicfp.com/cfp/servlet/event.showcfp?eventid=45609&copyow
 nerid=77457
UID:cfp524072-E@wikicfp.com
END:VEVENT
BEGIN:VEVENT
DTSTAMP:20260419T205552Z
DTSTART;VALUE=DATE:20150605
SUMMARY:APLAS 2015 Deadline
DESCRIPTION:13th Asian Symposium on Programming Languages and Systems
URL:http://www.wikicfp.com/cfp/servlet/event.showcfp?eventid=45609&copyow
 nerid=77457
UID:cfp524072-D@wikicfp.com
END:VEVENT
BEGIN:VEVENT
DTSTAMP:20260419T205552Z
DTSTART;VALUE=DATE:20150817
SUMMARY:APLAS 2015 Notification Due
DESCRIPTION:13th Asian Symposium on Programming Languages and Systems
URL:http://www.wikicfp.com/cfp/servlet/event.showcfp?eventid=45609&copyow
 nerid=77457
UID:cfp524072-N@wikicfp.com
END:VEVENT
BEGIN:VEVENT
DTSTAMP:20260419T205552Z
DTSTART;VALUE=DATE:20150907
SUMMARY:APLAS 2015 Final Version Due
DESCRIPTION:13th Asian Symposium on Programming Languages and Systems
URL:http://www.wikicfp.com/cfp/servlet/event.showcfp?eventid=45609&copyow
 nerid=77457
UID:cfp524072-N@wikicfp.com
END:VEVENT
END:VCALENDAR
