BEGIN:VCALENDAR
PRODID:-//WikiCFP//Dean8710 1.0//EN
VERSION:2.0
CALSCALE:GREGORIAN
BEGIN:VEVENT
DTSTAMP:20260421T034546Z
DTSTART;VALUE=DATE:20150413
DTEND;VALUE=DATE:20150416
SUMMARY:IEEE SAS  2015
DESCRIPTION:IEEE Sensors Applications Symposium 2015
URL:http://www.wikicfp.com/cfp/servlet/event.showcfp?eventid=38357&copyow
 nerid=77254
UID:cfp523097-E@wikicfp.com
END:VEVENT
BEGIN:VEVENT
DTSTAMP:20260421T034546Z
DTSTART;VALUE=DATE:20141107
SUMMARY:IEEE SAS  2015 Deadline
DESCRIPTION:IEEE Sensors Applications Symposium 2015
URL:http://www.wikicfp.com/cfp/servlet/event.showcfp?eventid=38357&copyow
 nerid=77254
UID:cfp523097-D@wikicfp.com
END:VEVENT
BEGIN:VEVENT
DTSTAMP:20260421T034546Z
DTSTART;VALUE=DATE:20150116
SUMMARY:IEEE SAS  2015 Notification Due
DESCRIPTION:IEEE Sensors Applications Symposium 2015
URL:http://www.wikicfp.com/cfp/servlet/event.showcfp?eventid=38357&copyow
 nerid=77254
UID:cfp523097-N@wikicfp.com
END:VEVENT
BEGIN:VEVENT
DTSTAMP:20260421T034546Z
DTSTART;VALUE=DATE:20150206
SUMMARY:IEEE SAS  2015 Final Version Due
DESCRIPTION:IEEE Sensors Applications Symposium 2015
URL:http://www.wikicfp.com/cfp/servlet/event.showcfp?eventid=38357&copyow
 nerid=77254
UID:cfp523097-N@wikicfp.com
END:VEVENT
BEGIN:VEVENT
DTSTAMP:20260421T034546Z
DTSTART;VALUE=DATE:20151101
DTEND;VALUE=DATE:20151105
SUMMARY:SENSORS 2015
DESCRIPTION:IEEE SENSORS 2015
URL:http://www.wikicfp.com/cfp/servlet/event.showcfp?eventid=39072&copyow
 nerid=77254
UID:cfp523099-E@wikicfp.com
END:VEVENT
BEGIN:VEVENT
DTSTAMP:20260421T034546Z
DTSTART;VALUE=DATE:20150417
SUMMARY:SENSORS 2015 Deadline
DESCRIPTION:IEEE SENSORS 2015
URL:http://www.wikicfp.com/cfp/servlet/event.showcfp?eventid=39072&copyow
 nerid=77254
UID:cfp523099-D@wikicfp.com
END:VEVENT
BEGIN:VEVENT
DTSTAMP:20260421T034546Z
DTSTART;VALUE=DATE:20150701
SUMMARY:SENSORS 2015 Notification Due
DESCRIPTION:IEEE SENSORS 2015
URL:http://www.wikicfp.com/cfp/servlet/event.showcfp?eventid=39072&copyow
 nerid=77254
UID:cfp523099-N@wikicfp.com
END:VEVENT
BEGIN:VEVENT
DTSTAMP:20260421T034546Z
DTSTART;VALUE=DATE:20150901
SUMMARY:SENSORS 2015 Final Version Due
DESCRIPTION:IEEE SENSORS 2015
URL:http://www.wikicfp.com/cfp/servlet/event.showcfp?eventid=39072&copyow
 nerid=77254
UID:cfp523099-N@wikicfp.com
END:VEVENT
BEGIN:VEVENT
DTSTAMP:20260421T034546Z
DTSTART;VALUE=DATE:20150909
DTEND;VALUE=DATE:20150911
SUMMARY:SSPD 2015
DESCRIPTION:SSPD 2015 : Sensor Signal Processing for Defence Conference 2
 015
URL:http://www.wikicfp.com/cfp/servlet/event.showcfp?eventid=40616&copyow
 nerid=77254
UID:cfp523110-E@wikicfp.com
END:VEVENT
BEGIN:VEVENT
DTSTAMP:20260421T034546Z
DTSTART;VALUE=DATE:20150501
SUMMARY:SSPD 2015 Deadline
DESCRIPTION:SSPD 2015 : Sensor Signal Processing for Defence Conference 2
 015
URL:http://www.wikicfp.com/cfp/servlet/event.showcfp?eventid=40616&copyow
 nerid=77254
UID:cfp523110-D@wikicfp.com
END:VEVENT
BEGIN:VEVENT
DTSTAMP:20260421T034546Z
DTSTART;VALUE=DATE:20150611
SUMMARY:SSPD 2015 Notification Due
DESCRIPTION:SSPD 2015 : Sensor Signal Processing for Defence Conference 2
 015
URL:http://www.wikicfp.com/cfp/servlet/event.showcfp?eventid=40616&copyow
 nerid=77254
UID:cfp523110-N@wikicfp.com
END:VEVENT
BEGIN:VEVENT
DTSTAMP:20260421T034546Z
DTSTART;VALUE=DATE:20150708
SUMMARY:SSPD 2015 Final Version Due
DESCRIPTION:SSPD 2015 : Sensor Signal Processing for Defence Conference 2
 015
URL:http://www.wikicfp.com/cfp/servlet/event.showcfp?eventid=40616&copyow
 nerid=77254
UID:cfp523110-N@wikicfp.com
END:VEVENT
BEGIN:VEVENT
DTSTAMP:20260421T034546Z
DTSTART;VALUE=DATE:20151206
DTEND;VALUE=DATE:20151210
SUMMARY:ROBIO 2015
DESCRIPTION:IEEE International Conference on Robotics and Biomimetics
URL:http://www.wikicfp.com/cfp/servlet/event.showcfp?eventid=46930&copyow
 nerid=77254
UID:cfp540750-E@wikicfp.com
END:VEVENT
BEGIN:VEVENT
DTSTAMP:20260421T034546Z
DTSTART;VALUE=DATE:20150725
SUMMARY:ROBIO 2015 Deadline
DESCRIPTION:IEEE International Conference on Robotics and Biomimetics
URL:http://www.wikicfp.com/cfp/servlet/event.showcfp?eventid=46930&copyow
 nerid=77254
UID:cfp540750-D@wikicfp.com
END:VEVENT
BEGIN:VEVENT
DTSTAMP:20260421T034546Z
DTSTART;VALUE=DATE:20150910
SUMMARY:ROBIO 2015 Notification Due
DESCRIPTION:IEEE International Conference on Robotics and Biomimetics
URL:http://www.wikicfp.com/cfp/servlet/event.showcfp?eventid=46930&copyow
 nerid=77254
UID:cfp540750-N@wikicfp.com
END:VEVENT
BEGIN:VEVENT
DTSTAMP:20260421T034546Z
DTSTART;VALUE=DATE:20150930
SUMMARY:ROBIO 2015 Final Version Due
DESCRIPTION:IEEE International Conference on Robotics and Biomimetics
URL:http://www.wikicfp.com/cfp/servlet/event.showcfp?eventid=46930&copyow
 nerid=77254
UID:cfp540750-N@wikicfp.com
END:VEVENT
BEGIN:VEVENT
DTSTAMP:20260421T034546Z
DTSTART;VALUE=DATE:20151219
DTEND;VALUE=DATE:20151221
SUMMARY:IEEE IAEAC  2015
DESCRIPTION:2015 IEEE Advanced Information Technology\, Electronic and Au
 tomation Control Conference
URL:http://www.wikicfp.com/cfp/servlet/event.showcfp?eventid=43652&copyow
 nerid=77254
UID:cfp540515-E@wikicfp.com
END:VEVENT
BEGIN:VEVENT
DTSTAMP:20260421T034546Z
DTSTART;VALUE=DATE:20150820
SUMMARY:IEEE IAEAC  2015 Deadline
DESCRIPTION:2015 IEEE Advanced Information Technology\, Electronic and Au
 tomation Control Conference
URL:http://www.wikicfp.com/cfp/servlet/event.showcfp?eventid=43652&copyow
 nerid=77254
UID:cfp540515-D@wikicfp.com
END:VEVENT
BEGIN:VEVENT
DTSTAMP:20260421T034546Z
DTSTART;VALUE=DATE:20150831
SUMMARY:IEEE IAEAC  2015 Notification Due
DESCRIPTION:2015 IEEE Advanced Information Technology\, Electronic and Au
 tomation Control Conference
URL:http://www.wikicfp.com/cfp/servlet/event.showcfp?eventid=43652&copyow
 nerid=77254
UID:cfp540515-N@wikicfp.com
END:VEVENT
BEGIN:VEVENT
DTSTAMP:20260421T034546Z
DTSTART;VALUE=DATE:20150905
SUMMARY:IEEE IAEAC  2015 Final Version Due
DESCRIPTION:2015 IEEE Advanced Information Technology\, Electronic and Au
 tomation Control Conference
URL:http://www.wikicfp.com/cfp/servlet/event.showcfp?eventid=43652&copyow
 nerid=77254
UID:cfp540515-N@wikicfp.com
END:VEVENT
BEGIN:VEVENT
DTSTAMP:20260421T034546Z
DTSTART;VALUE=DATE:20151218
DTEND;VALUE=DATE:20151221
SUMMARY:ICSPC 2015
DESCRIPTION:2015 IEEE Conference on Systems\, Process and Control
URL:http://www.wikicfp.com/cfp/servlet/event.showcfp?eventid=47370&copyow
 nerid=77254
UID:cfp540516-E@wikicfp.com
END:VEVENT
BEGIN:VEVENT
DTSTAMP:20260421T034546Z
DTSTART;VALUE=DATE:20150831
SUMMARY:ICSPC 2015 Deadline
DESCRIPTION:2015 IEEE Conference on Systems\, Process and Control
URL:http://www.wikicfp.com/cfp/servlet/event.showcfp?eventid=47370&copyow
 nerid=77254
UID:cfp540516-D@wikicfp.com
END:VEVENT
BEGIN:VEVENT
DTSTAMP:20260421T034546Z
DTSTART;VALUE=DATE:20150915
SUMMARY:ICSPC 2015 Notification Due
DESCRIPTION:2015 IEEE Conference on Systems\, Process and Control
URL:http://www.wikicfp.com/cfp/servlet/event.showcfp?eventid=47370&copyow
 nerid=77254
UID:cfp540516-N@wikicfp.com
END:VEVENT
BEGIN:VEVENT
DTSTAMP:20260421T034546Z
DTSTART;VALUE=DATE:20151101
SUMMARY:ICSPC 2015 Final Version Due
DESCRIPTION:2015 IEEE Conference on Systems\, Process and Control
URL:http://www.wikicfp.com/cfp/servlet/event.showcfp?eventid=47370&copyow
 nerid=77254
UID:cfp540516-N@wikicfp.com
END:VEVENT
BEGIN:VEVENT
DTSTAMP:20260421T034546Z
DTSTART;VALUE=DATE:20151201
DTEND;VALUE=DATE:20151204
SUMMARY:ICSPS 2015
DESCRIPTION:2015 7th International Conference on Signal Processing System
 s
URL:http://www.wikicfp.com/cfp/servlet/event.showcfp?eventid=46487&copyow
 nerid=77254
UID:cfp547260-E@wikicfp.com
END:VEVENT
BEGIN:VEVENT
DTSTAMP:20260421T034546Z
DTSTART;VALUE=DATE:20150915
SUMMARY:ICSPS 2015 Deadline
DESCRIPTION:2015 7th International Conference on Signal Processing System
 s
URL:http://www.wikicfp.com/cfp/servlet/event.showcfp?eventid=46487&copyow
 nerid=77254
UID:cfp547260-D@wikicfp.com
END:VEVENT
BEGIN:VEVENT
DTSTAMP:20260421T034546Z
DTSTART;VALUE=DATE:20151005
SUMMARY:ICSPS 2015 Notification Due
DESCRIPTION:2015 7th International Conference on Signal Processing System
 s
URL:http://www.wikicfp.com/cfp/servlet/event.showcfp?eventid=46487&copyow
 nerid=77254
UID:cfp547260-N@wikicfp.com
END:VEVENT
BEGIN:VEVENT
DTSTAMP:20260421T034546Z
DTSTART;VALUE=DATE:20151020
SUMMARY:ICSPS 2015 Final Version Due
DESCRIPTION:2015 7th International Conference on Signal Processing System
 s
URL:http://www.wikicfp.com/cfp/servlet/event.showcfp?eventid=46487&copyow
 nerid=77254
UID:cfp547260-N@wikicfp.com
END:VEVENT
BEGIN:VEVENT
DTSTAMP:20260421T034546Z
DTSTART;VALUE=DATE:20160320
DTEND;VALUE=DATE:20160326
SUMMARY:ICASSP 2016
DESCRIPTION:International Conference on Acoustics\, Speech\, and Signal P
 rocessing
URL:http://www.wikicfp.com/cfp/servlet/event.showcfp?eventid=41657&copyow
 nerid=77254
UID:cfp547261-E@wikicfp.com
END:VEVENT
BEGIN:VEVENT
DTSTAMP:20260421T034546Z
DTSTART;VALUE=DATE:20150925
SUMMARY:ICASSP 2016 Deadline
DESCRIPTION:International Conference on Acoustics\, Speech\, and Signal P
 rocessing
URL:http://www.wikicfp.com/cfp/servlet/event.showcfp?eventid=41657&copyow
 nerid=77254
UID:cfp547261-D@wikicfp.com
END:VEVENT
BEGIN:VEVENT
DTSTAMP:20260421T034546Z
DTSTART;VALUE=DATE:20151221
SUMMARY:ICASSP 2016 Notification Due
DESCRIPTION:International Conference on Acoustics\, Speech\, and Signal P
 rocessing
URL:http://www.wikicfp.com/cfp/servlet/event.showcfp?eventid=41657&copyow
 nerid=77254
UID:cfp547261-N@wikicfp.com
END:VEVENT
BEGIN:VEVENT
DTSTAMP:20260421T034546Z
DTSTART;VALUE=DATE:20160122
SUMMARY:ICASSP 2016 Final Version Due
DESCRIPTION:International Conference on Acoustics\, Speech\, and Signal P
 rocessing
URL:http://www.wikicfp.com/cfp/servlet/event.showcfp?eventid=41657&copyow
 nerid=77254
UID:cfp547261-N@wikicfp.com
END:VEVENT
BEGIN:VEVENT
DTSTAMP:20260421T034546Z
DTSTART;VALUE=DATE:20160304
DTEND;VALUE=DATE:20160307
SUMMARY:CSPA 2016
DESCRIPTION:2016 IEEE 12th International Colloquium on Signal Processing 
 & Its Applications
URL:http://www.wikicfp.com/cfp/servlet/event.showcfp?eventid=45491&copyow
 nerid=77254
UID:cfp523606-E@wikicfp.com
END:VEVENT
BEGIN:VEVENT
DTSTAMP:20260421T034546Z
DTSTART;VALUE=DATE:20151206
SUMMARY:CSPA 2016 Deadline
DESCRIPTION:2016 IEEE 12th International Colloquium on Signal Processing 
 & Its Applications
URL:http://www.wikicfp.com/cfp/servlet/event.showcfp?eventid=45491&copyow
 nerid=77254
UID:cfp523606-D@wikicfp.com
END:VEVENT
BEGIN:VEVENT
DTSTAMP:20260421T034546Z
DTSTART;VALUE=DATE:20160102
SUMMARY:CSPA 2016 Notification Due
DESCRIPTION:2016 IEEE 12th International Colloquium on Signal Processing 
 & Its Applications
URL:http://www.wikicfp.com/cfp/servlet/event.showcfp?eventid=45491&copyow
 nerid=77254
UID:cfp523606-N@wikicfp.com
END:VEVENT
BEGIN:VEVENT
DTSTAMP:20260421T034546Z
DTSTART;VALUE=DATE:20160215
SUMMARY:CSPA 2016 Final Version Due
DESCRIPTION:2016 IEEE 12th International Colloquium on Signal Processing 
 & Its Applications
URL:http://www.wikicfp.com/cfp/servlet/event.showcfp?eventid=45491&copyow
 nerid=77254
UID:cfp523606-N@wikicfp.com
END:VEVENT
BEGIN:VEVENT
DTSTAMP:20260421T034546Z
DTSTART;VALUE=DATE:20160725
DTEND;VALUE=DATE:20160730
SUMMARY:WCCI 2016
DESCRIPTION:2016 IEEE World Congress on Computational Intelligence
URL:http://www.wikicfp.com/cfp/servlet/event.showcfp?eventid=36350&copyow
 nerid=77254
UID:cfp523114-E@wikicfp.com
END:VEVENT
BEGIN:VEVENT
DTSTAMP:20260421T034546Z
DTSTART;VALUE=DATE:20160131
SUMMARY:WCCI 2016 Deadline
DESCRIPTION:2016 IEEE World Congress on Computational Intelligence
URL:http://www.wikicfp.com/cfp/servlet/event.showcfp?eventid=36350&copyow
 nerid=77254
UID:cfp523114-D@wikicfp.com
END:VEVENT
BEGIN:VEVENT
DTSTAMP:20260421T034546Z
DTSTART;VALUE=DATE:20160315
SUMMARY:WCCI 2016 Notification Due
DESCRIPTION:2016 IEEE World Congress on Computational Intelligence
URL:http://www.wikicfp.com/cfp/servlet/event.showcfp?eventid=36350&copyow
 nerid=77254
UID:cfp523114-N@wikicfp.com
END:VEVENT
BEGIN:VEVENT
DTSTAMP:20260421T034546Z
DTSTART;VALUE=DATE:20160415
SUMMARY:WCCI 2016 Final Version Due
DESCRIPTION:2016 IEEE World Congress on Computational Intelligence
URL:http://www.wikicfp.com/cfp/servlet/event.showcfp?eventid=36350&copyow
 nerid=77254
UID:cfp523114-N@wikicfp.com
END:VEVENT
BEGIN:VEVENT
DTSTAMP:20260421T034546Z
DTSTART;VALUE=DATE:20160706
DTEND;VALUE=DATE:20160709
SUMMARY:SPLINE 2016
DESCRIPTION:International Workshop on Sensing Processing and Learning for
  Intelligent Machines
URL:http://www.wikicfp.com/cfp/servlet/event.showcfp?eventid=53509&copyow
 nerid=77254
UID:cfp593337-E@wikicfp.com
END:VEVENT
BEGIN:VEVENT
DTSTAMP:20260421T034546Z
DTSTART;VALUE=DATE:20160420
SUMMARY:SPLINE 2016 Deadline
DESCRIPTION:International Workshop on Sensing Processing and Learning for
  Intelligent Machines
URL:http://www.wikicfp.com/cfp/servlet/event.showcfp?eventid=53509&copyow
 nerid=77254
UID:cfp593337-D@wikicfp.com
END:VEVENT
BEGIN:VEVENT
DTSTAMP:20260421T034546Z
DTSTART;VALUE=DATE:20160510
SUMMARY:SPLINE 2016 Notification Due
DESCRIPTION:International Workshop on Sensing Processing and Learning for
  Intelligent Machines
URL:http://www.wikicfp.com/cfp/servlet/event.showcfp?eventid=53509&copyow
 nerid=77254
UID:cfp593337-N@wikicfp.com
END:VEVENT
BEGIN:VEVENT
DTSTAMP:20260421T034546Z
DTSTART;VALUE=DATE:20160524
SUMMARY:SPLINE 2016 Final Version Due
DESCRIPTION:International Workshop on Sensing Processing and Learning for
  Intelligent Machines
URL:http://www.wikicfp.com/cfp/servlet/event.showcfp?eventid=53509&copyow
 nerid=77254
UID:cfp593337-N@wikicfp.com
END:VEVENT
BEGIN:VEVENT
DTSTAMP:20260421T034546Z
DTSTART;VALUE=DATE:20160903
DTEND;VALUE=DATE:20160906
SUMMARY:ICMSSP 2016
DESCRIPTION:2016 International Conference on Multimedia Systems and Signa
 l Processing (ICMSSP 2016)-IEEE\, EI Compendex
URL:http://www.wikicfp.com/cfp/servlet/event.showcfp?eventid=53023&copyow
 nerid=77254
UID:cfp589795-E@wikicfp.com
END:VEVENT
BEGIN:VEVENT
DTSTAMP:20260421T034546Z
DTSTART;VALUE=DATE:20160625
SUMMARY:ICMSSP 2016 Deadline
DESCRIPTION:2016 International Conference on Multimedia Systems and Signa
 l Processing (ICMSSP 2016)-IEEE\, EI Compendex
URL:http://www.wikicfp.com/cfp/servlet/event.showcfp?eventid=53023&copyow
 nerid=77254
UID:cfp589795-D@wikicfp.com
END:VEVENT
BEGIN:VEVENT
DTSTAMP:20260421T034546Z
DTSTART;VALUE=DATE:20161212
DTEND;VALUE=DATE:20161215
SUMMARY:ISSPIT 2016
DESCRIPTION:The 16th IEEE International Symposium on Signal Processing an
 d Information Technology
URL:http://www.wikicfp.com/cfp/servlet/event.showcfp?eventid=53325&copyow
 nerid=77254
UID:cfp593326-E@wikicfp.com
END:VEVENT
BEGIN:VEVENT
DTSTAMP:20260421T034546Z
DTSTART;VALUE=DATE:20160901
SUMMARY:ISSPIT 2016 Deadline
DESCRIPTION:The 16th IEEE International Symposium on Signal Processing an
 d Information Technology
URL:http://www.wikicfp.com/cfp/servlet/event.showcfp?eventid=53325&copyow
 nerid=77254
UID:cfp593326-D@wikicfp.com
END:VEVENT
BEGIN:VEVENT
DTSTAMP:20260421T034546Z
DTSTART;VALUE=DATE:20161026
SUMMARY:ISSPIT 2016 Notification Due
DESCRIPTION:The 16th IEEE International Symposium on Signal Processing an
 d Information Technology
URL:http://www.wikicfp.com/cfp/servlet/event.showcfp?eventid=53325&copyow
 nerid=77254
UID:cfp593326-N@wikicfp.com
END:VEVENT
BEGIN:VEVENT
DTSTAMP:20260421T034546Z
DTSTART;VALUE=DATE:20161115
SUMMARY:ISSPIT 2016 Final Version Due
DESCRIPTION:The 16th IEEE International Symposium on Signal Processing an
 d Information Technology
URL:http://www.wikicfp.com/cfp/servlet/event.showcfp?eventid=53325&copyow
 nerid=77254
UID:cfp593326-N@wikicfp.com
END:VEVENT
BEGIN:VEVENT
DTSTAMP:20260421T034546Z
DTSTART;VALUE=DATE:20170305
DTEND;VALUE=DATE:20170310
SUMMARY:ICASSP 2017
DESCRIPTION:ICASSP 2017 - 2017 IEEE International Conference on Acoustics
 \, Speech and Signal Processing (ICASSP)
URL:http://www.wikicfp.com/cfp/servlet/event.showcfp?eventid=53276&copyow
 nerid=77254
UID:cfp592886-E@wikicfp.com
END:VEVENT
BEGIN:VEVENT
DTSTAMP:20260421T034546Z
DTSTART;VALUE=DATE:20160912
SUMMARY:ICASSP 2017 Deadline
DESCRIPTION:ICASSP 2017 - 2017 IEEE International Conference on Acoustics
 \, Speech and Signal Processing (ICASSP)
URL:http://www.wikicfp.com/cfp/servlet/event.showcfp?eventid=53276&copyow
 nerid=77254
UID:cfp592886-D@wikicfp.com
END:VEVENT
END:VCALENDAR
