BEGIN:VCALENDAR
PRODID:-//WikiCFP//ProfNeetaKhobragade 1.0//EN
VERSION:2.0
CALSCALE:GREGORIAN
BEGIN:VEVENT
DTSTAMP:20260421T045753Z
DTSTART;VALUE=DATE:20150806
DTEND;VALUE=DATE:20150808
SUMMARY:PAPIs.io 2015
DESCRIPTION:The International Conference on Predictive APIs and Apps
URL:http://www.wikicfp.com/cfp/servlet/event.showcfp?eventid=44552&copyow
 nerid=76920
UID:cfp520312-E@wikicfp.com
END:VEVENT
BEGIN:VEVENT
DTSTAMP:20260421T045753Z
DTSTART;VALUE=DATE:20150403
SUMMARY:PAPIs.io 2015 Deadline
DESCRIPTION:The International Conference on Predictive APIs and Apps
URL:http://www.wikicfp.com/cfp/servlet/event.showcfp?eventid=44552&copyow
 nerid=76920
UID:cfp520312-D@wikicfp.com
END:VEVENT
BEGIN:VEVENT
DTSTAMP:20260421T045753Z
DTSTART;VALUE=DATE:20150813
DTEND;VALUE=DATE:20150816
SUMMARY:IRI 2015
DESCRIPTION:16th IEEE International Conference on Information Reuse and I
 ntergration
URL:http://www.wikicfp.com/cfp/servlet/event.showcfp?eventid=42934&copyow
 nerid=76920
UID:cfp520304-E@wikicfp.com
END:VEVENT
BEGIN:VEVENT
DTSTAMP:20260421T045753Z
DTSTART;VALUE=DATE:20150404
SUMMARY:IRI 2015 Deadline
DESCRIPTION:16th IEEE International Conference on Information Reuse and I
 ntergration
URL:http://www.wikicfp.com/cfp/servlet/event.showcfp?eventid=42934&copyow
 nerid=76920
UID:cfp520304-D@wikicfp.com
END:VEVENT
BEGIN:VEVENT
DTSTAMP:20260421T045753Z
DTSTART;VALUE=DATE:20150504
SUMMARY:IRI 2015 Notification Due
DESCRIPTION:16th IEEE International Conference on Information Reuse and I
 ntergration
URL:http://www.wikicfp.com/cfp/servlet/event.showcfp?eventid=42934&copyow
 nerid=76920
UID:cfp520304-N@wikicfp.com
END:VEVENT
BEGIN:VEVENT
DTSTAMP:20260421T045753Z
DTSTART;VALUE=DATE:20150514
SUMMARY:IRI 2015 Final Version Due
DESCRIPTION:16th IEEE International Conference on Information Reuse and I
 ntergration
URL:http://www.wikicfp.com/cfp/servlet/event.showcfp?eventid=42934&copyow
 nerid=76920
UID:cfp520304-N@wikicfp.com
END:VEVENT
BEGIN:VEVENT
DTSTAMP:20260421T045753Z
DTSTART;VALUE=DATE:20150513
DTEND;VALUE=DATE:20150516
SUMMARY:ISNCC  2015
DESCRIPTION:2015 International Symposium on Networks\, Computers and Comm
 unications
URL:http://www.wikicfp.com/cfp/servlet/event.showcfp?eventid=40936&copyow
 nerid=76920
UID:cfp520300-E@wikicfp.com
END:VEVENT
BEGIN:VEVENT
DTSTAMP:20260421T045753Z
DTSTART;VALUE=DATE:20150410
SUMMARY:ISNCC  2015 Deadline
DESCRIPTION:2015 International Symposium on Networks\, Computers and Comm
 unications
URL:http://www.wikicfp.com/cfp/servlet/event.showcfp?eventid=40936&copyow
 nerid=76920
UID:cfp520300-D@wikicfp.com
END:VEVENT
BEGIN:VEVENT
DTSTAMP:20260421T045753Z
DTSTART;VALUE=DATE:20150604
DTEND;VALUE=DATE:20150607
SUMMARY:ISET 2015
DESCRIPTION:The 10th International Symposium on Embedded Technology
URL:http://www.wikicfp.com/cfp/servlet/event.showcfp?eventid=44594&copyow
 nerid=76920
UID:cfp520313-E@wikicfp.com
END:VEVENT
BEGIN:VEVENT
DTSTAMP:20260421T045753Z
DTSTART;VALUE=DATE:20150410
SUMMARY:ISET 2015 Deadline
DESCRIPTION:The 10th International Symposium on Embedded Technology
URL:http://www.wikicfp.com/cfp/servlet/event.showcfp?eventid=44594&copyow
 nerid=76920
UID:cfp520313-D@wikicfp.com
END:VEVENT
BEGIN:VEVENT
DTSTAMP:20260421T045753Z
DTSTART;VALUE=DATE:20150430
SUMMARY:ISET 2015 Notification Due
DESCRIPTION:The 10th International Symposium on Embedded Technology
URL:http://www.wikicfp.com/cfp/servlet/event.showcfp?eventid=44594&copyow
 nerid=76920
UID:cfp520313-N@wikicfp.com
END:VEVENT
BEGIN:VEVENT
DTSTAMP:20260421T045753Z
DTSTART;VALUE=DATE:20150508
SUMMARY:ISET 2015 Final Version Due
DESCRIPTION:The 10th International Symposium on Embedded Technology
URL:http://www.wikicfp.com/cfp/servlet/event.showcfp?eventid=44594&copyow
 nerid=76920
UID:cfp520313-N@wikicfp.com
END:VEVENT
BEGIN:VEVENT
DTSTAMP:20260421T045753Z
DTSTART;VALUE=DATE:20150425
DTEND;VALUE=DATE:20150427
SUMMARY:CSTY 2015
DESCRIPTION:International Conference on Computer Science and Information 
 Technology
URL:http://www.wikicfp.com/cfp/servlet/event.showcfp?eventid=44650&copyow
 nerid=76920
UID:cfp520314-E@wikicfp.com
END:VEVENT
BEGIN:VEVENT
DTSTAMP:20260421T045753Z
DTSTART;VALUE=DATE:20150410
SUMMARY:CSTY 2015 Deadline
DESCRIPTION:International Conference on Computer Science and Information 
 Technology
URL:http://www.wikicfp.com/cfp/servlet/event.showcfp?eventid=44650&copyow
 nerid=76920
UID:cfp520314-D@wikicfp.com
END:VEVENT
BEGIN:VEVENT
DTSTAMP:20260421T045753Z
DTSTART;VALUE=DATE:20150420
SUMMARY:CSTY 2015 Notification Due
DESCRIPTION:International Conference on Computer Science and Information 
 Technology
URL:http://www.wikicfp.com/cfp/servlet/event.showcfp?eventid=44650&copyow
 nerid=76920
UID:cfp520314-N@wikicfp.com
END:VEVENT
BEGIN:VEVENT
DTSTAMP:20260421T045753Z
DTSTART;VALUE=DATE:20150422
SUMMARY:CSTY 2015 Final Version Due
DESCRIPTION:International Conference on Computer Science and Information 
 Technology
URL:http://www.wikicfp.com/cfp/servlet/event.showcfp?eventid=44650&copyow
 nerid=76920
UID:cfp520314-N@wikicfp.com
END:VEVENT
BEGIN:VEVENT
DTSTAMP:20260421T045753Z
DTSTART;VALUE=DATE:20150902
DTEND;VALUE=DATE:20150905
SUMMARY:ISNEM@INCoS 2015
DESCRIPTION:Special track on Intelligent Sensor Networks for Environmenta
 l Monitoring
URL:http://www.wikicfp.com/cfp/servlet/event.showcfp?eventid=44693&copyow
 nerid=76920
UID:cfp520315-E@wikicfp.com
END:VEVENT
BEGIN:VEVENT
DTSTAMP:20260421T045753Z
DTSTART;VALUE=DATE:20150410
SUMMARY:ISNEM@INCoS 2015 Deadline
DESCRIPTION:Special track on Intelligent Sensor Networks for Environmenta
 l Monitoring
URL:http://www.wikicfp.com/cfp/servlet/event.showcfp?eventid=44693&copyow
 nerid=76920
UID:cfp520315-D@wikicfp.com
END:VEVENT
BEGIN:VEVENT
DTSTAMP:20260421T045753Z
DTSTART;VALUE=DATE:20150525
SUMMARY:ISNEM@INCoS 2015 Notification Due
DESCRIPTION:Special track on Intelligent Sensor Networks for Environmenta
 l Monitoring
URL:http://www.wikicfp.com/cfp/servlet/event.showcfp?eventid=44693&copyow
 nerid=76920
UID:cfp520315-N@wikicfp.com
END:VEVENT
BEGIN:VEVENT
DTSTAMP:20260421T045753Z
DTSTART;VALUE=DATE:20150626
SUMMARY:ISNEM@INCoS 2015 Final Version Due
DESCRIPTION:Special track on Intelligent Sensor Networks for Environmenta
 l Monitoring
URL:http://www.wikicfp.com/cfp/servlet/event.showcfp?eventid=44693&copyow
 nerid=76920
UID:cfp520315-N@wikicfp.com
END:VEVENT
BEGIN:VEVENT
DTSTAMP:20260421T045753Z
DTSTART;VALUE=DATE:20150713
DTEND;VALUE=DATE:20150716
SUMMARY:C3S2E  2015
DESCRIPTION:C3S2E 2015 : Eighth International C* Conference on Computer S
 cience & Software Engineering
URL:http://www.wikicfp.com/cfp/servlet/event.showcfp?eventid=42937&copyow
 nerid=76920
UID:cfp520305-E@wikicfp.com
END:VEVENT
BEGIN:VEVENT
DTSTAMP:20260421T045753Z
DTSTART;VALUE=DATE:20150412
SUMMARY:C3S2E  2015 Deadline
DESCRIPTION:C3S2E 2015 : Eighth International C* Conference on Computer S
 cience & Software Engineering
URL:http://www.wikicfp.com/cfp/servlet/event.showcfp?eventid=42937&copyow
 nerid=76920
UID:cfp520305-D@wikicfp.com
END:VEVENT
BEGIN:VEVENT
DTSTAMP:20260421T045753Z
DTSTART;VALUE=DATE:20150601
SUMMARY:C3S2E  2015 Notification Due
DESCRIPTION:C3S2E 2015 : Eighth International C* Conference on Computer S
 cience & Software Engineering
URL:http://www.wikicfp.com/cfp/servlet/event.showcfp?eventid=42937&copyow
 nerid=76920
UID:cfp520305-N@wikicfp.com
END:VEVENT
BEGIN:VEVENT
DTSTAMP:20260421T045753Z
DTSTART;VALUE=DATE:20150629
SUMMARY:C3S2E  2015 Final Version Due
DESCRIPTION:C3S2E 2015 : Eighth International C* Conference on Computer S
 cience & Software Engineering
URL:http://www.wikicfp.com/cfp/servlet/event.showcfp?eventid=42937&copyow
 nerid=76920
UID:cfp520305-N@wikicfp.com
END:VEVENT
BEGIN:VEVENT
DTSTAMP:20260421T045753Z
DTSTART;VALUE=DATE:20150914
DTEND;VALUE=DATE:20150919
SUMMARY:CASC 2015
DESCRIPTION:17th International Workshop in Computer Algebra in Scientific
  Computing
URL:http://www.wikicfp.com/cfp/servlet/event.showcfp?eventid=43401&copyow
 nerid=76920
UID:cfp520307-E@wikicfp.com
END:VEVENT
BEGIN:VEVENT
DTSTAMP:20260421T045753Z
DTSTART;VALUE=DATE:20150412
SUMMARY:CASC 2015 Deadline
DESCRIPTION:17th International Workshop in Computer Algebra in Scientific
  Computing
URL:http://www.wikicfp.com/cfp/servlet/event.showcfp?eventid=43401&copyow
 nerid=76920
UID:cfp520307-D@wikicfp.com
END:VEVENT
BEGIN:VEVENT
DTSTAMP:20260421T045753Z
DTSTART;VALUE=DATE:20150531
SUMMARY:CASC 2015 Notification Due
DESCRIPTION:17th International Workshop in Computer Algebra in Scientific
  Computing
URL:http://www.wikicfp.com/cfp/servlet/event.showcfp?eventid=43401&copyow
 nerid=76920
UID:cfp520307-N@wikicfp.com
END:VEVENT
BEGIN:VEVENT
DTSTAMP:20260421T045753Z
DTSTART;VALUE=DATE:20150614
SUMMARY:CASC 2015 Final Version Due
DESCRIPTION:17th International Workshop in Computer Algebra in Scientific
  Computing
URL:http://www.wikicfp.com/cfp/servlet/event.showcfp?eventid=43401&copyow
 nerid=76920
UID:cfp520307-N@wikicfp.com
END:VEVENT
BEGIN:VEVENT
DTSTAMP:20260421T045753Z
DTSTART;VALUE=DATE:20150827
DTEND;VALUE=DATE:20150829
SUMMARY:ECBS-EERC 2015
DESCRIPTION:4th Eastern European Regional Conference on the Engineering o
 f Computer Based Systems
URL:http://www.wikicfp.com/cfp/servlet/event.showcfp?eventid=43912&copyow
 nerid=76920
UID:cfp520310-E@wikicfp.com
END:VEVENT
BEGIN:VEVENT
DTSTAMP:20260421T045753Z
DTSTART;VALUE=DATE:20150315
SUMMARY:ECBS-EERC 2015 Abstract Due
DESCRIPTION:4th Eastern European Regional Conference on the Engineering o
 f Computer Based Systems
URL:http://www.wikicfp.com/cfp/servlet/event.showcfp?eventid=43912&copyow
 nerid=76920
UID:cfp520310-A@wikicfp.com
END:VEVENT
BEGIN:VEVENT
DTSTAMP:20260421T045753Z
DTSTART;VALUE=DATE:20150412
SUMMARY:ECBS-EERC 2015 Deadline
DESCRIPTION:4th Eastern European Regional Conference on the Engineering o
 f Computer Based Systems
URL:http://www.wikicfp.com/cfp/servlet/event.showcfp?eventid=43912&copyow
 nerid=76920
UID:cfp520310-D@wikicfp.com
END:VEVENT
BEGIN:VEVENT
DTSTAMP:20260421T045753Z
DTSTART;VALUE=DATE:20150517
SUMMARY:ECBS-EERC 2015 Notification Due
DESCRIPTION:4th Eastern European Regional Conference on the Engineering o
 f Computer Based Systems
URL:http://www.wikicfp.com/cfp/servlet/event.showcfp?eventid=43912&copyow
 nerid=76920
UID:cfp520310-N@wikicfp.com
END:VEVENT
BEGIN:VEVENT
DTSTAMP:20260421T045753Z
DTSTART;VALUE=DATE:20150614
SUMMARY:ECBS-EERC 2015 Final Version Due
DESCRIPTION:4th Eastern European Regional Conference on the Engineering o
 f Computer Based Systems
URL:http://www.wikicfp.com/cfp/servlet/event.showcfp?eventid=43912&copyow
 nerid=76920
UID:cfp520310-N@wikicfp.com
END:VEVENT
BEGIN:VEVENT
DTSTAMP:20260421T045753Z
DTSTART;VALUE=DATE:20150905
DTEND;VALUE=DATE:20150907
SUMMARY:CISAK 2015
DESCRIPTION:The 8th Conference of Indonesian Student Association in Korea
 
URL:http://www.wikicfp.com/cfp/servlet/event.showcfp?eventid=44017&copyow
 nerid=76920
UID:cfp520311-E@wikicfp.com
END:VEVENT
BEGIN:VEVENT
DTSTAMP:20260421T045753Z
DTSTART;VALUE=DATE:20150413
SUMMARY:CISAK 2015 Deadline
DESCRIPTION:The 8th Conference of Indonesian Student Association in Korea
 
URL:http://www.wikicfp.com/cfp/servlet/event.showcfp?eventid=44017&copyow
 nerid=76920
UID:cfp520311-D@wikicfp.com
END:VEVENT
BEGIN:VEVENT
DTSTAMP:20260421T045753Z
DTSTART;VALUE=DATE:20150720
SUMMARY:CISAK 2015 Notification Due
DESCRIPTION:The 8th Conference of Indonesian Student Association in Korea
 
URL:http://www.wikicfp.com/cfp/servlet/event.showcfp?eventid=44017&copyow
 nerid=76920
UID:cfp520311-N@wikicfp.com
END:VEVENT
BEGIN:VEVENT
DTSTAMP:20260421T045753Z
DTSTART;VALUE=DATE:20150620
DTEND;VALUE=DATE:20150621
SUMMARY: KR4HC / ProHealth 2015
DESCRIPTION: KR4HCâ15 / ProHealthâ15 (in conjunction with AIME'15)
URL:http://www.wikicfp.com/cfp/servlet/event.showcfp?eventid=44851&copyow
 nerid=76920
UID:cfp520316-E@wikicfp.com
END:VEVENT
BEGIN:VEVENT
DTSTAMP:20260421T045753Z
DTSTART;VALUE=DATE:20150413
SUMMARY: KR4HC / ProHealth 2015 Deadline
DESCRIPTION: KR4HCâ15 / ProHealthâ15 (in conjunction with AIME'15)
URL:http://www.wikicfp.com/cfp/servlet/event.showcfp?eventid=44851&copyow
 nerid=76920
UID:cfp520316-D@wikicfp.com
END:VEVENT
BEGIN:VEVENT
DTSTAMP:20260421T045753Z
DTSTART;VALUE=DATE:20150511
SUMMARY: KR4HC / ProHealth 2015 Notification Due
DESCRIPTION: KR4HCâ15 / ProHealthâ15 (in conjunction with AIME'15)
URL:http://www.wikicfp.com/cfp/servlet/event.showcfp?eventid=44851&copyow
 nerid=76920
UID:cfp520316-N@wikicfp.com
END:VEVENT
BEGIN:VEVENT
DTSTAMP:20260421T045753Z
DTSTART;VALUE=DATE:20150605
SUMMARY: KR4HC / ProHealth 2015 Final Version Due
DESCRIPTION: KR4HCâ15 / ProHealthâ15 (in conjunction with AIME'15)
URL:http://www.wikicfp.com/cfp/servlet/event.showcfp?eventid=44851&copyow
 nerid=76920
UID:cfp520316-N@wikicfp.com
END:VEVENT
BEGIN:VEVENT
DTSTAMP:20260421T045753Z
DTSTART;VALUE=DATE:20150923
DTEND;VALUE=DATE:20150926
SUMMARY:IIH-MSP 2015
DESCRIPTION:The Eleventh International Conference on Intelligent Informat
 ion Hiding and Multimedia Signal Processing
URL:http://www.wikicfp.com/cfp/servlet/event.showcfp?eventid=44764&copyow
 nerid=76920
UID:cfp520318-E@wikicfp.com
END:VEVENT
BEGIN:VEVENT
DTSTAMP:20260421T045753Z
DTSTART;VALUE=DATE:20150415
SUMMARY:IIH-MSP 2015 Deadline
DESCRIPTION:The Eleventh International Conference on Intelligent Informat
 ion Hiding and Multimedia Signal Processing
URL:http://www.wikicfp.com/cfp/servlet/event.showcfp?eventid=44764&copyow
 nerid=76920
UID:cfp520318-D@wikicfp.com
END:VEVENT
BEGIN:VEVENT
DTSTAMP:20260421T045753Z
DTSTART;VALUE=DATE:20150601
SUMMARY:IIH-MSP 2015 Notification Due
DESCRIPTION:The Eleventh International Conference on Intelligent Informat
 ion Hiding and Multimedia Signal Processing
URL:http://www.wikicfp.com/cfp/servlet/event.showcfp?eventid=44764&copyow
 nerid=76920
UID:cfp520318-N@wikicfp.com
END:VEVENT
BEGIN:VEVENT
DTSTAMP:20260421T045753Z
DTSTART;VALUE=DATE:20150701
SUMMARY:IIH-MSP 2015 Final Version Due
DESCRIPTION:The Eleventh International Conference on Intelligent Informat
 ion Hiding and Multimedia Signal Processing
URL:http://www.wikicfp.com/cfp/servlet/event.showcfp?eventid=44764&copyow
 nerid=76920
UID:cfp520318-N@wikicfp.com
END:VEVENT
BEGIN:VEVENT
DTSTAMP:20260421T045753Z
DTSTART;VALUE=DATE:20150720
DTEND;VALUE=DATE:20150722
SUMMARY:ICCSS 2015
DESCRIPTION:2015 5th International Conference on Circuits\, System and Si
 mulation
URL:http://www.wikicfp.com/cfp/servlet/event.showcfp?eventid=42472&copyow
 nerid=76920
UID:cfp520303-E@wikicfp.com
END:VEVENT
BEGIN:VEVENT
DTSTAMP:20260421T045753Z
DTSTART;VALUE=DATE:20150530
SUMMARY:ICCSS 2015 Deadline
DESCRIPTION:2015 5th International Conference on Circuits\, System and Si
 mulation
URL:http://www.wikicfp.com/cfp/servlet/event.showcfp?eventid=42472&copyow
 nerid=76920
UID:cfp520303-D@wikicfp.com
END:VEVENT
BEGIN:VEVENT
DTSTAMP:20260421T045753Z
DTSTART;VALUE=DATE:20150615
SUMMARY:ICCSS 2015 Notification Due
DESCRIPTION:2015 5th International Conference on Circuits\, System and Si
 mulation
URL:http://www.wikicfp.com/cfp/servlet/event.showcfp?eventid=42472&copyow
 nerid=76920
UID:cfp520303-N@wikicfp.com
END:VEVENT
BEGIN:VEVENT
DTSTAMP:20260421T045753Z
DTSTART;VALUE=DATE:20150625
SUMMARY:ICCSS 2015 Final Version Due
DESCRIPTION:2015 5th International Conference on Circuits\, System and Si
 mulation
URL:http://www.wikicfp.com/cfp/servlet/event.showcfp?eventid=42472&copyow
 nerid=76920
UID:cfp520303-N@wikicfp.com
END:VEVENT
BEGIN:VEVENT
DTSTAMP:20260421T045753Z
DTSTART;VALUE=DATE:20150730
SUMMARY:JoMI 2015 Deadline
DESCRIPTION:Journal of Machine Intelligence (JoMI)
URL:http://www.wikicfp.com/cfp/servlet/event.showcfp?eventid=45025&copyow
 nerid=76920
UID:cfp520317-D@wikicfp.com
END:VEVENT
BEGIN:VEVENT
DTSTAMP:20260421T045753Z
DTSTART;VALUE=DATE:20150820
SUMMARY:JoMI 2015 Notification Due
DESCRIPTION:Journal of Machine Intelligence (JoMI)
URL:http://www.wikicfp.com/cfp/servlet/event.showcfp?eventid=45025&copyow
 nerid=76920
UID:cfp520317-N@wikicfp.com
END:VEVENT
BEGIN:VEVENT
DTSTAMP:20260421T045753Z
DTSTART;VALUE=DATE:20150830
SUMMARY:JoMI 2015 Final Version Due
DESCRIPTION:Journal of Machine Intelligence (JoMI)
URL:http://www.wikicfp.com/cfp/servlet/event.showcfp?eventid=45025&copyow
 nerid=76920
UID:cfp520317-N@wikicfp.com
END:VEVENT
BEGIN:VEVENT
DTSTAMP:20260421T045753Z
DTSTART;VALUE=DATE:20150807
SUMMARY:IJFCST 2015 Deadline
DESCRIPTION:International Journal in Foundations of Computer Science & Te
 chnology
URL:http://www.wikicfp.com/cfp/servlet/event.showcfp?eventid=39795&copyow
 nerid=76920
UID:cfp520298-D@wikicfp.com
END:VEVENT
BEGIN:VEVENT
DTSTAMP:20260421T045753Z
DTSTART;VALUE=DATE:20150907
SUMMARY:IJFCST 2015 Notification Due
DESCRIPTION:International Journal in Foundations of Computer Science & Te
 chnology
URL:http://www.wikicfp.com/cfp/servlet/event.showcfp?eventid=39795&copyow
 nerid=76920
UID:cfp520298-N@wikicfp.com
END:VEVENT
BEGIN:VEVENT
DTSTAMP:20260421T045753Z
DTSTART;VALUE=DATE:20150915
SUMMARY:IJFCST 2015 Final Version Due
DESCRIPTION:International Journal in Foundations of Computer Science & Te
 chnology
URL:http://www.wikicfp.com/cfp/servlet/event.showcfp?eventid=39795&copyow
 nerid=76920
UID:cfp520298-N@wikicfp.com
END:VEVENT
BEGIN:VEVENT
DTSTAMP:20260421T045753Z
DTSTART;VALUE=DATE:20150905
SUMMARY:IJAIA 2015 Deadline
DESCRIPTION:International Journal of Artificial Intelligence & Applicatio
 ns
URL:http://www.wikicfp.com/cfp/servlet/event.showcfp?eventid=40497&copyow
 nerid=76920
UID:cfp520299-D@wikicfp.com
END:VEVENT
BEGIN:VEVENT
DTSTAMP:20260421T045753Z
DTSTART;VALUE=DATE:20151005
SUMMARY:IJAIA 2015 Notification Due
DESCRIPTION:International Journal of Artificial Intelligence & Applicatio
 ns
URL:http://www.wikicfp.com/cfp/servlet/event.showcfp?eventid=40497&copyow
 nerid=76920
UID:cfp520299-N@wikicfp.com
END:VEVENT
BEGIN:VEVENT
DTSTAMP:20260421T045753Z
DTSTART;VALUE=DATE:20151015
SUMMARY:IJAIA 2015 Final Version Due
DESCRIPTION:International Journal of Artificial Intelligence & Applicatio
 ns
URL:http://www.wikicfp.com/cfp/servlet/event.showcfp?eventid=40497&copyow
 nerid=76920
UID:cfp520299-N@wikicfp.com
END:VEVENT
BEGIN:VEVENT
DTSTAMP:20260421T045753Z
DTSTART;VALUE=DATE:20151013
SUMMARY:CSEIJ 2015 Deadline
DESCRIPTION:Computer Science & Engineering: An International Journal
URL:http://www.wikicfp.com/cfp/servlet/event.showcfp?eventid=41127&copyow
 nerid=76920
UID:cfp520301-D@wikicfp.com
END:VEVENT
BEGIN:VEVENT
DTSTAMP:20260421T045753Z
DTSTART;VALUE=DATE:20151113
SUMMARY:CSEIJ 2015 Notification Due
DESCRIPTION:Computer Science & Engineering: An International Journal
URL:http://www.wikicfp.com/cfp/servlet/event.showcfp?eventid=41127&copyow
 nerid=76920
UID:cfp520301-N@wikicfp.com
END:VEVENT
BEGIN:VEVENT
DTSTAMP:20260421T045753Z
DTSTART;VALUE=DATE:20151121
SUMMARY:CSEIJ 2015 Final Version Due
DESCRIPTION:Computer Science & Engineering: An International Journal
URL:http://www.wikicfp.com/cfp/servlet/event.showcfp?eventid=41127&copyow
 nerid=76920
UID:cfp520301-N@wikicfp.com
END:VEVENT
BEGIN:VEVENT
DTSTAMP:20260421T045753Z
DTSTART;VALUE=DATE:20160115
SUMMARY:JEDT 2015 Deadline
DESCRIPTION:International Journal of Electronic Design and Test
URL:http://www.wikicfp.com/cfp/servlet/event.showcfp?eventid=43005&copyow
 nerid=76920
UID:cfp520306-D@wikicfp.com
END:VEVENT
BEGIN:VEVENT
DTSTAMP:20260421T045753Z
DTSTART;VALUE=DATE:20160215
SUMMARY:JEDT 2015 Notification Due
DESCRIPTION:International Journal of Electronic Design and Test
URL:http://www.wikicfp.com/cfp/servlet/event.showcfp?eventid=43005&copyow
 nerid=76920
UID:cfp520306-N@wikicfp.com
END:VEVENT
BEGIN:VEVENT
DTSTAMP:20260421T045753Z
DTSTART;VALUE=DATE:20160223
SUMMARY:JEDT 2015 Final Version Due
DESCRIPTION:International Journal of Electronic Design and Test
URL:http://www.wikicfp.com/cfp/servlet/event.showcfp?eventid=43005&copyow
 nerid=76920
UID:cfp520306-N@wikicfp.com
END:VEVENT
BEGIN:VEVENT
DTSTAMP:20260421T045753Z
DTSTART;VALUE=DATE:20160129
SUMMARY:IJCSES 2016 Deadline
DESCRIPTION:International Journal of Computer Science and Engineering Sur
 vey
URL:http://www.wikicfp.com/cfp/servlet/event.showcfp?eventid=43417&copyow
 nerid=76920
UID:cfp520308-D@wikicfp.com
END:VEVENT
BEGIN:VEVENT
DTSTAMP:20260421T045753Z
DTSTART;VALUE=DATE:20160228
SUMMARY:IJCSES 2016 Notification Due
DESCRIPTION:International Journal of Computer Science and Engineering Sur
 vey
URL:http://www.wikicfp.com/cfp/servlet/event.showcfp?eventid=43417&copyow
 nerid=76920
UID:cfp520308-N@wikicfp.com
END:VEVENT
BEGIN:VEVENT
DTSTAMP:20260421T045753Z
DTSTART;VALUE=DATE:20160308
SUMMARY:IJCSES 2016 Final Version Due
DESCRIPTION:International Journal of Computer Science and Engineering Sur
 vey
URL:http://www.wikicfp.com/cfp/servlet/event.showcfp?eventid=43417&copyow
 nerid=76920
UID:cfp520308-N@wikicfp.com
END:VEVENT
BEGIN:VEVENT
DTSTAMP:20260421T045753Z
DTSTART;VALUE=DATE:20160213
SUMMARY:IJCSEIT 2016 Deadline
DESCRIPTION:International Journal of Computer Science\, Engineering and I
 nformation Technology
URL:http://www.wikicfp.com/cfp/servlet/event.showcfp?eventid=43910&copyow
 nerid=76920
UID:cfp520309-D@wikicfp.com
END:VEVENT
BEGIN:VEVENT
DTSTAMP:20260421T045753Z
DTSTART;VALUE=DATE:20160313
SUMMARY:IJCSEIT 2016 Notification Due
DESCRIPTION:International Journal of Computer Science\, Engineering and I
 nformation Technology
URL:http://www.wikicfp.com/cfp/servlet/event.showcfp?eventid=43910&copyow
 nerid=76920
UID:cfp520309-N@wikicfp.com
END:VEVENT
BEGIN:VEVENT
DTSTAMP:20260421T045753Z
DTSTART;VALUE=DATE:20160321
SUMMARY:IJCSEIT 2016 Final Version Due
DESCRIPTION:International Journal of Computer Science\, Engineering and I
 nformation Technology
URL:http://www.wikicfp.com/cfp/servlet/event.showcfp?eventid=43910&copyow
 nerid=76920
UID:cfp520309-N@wikicfp.com
END:VEVENT
BEGIN:VEVENT
DTSTAMP:20260421T045753Z
DTSTART;VALUE=DATE:20181030
SUMMARY:IJCS 2018 Deadline
DESCRIPTION:International Journal of Computer Systems
URL:http://www.wikicfp.com/cfp/servlet/event.showcfp?eventid=41213&copyow
 nerid=76920
UID:cfp520302-D@wikicfp.com
END:VEVENT
END:VCALENDAR
