BEGIN:VCALENDAR
PRODID:-//WikiCFP//LixSeven 1.0//EN
VERSION:2.0
CALSCALE:GREGORIAN
BEGIN:VEVENT
DTSTAMP:20260423T133550Z
DTSTART;VALUE=DATE:20080916
DTEND;VALUE=DATE:20080920
SUMMARY:DocEng 2008
DESCRIPTION:Symposium on Document Engineering
URL:http://www.wikicfp.com/cfp/servlet/event.showcfp?eventid=1956&copyown
 erid=764
UID:cfp7087-E@wikicfp.com
END:VEVENT
BEGIN:VEVENT
DTSTAMP:20260423T133550Z
DTSTART;VALUE=DATE:20080505
SUMMARY:DocEng 2008 Deadline
DESCRIPTION:Symposium on Document Engineering
URL:http://www.wikicfp.com/cfp/servlet/event.showcfp?eventid=1956&copyown
 erid=764
UID:cfp7087-D@wikicfp.com
END:VEVENT
BEGIN:VEVENT
DTSTAMP:20260423T133550Z
DTSTART;VALUE=DATE:20080922
DTEND;VALUE=DATE:20080925
SUMMARY:STEP 2008
DESCRIPTION:Symposium on Semantics in Systems for Text Processing
URL:http://www.wikicfp.com/cfp/servlet/event.showcfp?eventid=2468&copyown
 erid=764
UID:cfp7090-E@wikicfp.com
END:VEVENT
BEGIN:VEVENT
DTSTAMP:20260423T133550Z
DTSTART;VALUE=DATE:20080509
SUMMARY:STEP 2008 Deadline
DESCRIPTION:Symposium on Semantics in Systems for Text Processing
URL:http://www.wikicfp.com/cfp/servlet/event.showcfp?eventid=2468&copyown
 erid=764
UID:cfp7090-D@wikicfp.com
END:VEVENT
BEGIN:VEVENT
DTSTAMP:20260423T133550Z
DTSTART;VALUE=DATE:20080623
SUMMARY:STEP 2008 Notification Due
DESCRIPTION:Symposium on Semantics in Systems for Text Processing
URL:http://www.wikicfp.com/cfp/servlet/event.showcfp?eventid=2468&copyown
 erid=764
UID:cfp7090-N@wikicfp.com
END:VEVENT
BEGIN:VEVENT
DTSTAMP:20260423T133550Z
DTSTART;VALUE=DATE:20081014
DTEND;VALUE=DATE:20081018
SUMMARY:IBERAMIA 2008
DESCRIPTION:11th Ibero-American Conference on Artificial Intelligence
URL:http://www.wikicfp.com/cfp/servlet/event.showcfp?eventid=2090&copyown
 erid=764
UID:cfp7088-E@wikicfp.com
END:VEVENT
BEGIN:VEVENT
DTSTAMP:20260423T133550Z
DTSTART;VALUE=DATE:20080519
SUMMARY:IBERAMIA 2008 Deadline
DESCRIPTION:11th Ibero-American Conference on Artificial Intelligence
URL:http://www.wikicfp.com/cfp/servlet/event.showcfp?eventid=2090&copyown
 erid=764
UID:cfp7088-D@wikicfp.com
END:VEVENT
BEGIN:VEVENT
DTSTAMP:20260423T133550Z
DTSTART;VALUE=DATE:20080630
SUMMARY:IBERAMIA 2008 Notification Due
DESCRIPTION:11th Ibero-American Conference on Artificial Intelligence
URL:http://www.wikicfp.com/cfp/servlet/event.showcfp?eventid=2090&copyown
 erid=764
UID:cfp7088-N@wikicfp.com
END:VEVENT
BEGIN:VEVENT
DTSTAMP:20260423T133550Z
DTSTART;VALUE=DATE:20081215
DTEND;VALUE=DATE:20081220
SUMMARY:ICDM 2008
DESCRIPTION:The 8th IEEE International Conference on Data Mining
URL:http://www.wikicfp.com/cfp/servlet/event.showcfp?eventid=2140&copyown
 erid=764
UID:cfp7089-E@wikicfp.com
END:VEVENT
BEGIN:VEVENT
DTSTAMP:20260423T133550Z
DTSTART;VALUE=DATE:20080707
SUMMARY:ICDM 2008 Deadline
DESCRIPTION:The 8th IEEE International Conference on Data Mining
URL:http://www.wikicfp.com/cfp/servlet/event.showcfp?eventid=2140&copyown
 erid=764
UID:cfp7089-D@wikicfp.com
END:VEVENT
BEGIN:VEVENT
DTSTAMP:20260423T133550Z
DTSTART;VALUE=DATE:20080915
SUMMARY:ICDM 2008 Notification Due
DESCRIPTION:The 8th IEEE International Conference on Data Mining
URL:http://www.wikicfp.com/cfp/servlet/event.showcfp?eventid=2140&copyown
 erid=764
UID:cfp7089-N@wikicfp.com
END:VEVENT
END:VCALENDAR
