BEGIN:VCALENDAR
PRODID:-//WikiCFP//BT 1.0//EN
VERSION:2.0
CALSCALE:GREGORIAN
BEGIN:VEVENT
DTSTAMP:20260422T014807Z
DTSTART;VALUE=DATE:20150525
SUMMARY:JEST 2015 Deadline
DESCRIPTION:Special Section on Energy-Efficient TechnologiesâCrowd Ener
 gy Applications
URL:http://www.wikicfp.com/cfp/servlet/event.showcfp?eventid=44902&copyow
 nerid=76356
UID:cfp516501-D@wikicfp.com
END:VEVENT
BEGIN:VEVENT
DTSTAMP:20260422T014807Z
DTSTART;VALUE=DATE:20150630
SUMMARY:JEST 2015 Notification Due
DESCRIPTION:Special Section on Energy-Efficient TechnologiesâCrowd Ener
 gy Applications
URL:http://www.wikicfp.com/cfp/servlet/event.showcfp?eventid=44902&copyow
 nerid=76356
UID:cfp516501-N@wikicfp.com
END:VEVENT
BEGIN:VEVENT
DTSTAMP:20260422T014807Z
DTSTART;VALUE=DATE:20150730
SUMMARY:JEST 2015 Final Version Due
DESCRIPTION:Special Section on Energy-Efficient TechnologiesâCrowd Ener
 gy Applications
URL:http://www.wikicfp.com/cfp/servlet/event.showcfp?eventid=44902&copyow
 nerid=76356
UID:cfp516501-N@wikicfp.com
END:VEVENT
BEGIN:VEVENT
DTSTAMP:20260422T014807Z
DTSTART;VALUE=DATE:20170730
SUMMARY:EET - CEA 2017 Deadline
DESCRIPTION:Energy-Efficient TechnologiesâCrowd Energy Applications
URL:http://www.wikicfp.com/cfp/servlet/event.showcfp?eventid=60439&copyow
 nerid=76356
UID:cfp641453-D@wikicfp.com
END:VEVENT
BEGIN:VEVENT
DTSTAMP:20260422T014807Z
DTSTART;VALUE=DATE:20170813
SUMMARY:EET - CEA 2017 Notification Due
DESCRIPTION:Energy-Efficient TechnologiesâCrowd Energy Applications
URL:http://www.wikicfp.com/cfp/servlet/event.showcfp?eventid=60439&copyow
 nerid=76356
UID:cfp641453-N@wikicfp.com
END:VEVENT
BEGIN:VEVENT
DTSTAMP:20260422T014807Z
DTSTART;VALUE=DATE:20170831
SUMMARY:EET - CEA 2017 Final Version Due
DESCRIPTION:Energy-Efficient TechnologiesâCrowd Energy Applications
URL:http://www.wikicfp.com/cfp/servlet/event.showcfp?eventid=60439&copyow
 nerid=76356
UID:cfp641453-N@wikicfp.com
END:VEVENT
BEGIN:VEVENT
DTSTAMP:20260422T014807Z
DTSTART;VALUE=DATE:20190630
SUMMARY:EET-CEA 2019 Deadline
DESCRIPTION:Energy-Efficient Technologies â Crowd Energy Applications
URL:http://www.wikicfp.com/cfp/servlet/event.showcfp?eventid=86865&copyow
 nerid=76356
UID:cfp775713-D@wikicfp.com
END:VEVENT
BEGIN:VEVENT
DTSTAMP:20260422T014807Z
DTSTART;VALUE=DATE:20190731
SUMMARY:EET-CEA 2019 Notification Due
DESCRIPTION:Energy-Efficient Technologies â Crowd Energy Applications
URL:http://www.wikicfp.com/cfp/servlet/event.showcfp?eventid=86865&copyow
 nerid=76356
UID:cfp775713-N@wikicfp.com
END:VEVENT
BEGIN:VEVENT
DTSTAMP:20260422T014807Z
DTSTART;VALUE=DATE:20190831
SUMMARY:EET-CEA 2019 Final Version Due
DESCRIPTION:Energy-Efficient Technologies â Crowd Energy Applications
URL:http://www.wikicfp.com/cfp/servlet/event.showcfp?eventid=86865&copyow
 nerid=76356
UID:cfp775713-N@wikicfp.com
END:VEVENT
END:VCALENDAR
