BEGIN:VCALENDAR
PRODID:-//WikiCFP//jamweak 1.0//EN
VERSION:2.0
CALSCALE:GREGORIAN
BEGIN:VEVENT
DTSTAMP:20260420T115008Z
DTSTART;VALUE=DATE:20151206
DTEND;VALUE=DATE:20151211
SUMMARY:GLOBECOM 2015
DESCRIPTION:IEEE Global Communications Conference
URL:http://www.wikicfp.com/cfp/servlet/event.showcfp?eventid=41092&copyow
 nerid=76285
UID:cfp516008-E@wikicfp.com
END:VEVENT
BEGIN:VEVENT
DTSTAMP:20260420T115008Z
DTSTART;VALUE=DATE:20150401
SUMMARY:GLOBECOM 2015 Deadline
DESCRIPTION:IEEE Global Communications Conference
URL:http://www.wikicfp.com/cfp/servlet/event.showcfp?eventid=41092&copyow
 nerid=76285
UID:cfp516008-D@wikicfp.com
END:VEVENT
BEGIN:VEVENT
DTSTAMP:20260420T115008Z
DTSTART;VALUE=DATE:20150701
SUMMARY:GLOBECOM 2015 Notification Due
DESCRIPTION:IEEE Global Communications Conference
URL:http://www.wikicfp.com/cfp/servlet/event.showcfp?eventid=41092&copyow
 nerid=76285
UID:cfp516008-N@wikicfp.com
END:VEVENT
BEGIN:VEVENT
DTSTAMP:20260420T115008Z
DTSTART;VALUE=DATE:20151019
DTEND;VALUE=DATE:20151023
SUMMARY:MASS 2015
DESCRIPTION:12th IEEE International Conference on Mobile Ad hoc and Senso
 r Systems
URL:http://www.wikicfp.com/cfp/servlet/event.showcfp?eventid=44444&copyow
 nerid=76285
UID:cfp516398-E@wikicfp.com
END:VEVENT
BEGIN:VEVENT
DTSTAMP:20260420T115008Z
DTSTART;VALUE=DATE:20150403
SUMMARY:MASS 2015 Deadline
DESCRIPTION:12th IEEE International Conference on Mobile Ad hoc and Senso
 r Systems
URL:http://www.wikicfp.com/cfp/servlet/event.showcfp?eventid=44444&copyow
 nerid=76285
UID:cfp516398-D@wikicfp.com
END:VEVENT
BEGIN:VEVENT
DTSTAMP:20260420T115008Z
DTSTART;VALUE=DATE:20150830
DTEND;VALUE=DATE:20150903
SUMMARY:PIMRC 2015
DESCRIPTION:IEEE International Symposium on Personal\, Indoor and Mobile 
 Radio Communications (PIMRC) 2015
URL:http://www.wikicfp.com/cfp/servlet/event.showcfp?eventid=42463&copyow
 nerid=76285
UID:cfp516007-E@wikicfp.com
END:VEVENT
BEGIN:VEVENT
DTSTAMP:20260420T115008Z
DTSTART;VALUE=DATE:20150415
SUMMARY:PIMRC 2015 Deadline
DESCRIPTION:IEEE International Symposium on Personal\, Indoor and Mobile 
 Radio Communications (PIMRC) 2015
URL:http://www.wikicfp.com/cfp/servlet/event.showcfp?eventid=42463&copyow
 nerid=76285
UID:cfp516007-D@wikicfp.com
END:VEVENT
BEGIN:VEVENT
DTSTAMP:20260420T115008Z
DTSTART;VALUE=DATE:20150615
SUMMARY:PIMRC 2015 Notification Due
DESCRIPTION:IEEE International Symposium on Personal\, Indoor and Mobile 
 Radio Communications (PIMRC) 2015
URL:http://www.wikicfp.com/cfp/servlet/event.showcfp?eventid=42463&copyow
 nerid=76285
UID:cfp516007-N@wikicfp.com
END:VEVENT
BEGIN:VEVENT
DTSTAMP:20260420T115008Z
DTSTART;VALUE=DATE:20150706
SUMMARY:PIMRC 2015 Final Version Due
DESCRIPTION:IEEE International Symposium on Personal\, Indoor and Mobile 
 Radio Communications (PIMRC) 2015
URL:http://www.wikicfp.com/cfp/servlet/event.showcfp?eventid=42463&copyow
 nerid=76285
UID:cfp516007-N@wikicfp.com
END:VEVENT
BEGIN:VEVENT
DTSTAMP:20260420T115008Z
DTSTART;VALUE=DATE:20150828
DTEND;VALUE=DATE:20150831
SUMMARY:AdHocNets 2015
DESCRIPTION:7th International Conference on Ad Hoc Networks
URL:http://www.wikicfp.com/cfp/servlet/event.showcfp?eventid=41086&copyow
 nerid=76285
UID:cfp516010-E@wikicfp.com
END:VEVENT
BEGIN:VEVENT
DTSTAMP:20260420T115008Z
DTSTART;VALUE=DATE:20150515
SUMMARY:AdHocNets 2015 Deadline
DESCRIPTION:7th International Conference on Ad Hoc Networks
URL:http://www.wikicfp.com/cfp/servlet/event.showcfp?eventid=41086&copyow
 nerid=76285
UID:cfp516010-D@wikicfp.com
END:VEVENT
BEGIN:VEVENT
DTSTAMP:20260420T115008Z
DTSTART;VALUE=DATE:20150630
SUMMARY:AdHocNets 2015 Notification Due
DESCRIPTION:7th International Conference on Ad Hoc Networks
URL:http://www.wikicfp.com/cfp/servlet/event.showcfp?eventid=41086&copyow
 nerid=76285
UID:cfp516010-N@wikicfp.com
END:VEVENT
BEGIN:VEVENT
DTSTAMP:20260420T115008Z
DTSTART;VALUE=DATE:20150715
SUMMARY:AdHocNets 2015 Final Version Due
DESCRIPTION:7th International Conference on Ad Hoc Networks
URL:http://www.wikicfp.com/cfp/servlet/event.showcfp?eventid=41086&copyow
 nerid=76285
UID:cfp516010-N@wikicfp.com
END:VEVENT
END:VCALENDAR
