BEGIN:VCALENDAR
PRODID:-//WikiCFP//badknight31 1.0//EN
VERSION:2.0
CALSCALE:GREGORIAN
BEGIN:VEVENT
DTSTAMP:20260425T141807Z
DTSTART;VALUE=DATE:20151017
DTEND;VALUE=DATE:20151019
SUMMARY:BCEE 2015
DESCRIPTION:The Second International Conference on Buildings\, Constructi
 on and Environmental Engineering
URL:http://www.wikicfp.com/cfp/servlet/event.showcfp?eventid=43878&copyow
 nerid=75391
UID:cfp510194-E@wikicfp.com
END:VEVENT
BEGIN:VEVENT
DTSTAMP:20260425T141807Z
DTSTART;VALUE=DATE:20150301
SUMMARY:BCEE 2015 Deadline
DESCRIPTION:The Second International Conference on Buildings\, Constructi
 on and Environmental Engineering
URL:http://www.wikicfp.com/cfp/servlet/event.showcfp?eventid=43878&copyow
 nerid=75391
UID:cfp510194-D@wikicfp.com
END:VEVENT
BEGIN:VEVENT
DTSTAMP:20260425T141807Z
DTSTART;VALUE=DATE:20150401
SUMMARY:BCEE 2015 Notification Due
DESCRIPTION:The Second International Conference on Buildings\, Constructi
 on and Environmental Engineering
URL:http://www.wikicfp.com/cfp/servlet/event.showcfp?eventid=43878&copyow
 nerid=75391
UID:cfp510194-N@wikicfp.com
END:VEVENT
BEGIN:VEVENT
DTSTAMP:20260425T141807Z
DTSTART;VALUE=DATE:20150601
SUMMARY:BCEE 2015 Final Version Due
DESCRIPTION:The Second International Conference on Buildings\, Constructi
 on and Environmental Engineering
URL:http://www.wikicfp.com/cfp/servlet/event.showcfp?eventid=43878&copyow
 nerid=75391
UID:cfp510194-N@wikicfp.com
END:VEVENT
BEGIN:VEVENT
DTSTAMP:20260425T141807Z
DTSTART;VALUE=DATE:20150310
SUMMARY:CiVEJ 2015 Deadline
DESCRIPTION:Civil Engineering and Urban Planning: An International Journa
 l
URL:http://www.wikicfp.com/cfp/servlet/event.showcfp?eventid=36687&copyow
 nerid=75391
UID:cfp510190-D@wikicfp.com
END:VEVENT
BEGIN:VEVENT
DTSTAMP:20260425T141807Z
DTSTART;VALUE=DATE:20150410
SUMMARY:CiVEJ 2015 Notification Due
DESCRIPTION:Civil Engineering and Urban Planning: An International Journa
 l
URL:http://www.wikicfp.com/cfp/servlet/event.showcfp?eventid=36687&copyow
 nerid=75391
UID:cfp510190-N@wikicfp.com
END:VEVENT
BEGIN:VEVENT
DTSTAMP:20260425T141807Z
DTSTART;VALUE=DATE:20150417
SUMMARY:CiVEJ 2015 Final Version Due
DESCRIPTION:Civil Engineering and Urban Planning: An International Journa
 l
URL:http://www.wikicfp.com/cfp/servlet/event.showcfp?eventid=36687&copyow
 nerid=75391
UID:cfp510190-N@wikicfp.com
END:VEVENT
BEGIN:VEVENT
DTSTAMP:20260425T141807Z
DTSTART;VALUE=DATE:20151027
DTEND;VALUE=DATE:20151030
SUMMARY:CIB W78 2015
DESCRIPTION:CIB W78
URL:http://www.wikicfp.com/cfp/servlet/event.showcfp?eventid=42007&copyow
 nerid=75391
UID:cfp510191-E@wikicfp.com
END:VEVENT
BEGIN:VEVENT
DTSTAMP:20260425T141807Z
DTSTART;VALUE=DATE:20150126
SUMMARY:CIB W78 2015 Abstract Due
DESCRIPTION:CIB W78
URL:http://www.wikicfp.com/cfp/servlet/event.showcfp?eventid=42007&copyow
 nerid=75391
UID:cfp510191-A@wikicfp.com
END:VEVENT
BEGIN:VEVENT
DTSTAMP:20260425T141807Z
DTSTART;VALUE=DATE:20150328
SUMMARY:CIB W78 2015 Deadline
DESCRIPTION:CIB W78
URL:http://www.wikicfp.com/cfp/servlet/event.showcfp?eventid=42007&copyow
 nerid=75391
UID:cfp510191-D@wikicfp.com
END:VEVENT
BEGIN:VEVENT
DTSTAMP:20260425T141807Z
DTSTART;VALUE=DATE:20150504
SUMMARY:CIB W78 2015 Notification Due
DESCRIPTION:CIB W78
URL:http://www.wikicfp.com/cfp/servlet/event.showcfp?eventid=42007&copyow
 nerid=75391
UID:cfp510191-N@wikicfp.com
END:VEVENT
BEGIN:VEVENT
DTSTAMP:20260425T141807Z
DTSTART;VALUE=DATE:20150520
SUMMARY:CIB W78 2015 Final Version Due
DESCRIPTION:CIB W78
URL:http://www.wikicfp.com/cfp/servlet/event.showcfp?eventid=42007&copyow
 nerid=75391
UID:cfp510191-N@wikicfp.com
END:VEVENT
BEGIN:VEVENT
DTSTAMP:20260425T141807Z
DTSTART;VALUE=DATE:20150803
DTEND;VALUE=DATE:20150805
SUMMARY:ICCEM 2015
DESCRIPTION:2015 4th International Conference on Civil Engineering and Ma
 terials
URL:http://www.wikicfp.com/cfp/servlet/event.showcfp?eventid=43750&copyow
 nerid=75391
UID:cfp510193-E@wikicfp.com
END:VEVENT
BEGIN:VEVENT
DTSTAMP:20260425T141807Z
DTSTART;VALUE=DATE:20150520
SUMMARY:ICCEM 2015 Deadline
DESCRIPTION:2015 4th International Conference on Civil Engineering and Ma
 terials
URL:http://www.wikicfp.com/cfp/servlet/event.showcfp?eventid=43750&copyow
 nerid=75391
UID:cfp510193-D@wikicfp.com
END:VEVENT
BEGIN:VEVENT
DTSTAMP:20260425T141807Z
DTSTART;VALUE=DATE:20150610
SUMMARY:ICCEM 2015 Notification Due
DESCRIPTION:2015 4th International Conference on Civil Engineering and Ma
 terials
URL:http://www.wikicfp.com/cfp/servlet/event.showcfp?eventid=43750&copyow
 nerid=75391
UID:cfp510193-N@wikicfp.com
END:VEVENT
BEGIN:VEVENT
DTSTAMP:20260425T141807Z
DTSTART;VALUE=DATE:20150625
SUMMARY:ICCEM 2015 Final Version Due
DESCRIPTION:2015 4th International Conference on Civil Engineering and Ma
 terials
URL:http://www.wikicfp.com/cfp/servlet/event.showcfp?eventid=43750&copyow
 nerid=75391
UID:cfp510193-N@wikicfp.com
END:VEVENT
BEGIN:VEVENT
DTSTAMP:20260425T141807Z
DTSTART;VALUE=DATE:20160725
DTEND;VALUE=DATE:20160728
SUMMARY:4th GeoChina 2016
DESCRIPTION:4th GeoChina 2016 International Conference
URL:http://www.wikicfp.com/cfp/servlet/event.showcfp?eventid=42461&copyow
 nerid=75391
UID:cfp510192-E@wikicfp.com
END:VEVENT
BEGIN:VEVENT
DTSTAMP:20260425T141807Z
DTSTART;VALUE=DATE:20150415
SUMMARY:4th GeoChina 2016 Abstract Due
DESCRIPTION:4th GeoChina 2016 International Conference
URL:http://www.wikicfp.com/cfp/servlet/event.showcfp?eventid=42461&copyow
 nerid=75391
UID:cfp510192-A@wikicfp.com
END:VEVENT
BEGIN:VEVENT
DTSTAMP:20260425T141807Z
DTSTART;VALUE=DATE:20150930
SUMMARY:4th GeoChina 2016 Deadline
DESCRIPTION:4th GeoChina 2016 International Conference
URL:http://www.wikicfp.com/cfp/servlet/event.showcfp?eventid=42461&copyow
 nerid=75391
UID:cfp510192-D@wikicfp.com
END:VEVENT
BEGIN:VEVENT
DTSTAMP:20260425T141807Z
DTSTART;VALUE=DATE:20151220
SUMMARY:4th GeoChina 2016 Notification Due
DESCRIPTION:4th GeoChina 2016 International Conference
URL:http://www.wikicfp.com/cfp/servlet/event.showcfp?eventid=42461&copyow
 nerid=75391
UID:cfp510192-N@wikicfp.com
END:VEVENT
BEGIN:VEVENT
DTSTAMP:20260425T141807Z
DTSTART;VALUE=DATE:20160130
SUMMARY:4th GeoChina 2016 Final Version Due
DESCRIPTION:4th GeoChina 2016 International Conference
URL:http://www.wikicfp.com/cfp/servlet/event.showcfp?eventid=42461&copyow
 nerid=75391
UID:cfp510192-N@wikicfp.com
END:VEVENT
END:VCALENDAR
