BEGIN:VCALENDAR
PRODID:-//WikiCFP//moondjo 1.0//EN
VERSION:2.0
CALSCALE:GREGORIAN
BEGIN:VEVENT
DTSTAMP:20260424T210014Z
DTSTART;VALUE=DATE:20150709
DTEND;VALUE=DATE:20150713
SUMMARY:EBMC 2015
DESCRIPTION:The European Business and Management Conference 2015
URL:http://www.wikicfp.com/cfp/servlet/event.showcfp?eventid=41434&copyow
 nerid=75263
UID:cfp509512-E@wikicfp.com
END:VEVENT
BEGIN:VEVENT
DTSTAMP:20260424T210014Z
DTSTART;VALUE=DATE:20150315
SUMMARY:EBMC 2015 Deadline
DESCRIPTION:The European Business and Management Conference 2015
URL:http://www.wikicfp.com/cfp/servlet/event.showcfp?eventid=41434&copyow
 nerid=75263
UID:cfp509512-D@wikicfp.com
END:VEVENT
END:VCALENDAR
