BEGIN:VCALENDAR
PRODID:-//WikiCFP//syuhowdye 1.0//EN
VERSION:2.0
CALSCALE:GREGORIAN
BEGIN:VEVENT
DTSTAMP:20260424T090317Z
DTSTART;VALUE=DATE:20150706
DTEND;VALUE=DATE:20150710
SUMMARY:i-OPENLearn@ICALT 2015
DESCRIPTION:Call for Papers i-OPENLearn@ICALT2015 (Deadline for submissio
 ns: 20 January 2015)
URL:http://www.wikicfp.com/cfp/servlet/event.showcfp?eventid=41807&copyow
 nerid=75021
UID:cfp508137-E@wikicfp.com
END:VEVENT
BEGIN:VEVENT
DTSTAMP:20260424T090317Z
DTSTART;VALUE=DATE:20150120
SUMMARY:i-OPENLearn@ICALT 2015 Deadline
DESCRIPTION:Call for Papers i-OPENLearn@ICALT2015 (Deadline for submissio
 ns: 20 January 2015)
URL:http://www.wikicfp.com/cfp/servlet/event.showcfp?eventid=41807&copyow
 nerid=75021
UID:cfp508137-D@wikicfp.com
END:VEVENT
BEGIN:VEVENT
DTSTAMP:20260424T090317Z
DTSTART;VALUE=DATE:20150317
SUMMARY:i-OPENLearn@ICALT 2015 Notification Due
DESCRIPTION:Call for Papers i-OPENLearn@ICALT2015 (Deadline for submissio
 ns: 20 January 2015)
URL:http://www.wikicfp.com/cfp/servlet/event.showcfp?eventid=41807&copyow
 nerid=75021
UID:cfp508137-N@wikicfp.com
END:VEVENT
BEGIN:VEVENT
DTSTAMP:20260424T090317Z
DTSTART;VALUE=DATE:20150428
SUMMARY:i-OPENLearn@ICALT 2015 Final Version Due
DESCRIPTION:Call for Papers i-OPENLearn@ICALT2015 (Deadline for submissio
 ns: 20 January 2015)
URL:http://www.wikicfp.com/cfp/servlet/event.showcfp?eventid=41807&copyow
 nerid=75021
UID:cfp508137-N@wikicfp.com
END:VEVENT
BEGIN:VEVENT
DTSTAMP:20260424T090317Z
DTSTART;VALUE=DATE:20150706
DTEND;VALUE=DATE:20150709
SUMMARY:EDULEARN 2015
DESCRIPTION:7th International Conference on Education and New Learning Te
 chnologies
URL:http://www.wikicfp.com/cfp/servlet/event.showcfp?eventid=43117&copyow
 nerid=75021
UID:cfp508149-E@wikicfp.com
END:VEVENT
BEGIN:VEVENT
DTSTAMP:20260424T090317Z
DTSTART;VALUE=DATE:20150326
SUMMARY:EDULEARN 2015 Deadline
DESCRIPTION:7th International Conference on Education and New Learning Te
 chnologies
URL:http://www.wikicfp.com/cfp/servlet/event.showcfp?eventid=43117&copyow
 nerid=75021
UID:cfp508149-D@wikicfp.com
END:VEVENT
BEGIN:VEVENT
DTSTAMP:20260424T090317Z
DTSTART;VALUE=DATE:20150420
SUMMARY:EDULEARN 2015 Notification Due
DESCRIPTION:7th International Conference on Education and New Learning Te
 chnologies
URL:http://www.wikicfp.com/cfp/servlet/event.showcfp?eventid=43117&copyow
 nerid=75021
UID:cfp508149-N@wikicfp.com
END:VEVENT
BEGIN:VEVENT
DTSTAMP:20260424T090317Z
DTSTART;VALUE=DATE:20150521
SUMMARY:EDULEARN 2015 Final Version Due
DESCRIPTION:7th International Conference on Education and New Learning Te
 chnologies
URL:http://www.wikicfp.com/cfp/servlet/event.showcfp?eventid=43117&copyow
 nerid=75021
UID:cfp508149-N@wikicfp.com
END:VEVENT
BEGIN:VEVENT
DTSTAMP:20260424T090317Z
DTSTART;VALUE=DATE:20150923
DTEND;VALUE=DATE:20150926
SUMMARY:ICSLE 2015
DESCRIPTION:International Conference on Smart Learning Environments (ICSL
 E 2015)
URL:http://www.wikicfp.com/cfp/servlet/event.showcfp?eventid=41542&copyow
 nerid=75021
UID:cfp508150-E@wikicfp.com
END:VEVENT
BEGIN:VEVENT
DTSTAMP:20260424T090317Z
DTSTART;VALUE=DATE:20150410
SUMMARY:ICSLE 2015 Deadline
DESCRIPTION:International Conference on Smart Learning Environments (ICSL
 E 2015)
URL:http://www.wikicfp.com/cfp/servlet/event.showcfp?eventid=41542&copyow
 nerid=75021
UID:cfp508150-D@wikicfp.com
END:VEVENT
BEGIN:VEVENT
DTSTAMP:20260424T090317Z
DTSTART;VALUE=DATE:20150525
SUMMARY:ICSLE 2015 Notification Due
DESCRIPTION:International Conference on Smart Learning Environments (ICSL
 E 2015)
URL:http://www.wikicfp.com/cfp/servlet/event.showcfp?eventid=41542&copyow
 nerid=75021
UID:cfp508150-N@wikicfp.com
END:VEVENT
BEGIN:VEVENT
DTSTAMP:20260424T090317Z
DTSTART;VALUE=DATE:20150701
SUMMARY:ICSLE 2015 Final Version Due
DESCRIPTION:International Conference on Smart Learning Environments (ICSL
 E 2015)
URL:http://www.wikicfp.com/cfp/servlet/event.showcfp?eventid=41542&copyow
 nerid=75021
UID:cfp508150-N@wikicfp.com
END:VEVENT
BEGIN:VEVENT
DTSTAMP:20260424T090317Z
DTSTART;VALUE=DATE:20151130
DTEND;VALUE=DATE:20151205
SUMMARY:ICCE 2015
DESCRIPTION:The 23rd International Conference on Computers in Education
URL:http://www.wikicfp.com/cfp/servlet/event.showcfp?eventid=43654&copyow
 nerid=75021
UID:cfp508147-E@wikicfp.com
END:VEVENT
BEGIN:VEVENT
DTSTAMP:20260424T090317Z
DTSTART;VALUE=DATE:20150512
SUMMARY:ICCE 2015 Deadline
DESCRIPTION:The 23rd International Conference on Computers in Education
URL:http://www.wikicfp.com/cfp/servlet/event.showcfp?eventid=43654&copyow
 nerid=75021
UID:cfp508147-D@wikicfp.com
END:VEVENT
BEGIN:VEVENT
DTSTAMP:20260424T090317Z
DTSTART;VALUE=DATE:20150804
SUMMARY:ICCE 2015 Notification Due
DESCRIPTION:The 23rd International Conference on Computers in Education
URL:http://www.wikicfp.com/cfp/servlet/event.showcfp?eventid=43654&copyow
 nerid=75021
UID:cfp508147-N@wikicfp.com
END:VEVENT
BEGIN:VEVENT
DTSTAMP:20260424T090317Z
DTSTART;VALUE=DATE:20150830
SUMMARY:ICCE 2015 Final Version Due
DESCRIPTION:The 23rd International Conference on Computers in Education
URL:http://www.wikicfp.com/cfp/servlet/event.showcfp?eventid=43654&copyow
 nerid=75021
UID:cfp508147-N@wikicfp.com
END:VEVENT
BEGIN:VEVENT
DTSTAMP:20260424T090317Z
DTSTART;VALUE=DATE:20151105
DTEND;VALUE=DATE:20151109
SUMMARY:ICWL 2015
DESCRIPTION:International Conference of Web-based Learning
URL:http://www.wikicfp.com/cfp/servlet/event.showcfp?eventid=43103&copyow
 nerid=75021
UID:cfp508151-E@wikicfp.com
END:VEVENT
BEGIN:VEVENT
DTSTAMP:20260424T090317Z
DTSTART;VALUE=DATE:20150602
SUMMARY:ICWL 2015 Abstract Due
DESCRIPTION:International Conference of Web-based Learning
URL:http://www.wikicfp.com/cfp/servlet/event.showcfp?eventid=43103&copyow
 nerid=75021
UID:cfp508151-A@wikicfp.com
END:VEVENT
BEGIN:VEVENT
DTSTAMP:20260424T090317Z
DTSTART;VALUE=DATE:20150609
SUMMARY:ICWL 2015 Deadline
DESCRIPTION:International Conference of Web-based Learning
URL:http://www.wikicfp.com/cfp/servlet/event.showcfp?eventid=43103&copyow
 nerid=75021
UID:cfp508151-D@wikicfp.com
END:VEVENT
BEGIN:VEVENT
DTSTAMP:20260424T090317Z
DTSTART;VALUE=DATE:20150714
SUMMARY:ICWL 2015 Notification Due
DESCRIPTION:International Conference of Web-based Learning
URL:http://www.wikicfp.com/cfp/servlet/event.showcfp?eventid=43103&copyow
 nerid=75021
UID:cfp508151-N@wikicfp.com
END:VEVENT
BEGIN:VEVENT
DTSTAMP:20260424T090317Z
DTSTART;VALUE=DATE:20150810
SUMMARY:ICWL 2015 Final Version Due
DESCRIPTION:International Conference of Web-based Learning
URL:http://www.wikicfp.com/cfp/servlet/event.showcfp?eventid=43103&copyow
 nerid=75021
UID:cfp508151-N@wikicfp.com
END:VEVENT
BEGIN:VEVENT
DTSTAMP:20260424T090317Z
DTSTART;VALUE=DATE:20151021
DTEND;VALUE=DATE:20151026
SUMMARY:ACSET 2015
DESCRIPTION:The Asian Conference on Society\, Education and Technology 20
 15
URL:http://www.wikicfp.com/cfp/servlet/event.showcfp?eventid=43067&copyow
 nerid=75021
UID:cfp508148-E@wikicfp.com
END:VEVENT
BEGIN:VEVENT
DTSTAMP:20260424T090317Z
DTSTART;VALUE=DATE:20150620
SUMMARY:ACSET 2015 Deadline
DESCRIPTION:The Asian Conference on Society\, Education and Technology 20
 15
URL:http://www.wikicfp.com/cfp/servlet/event.showcfp?eventid=43067&copyow
 nerid=75021
UID:cfp508148-D@wikicfp.com
END:VEVENT
BEGIN:VEVENT
DTSTAMP:20260424T090317Z
DTSTART;VALUE=DATE:20150910
DTEND;VALUE=DATE:20150913
SUMMARY:ICEEE 2015
DESCRIPTION:The Fourth International Conference on E-Learning and E-Techn
 ologies in Education (ICEEE2015)
URL:http://www.wikicfp.com/cfp/servlet/event.showcfp?eventid=39426&copyow
 nerid=75021
UID:cfp508146-E@wikicfp.com
END:VEVENT
BEGIN:VEVENT
DTSTAMP:20260424T090317Z
DTSTART;VALUE=DATE:20150710
SUMMARY:ICEEE 2015 Deadline
DESCRIPTION:The Fourth International Conference on E-Learning and E-Techn
 ologies in Education (ICEEE2015)
URL:http://www.wikicfp.com/cfp/servlet/event.showcfp?eventid=39426&copyow
 nerid=75021
UID:cfp508146-D@wikicfp.com
END:VEVENT
BEGIN:VEVENT
DTSTAMP:20260424T090317Z
DTSTART;VALUE=DATE:20150730
SUMMARY:ICEEE 2015 Notification Due
DESCRIPTION:The Fourth International Conference on E-Learning and E-Techn
 ologies in Education (ICEEE2015)
URL:http://www.wikicfp.com/cfp/servlet/event.showcfp?eventid=39426&copyow
 nerid=75021
UID:cfp508146-N@wikicfp.com
END:VEVENT
BEGIN:VEVENT
DTSTAMP:20260424T090317Z
DTSTART;VALUE=DATE:20150901
SUMMARY:ICEEE 2015 Final Version Due
DESCRIPTION:The Fourth International Conference on E-Learning and E-Techn
 ologies in Education (ICEEE2015)
URL:http://www.wikicfp.com/cfp/servlet/event.showcfp?eventid=39426&copyow
 nerid=75021
UID:cfp508146-N@wikicfp.com
END:VEVENT
END:VCALENDAR
