BEGIN:VCALENDAR
PRODID:-//WikiCFP//stephane_chevobbe 1.0//EN
VERSION:2.0
CALSCALE:GREGORIAN
BEGIN:VEVENT
DTSTAMP:20260424T222830Z
DTSTART;VALUE=DATE:20150524
DTEND;VALUE=DATE:20150528
SUMMARY:ISCAS 2015
DESCRIPTION:International Symposium on Circuits and Systems
URL:http://www.wikicfp.com/cfp/servlet/event.showcfp?eventid=40874&copyow
 nerid=74812
UID:cfp506985-E@wikicfp.com
END:VEVENT
BEGIN:VEVENT
DTSTAMP:20260424T222830Z
DTSTART;VALUE=DATE:20141010
SUMMARY:ISCAS 2015 Deadline
DESCRIPTION:International Symposium on Circuits and Systems
URL:http://www.wikicfp.com/cfp/servlet/event.showcfp?eventid=40874&copyow
 nerid=74812
UID:cfp506985-D@wikicfp.com
END:VEVENT
BEGIN:VEVENT
DTSTAMP:20260424T222830Z
DTSTART;VALUE=DATE:20150108
SUMMARY:ISCAS 2015 Notification Due
DESCRIPTION:International Symposium on Circuits and Systems
URL:http://www.wikicfp.com/cfp/servlet/event.showcfp?eventid=40874&copyow
 nerid=74812
UID:cfp506985-N@wikicfp.com
END:VEVENT
BEGIN:VEVENT
DTSTAMP:20260424T222830Z
DTSTART;VALUE=DATE:20150615
DTEND;VALUE=DATE:20150620
SUMMARY:VLSI Circuits 2015
DESCRIPTION:2015 IEEE Symposium on VLSI Circuits
URL:http://www.wikicfp.com/cfp/servlet/event.showcfp?eventid=41422&copyow
 nerid=74812
UID:cfp506984-E@wikicfp.com
END:VEVENT
BEGIN:VEVENT
DTSTAMP:20260424T222830Z
DTSTART;VALUE=DATE:20150126
SUMMARY:VLSI Circuits 2015 Deadline
DESCRIPTION:2015 IEEE Symposium on VLSI Circuits
URL:http://www.wikicfp.com/cfp/servlet/event.showcfp?eventid=41422&copyow
 nerid=74812
UID:cfp506984-D@wikicfp.com
END:VEVENT
BEGIN:VEVENT
DTSTAMP:20260424T222830Z
DTSTART;VALUE=DATE:20150722
DTEND;VALUE=DATE:20150725
SUMMARY:ISLPED 2015
DESCRIPTION:International Symposium on Low Power Electronics and Design
URL:http://www.wikicfp.com/cfp/servlet/event.showcfp?eventid=41308&copyow
 nerid=74812
UID:cfp506987-E@wikicfp.com
END:VEVENT
BEGIN:VEVENT
DTSTAMP:20260424T222830Z
DTSTART;VALUE=DATE:20150222
SUMMARY:ISLPED 2015 Abstract Due
DESCRIPTION:International Symposium on Low Power Electronics and Design
URL:http://www.wikicfp.com/cfp/servlet/event.showcfp?eventid=41308&copyow
 nerid=74812
UID:cfp506987-A@wikicfp.com
END:VEVENT
BEGIN:VEVENT
DTSTAMP:20260424T222830Z
DTSTART;VALUE=DATE:20150301
SUMMARY:ISLPED 2015 Deadline
DESCRIPTION:International Symposium on Low Power Electronics and Design
URL:http://www.wikicfp.com/cfp/servlet/event.showcfp?eventid=41308&copyow
 nerid=74812
UID:cfp506987-D@wikicfp.com
END:VEVENT
BEGIN:VEVENT
DTSTAMP:20260424T222830Z
DTSTART;VALUE=DATE:20150501
SUMMARY:ISLPED 2015 Notification Due
DESCRIPTION:International Symposium on Low Power Electronics and Design
URL:http://www.wikicfp.com/cfp/servlet/event.showcfp?eventid=41308&copyow
 nerid=74812
UID:cfp506987-N@wikicfp.com
END:VEVENT
BEGIN:VEVENT
DTSTAMP:20260424T222830Z
DTSTART;VALUE=DATE:20150610
SUMMARY:ISLPED 2015 Final Version Due
DESCRIPTION:International Symposium on Low Power Electronics and Design
URL:http://www.wikicfp.com/cfp/servlet/event.showcfp?eventid=41308&copyow
 nerid=74812
UID:cfp506987-N@wikicfp.com
END:VEVENT
BEGIN:VEVENT
DTSTAMP:20260424T222830Z
DTSTART;VALUE=DATE:20150428
DTEND;VALUE=DATE:20150430
SUMMARY:ICEEE 2015
DESCRIPTION:2015 2nd International Conference on Electrical and Electroni
 cs Engineering 
URL:http://www.wikicfp.com/cfp/servlet/event.showcfp?eventid=33194&copyow
 nerid=74812
UID:cfp506986-E@wikicfp.com
END:VEVENT
BEGIN:VEVENT
DTSTAMP:20260424T222830Z
DTSTART;VALUE=DATE:20150305
SUMMARY:ICEEE 2015 Deadline
DESCRIPTION:2015 2nd International Conference on Electrical and Electroni
 cs Engineering 
URL:http://www.wikicfp.com/cfp/servlet/event.showcfp?eventid=33194&copyow
 nerid=74812
UID:cfp506986-D@wikicfp.com
END:VEVENT
BEGIN:VEVENT
DTSTAMP:20260424T222830Z
DTSTART;VALUE=DATE:20150320
SUMMARY:ICEEE 2015 Notification Due
DESCRIPTION:2015 2nd International Conference on Electrical and Electroni
 cs Engineering 
URL:http://www.wikicfp.com/cfp/servlet/event.showcfp?eventid=33194&copyow
 nerid=74812
UID:cfp506986-N@wikicfp.com
END:VEVENT
BEGIN:VEVENT
DTSTAMP:20260424T222830Z
DTSTART;VALUE=DATE:20150328
SUMMARY:ICEEE 2015 Final Version Due
DESCRIPTION:2015 2nd International Conference on Electrical and Electroni
 cs Engineering 
URL:http://www.wikicfp.com/cfp/servlet/event.showcfp?eventid=33194&copyow
 nerid=74812
UID:cfp506986-N@wikicfp.com
END:VEVENT
BEGIN:VEVENT
DTSTAMP:20260424T222830Z
DTSTART;VALUE=DATE:20150826
DTEND;VALUE=DATE:20150829
SUMMARY:DSD 2015
DESCRIPTION:18th Euromicro Conference on Digital Systems Design
URL:http://www.wikicfp.com/cfp/servlet/event.showcfp?eventid=42532&copyow
 nerid=74812
UID:cfp506988-E@wikicfp.com
END:VEVENT
BEGIN:VEVENT
DTSTAMP:20260424T222830Z
DTSTART;VALUE=DATE:20150329
SUMMARY:DSD 2015 Deadline
DESCRIPTION:18th Euromicro Conference on Digital Systems Design
URL:http://www.wikicfp.com/cfp/servlet/event.showcfp?eventid=42532&copyow
 nerid=74812
UID:cfp506988-D@wikicfp.com
END:VEVENT
BEGIN:VEVENT
DTSTAMP:20260424T222830Z
DTSTART;VALUE=DATE:20150525
SUMMARY:DSD 2015 Notification Due
DESCRIPTION:18th Euromicro Conference on Digital Systems Design
URL:http://www.wikicfp.com/cfp/servlet/event.showcfp?eventid=42532&copyow
 nerid=74812
UID:cfp506988-N@wikicfp.com
END:VEVENT
BEGIN:VEVENT
DTSTAMP:20260424T222830Z
DTSTART;VALUE=DATE:20150614
SUMMARY:DSD 2015 Final Version Due
DESCRIPTION:18th Euromicro Conference on Digital Systems Design
URL:http://www.wikicfp.com/cfp/servlet/event.showcfp?eventid=42532&copyow
 nerid=74812
UID:cfp506988-N@wikicfp.com
END:VEVENT
END:VCALENDAR
