BEGIN:VCALENDAR
PRODID:-//WikiCFP//wikicfpppp 1.0//EN
VERSION:2.0
CALSCALE:GREGORIAN
BEGIN:VEVENT
DTSTAMP:20260421T130524Z
DTSTART;VALUE=DATE:20150922
DTEND;VALUE=DATE:20150926
SUMMARY:SAFECOMP 2015
DESCRIPTION:SAFECOMP 2015 : The 34rd International Conference on Computer
  Safety\, Reliability and Security
URL:http://www.wikicfp.com/cfp/servlet/event.showcfp?eventid=41745&copyow
 nerid=74556
UID:cfp505680-E@wikicfp.com
END:VEVENT
BEGIN:VEVENT
DTSTAMP:20260421T130524Z
DTSTART;VALUE=DATE:20150226
SUMMARY:SAFECOMP 2015 Abstract Due
DESCRIPTION:SAFECOMP 2015 : The 34rd International Conference on Computer
  Safety\, Reliability and Security
URL:http://www.wikicfp.com/cfp/servlet/event.showcfp?eventid=41745&copyow
 nerid=74556
UID:cfp505680-A@wikicfp.com
END:VEVENT
BEGIN:VEVENT
DTSTAMP:20260421T130524Z
DTSTART;VALUE=DATE:20150302
SUMMARY:SAFECOMP 2015 Deadline
DESCRIPTION:SAFECOMP 2015 : The 34rd International Conference on Computer
  Safety\, Reliability and Security
URL:http://www.wikicfp.com/cfp/servlet/event.showcfp?eventid=41745&copyow
 nerid=74556
UID:cfp505680-D@wikicfp.com
END:VEVENT
BEGIN:VEVENT
DTSTAMP:20260421T130524Z
DTSTART;VALUE=DATE:20150512
SUMMARY:SAFECOMP 2015 Notification Due
DESCRIPTION:SAFECOMP 2015 : The 34rd International Conference on Computer
  Safety\, Reliability and Security
URL:http://www.wikicfp.com/cfp/servlet/event.showcfp?eventid=41745&copyow
 nerid=74556
UID:cfp505680-N@wikicfp.com
END:VEVENT
BEGIN:VEVENT
DTSTAMP:20260421T130524Z
DTSTART;VALUE=DATE:20150615
SUMMARY:SAFECOMP 2015 Final Version Due
DESCRIPTION:SAFECOMP 2015 : The 34rd International Conference on Computer
  Safety\, Reliability and Security
URL:http://www.wikicfp.com/cfp/servlet/event.showcfp?eventid=41745&copyow
 nerid=74556
UID:cfp505680-N@wikicfp.com
END:VEVENT
BEGIN:VEVENT
DTSTAMP:20260421T130524Z
DTSTART;VALUE=DATE:20150824
DTEND;VALUE=DATE:20150829
SUMMARY:ARES 2015
DESCRIPTION:The 10th International Conference on Availability\, Reliabili
 ty and Security
URL:http://www.wikicfp.com/cfp/servlet/event.showcfp?eventid=43236&copyow
 nerid=74556
UID:cfp505681-E@wikicfp.com
END:VEVENT
BEGIN:VEVENT
DTSTAMP:20260421T130524Z
DTSTART;VALUE=DATE:20150302
SUMMARY:ARES 2015 Deadline
DESCRIPTION:The 10th International Conference on Availability\, Reliabili
 ty and Security
URL:http://www.wikicfp.com/cfp/servlet/event.showcfp?eventid=43236&copyow
 nerid=74556
UID:cfp505681-D@wikicfp.com
END:VEVENT
BEGIN:VEVENT
DTSTAMP:20260421T130524Z
DTSTART;VALUE=DATE:20150511
SUMMARY:ARES 2015 Notification Due
DESCRIPTION:The 10th International Conference on Availability\, Reliabili
 ty and Security
URL:http://www.wikicfp.com/cfp/servlet/event.showcfp?eventid=43236&copyow
 nerid=74556
UID:cfp505681-N@wikicfp.com
END:VEVENT
BEGIN:VEVENT
DTSTAMP:20260421T130524Z
DTSTART;VALUE=DATE:20150722
DTEND;VALUE=DATE:20150725
SUMMARY:SOUPS 2015
DESCRIPTION:Symposium On Usable Privacy and Security
URL:http://www.wikicfp.com/cfp/servlet/event.showcfp?eventid=43449&copyow
 nerid=74556
UID:cfp505682-E@wikicfp.com
END:VEVENT
BEGIN:VEVENT
DTSTAMP:20260421T130524Z
DTSTART;VALUE=DATE:20150306
SUMMARY:SOUPS 2015 Abstract Due
DESCRIPTION:Symposium On Usable Privacy and Security
URL:http://www.wikicfp.com/cfp/servlet/event.showcfp?eventid=43449&copyow
 nerid=74556
UID:cfp505682-A@wikicfp.com
END:VEVENT
BEGIN:VEVENT
DTSTAMP:20260421T130524Z
DTSTART;VALUE=DATE:20150313
SUMMARY:SOUPS 2015 Deadline
DESCRIPTION:Symposium On Usable Privacy and Security
URL:http://www.wikicfp.com/cfp/servlet/event.showcfp?eventid=43449&copyow
 nerid=74556
UID:cfp505682-D@wikicfp.com
END:VEVENT
BEGIN:VEVENT
DTSTAMP:20260421T130524Z
DTSTART;VALUE=DATE:20150420
SUMMARY:SOUPS 2015 Notification Due
DESCRIPTION:Symposium On Usable Privacy and Security
URL:http://www.wikicfp.com/cfp/servlet/event.showcfp?eventid=43449&copyow
 nerid=74556
UID:cfp505682-N@wikicfp.com
END:VEVENT
BEGIN:VEVENT
DTSTAMP:20260421T130524Z
DTSTART;VALUE=DATE:20150612
SUMMARY:SOUPS 2015 Final Version Due
DESCRIPTION:Symposium On Usable Privacy and Security
URL:http://www.wikicfp.com/cfp/servlet/event.showcfp?eventid=43449&copyow
 nerid=74556
UID:cfp505682-N@wikicfp.com
END:VEVENT
BEGIN:VEVENT
DTSTAMP:20260421T130524Z
DTSTART;VALUE=DATE:20150820
DTEND;VALUE=DATE:20150823
SUMMARY:TrustCom 2015
DESCRIPTION:The 14th IEEE International Conference on Trust\, Security an
 d Privacy in Computing and Communications (IEEE TrustCom-15)
URL:http://www.wikicfp.com/cfp/servlet/event.showcfp?eventid=40536&copyow
 nerid=74556
UID:cfp505683-E@wikicfp.com
END:VEVENT
BEGIN:VEVENT
DTSTAMP:20260421T130524Z
DTSTART;VALUE=DATE:20150331
SUMMARY:TrustCom 2015 Deadline
DESCRIPTION:The 14th IEEE International Conference on Trust\, Security an
 d Privacy in Computing and Communications (IEEE TrustCom-15)
URL:http://www.wikicfp.com/cfp/servlet/event.showcfp?eventid=40536&copyow
 nerid=74556
UID:cfp505683-D@wikicfp.com
END:VEVENT
BEGIN:VEVENT
DTSTAMP:20260421T130524Z
DTSTART;VALUE=DATE:20150531
SUMMARY:TrustCom 2015 Notification Due
DESCRIPTION:The 14th IEEE International Conference on Trust\, Security an
 d Privacy in Computing and Communications (IEEE TrustCom-15)
URL:http://www.wikicfp.com/cfp/servlet/event.showcfp?eventid=40536&copyow
 nerid=74556
UID:cfp505683-N@wikicfp.com
END:VEVENT
BEGIN:VEVENT
DTSTAMP:20260421T130524Z
DTSTART;VALUE=DATE:20150701
SUMMARY:TrustCom 2015 Final Version Due
DESCRIPTION:The 14th IEEE International Conference on Trust\, Security an
 d Privacy in Computing and Communications (IEEE TrustCom-15)
URL:http://www.wikicfp.com/cfp/servlet/event.showcfp?eventid=40536&copyow
 nerid=74556
UID:cfp505683-N@wikicfp.com
END:VEVENT
BEGIN:VEVENT
DTSTAMP:20260421T130524Z
DTSTART;VALUE=DATE:20151206
DTEND;VALUE=DATE:20151211
SUMMARY:GC15-CISS 2015
DESCRIPTION:IEEE Globecom'15 - Communication & Information System Securit
 y Symposium
URL:http://www.wikicfp.com/cfp/servlet/event.showcfp?eventid=42810&copyow
 nerid=74556
UID:cfp505685-E@wikicfp.com
END:VEVENT
BEGIN:VEVENT
DTSTAMP:20260421T130524Z
DTSTART;VALUE=DATE:20150401
SUMMARY:GC15-CISS 2015 Deadline
DESCRIPTION:IEEE Globecom'15 - Communication & Information System Securit
 y Symposium
URL:http://www.wikicfp.com/cfp/servlet/event.showcfp?eventid=42810&copyow
 nerid=74556
UID:cfp505685-D@wikicfp.com
END:VEVENT
BEGIN:VEVENT
DTSTAMP:20260421T130524Z
DTSTART;VALUE=DATE:20150701
SUMMARY:GC15-CISS 2015 Notification Due
DESCRIPTION:IEEE Globecom'15 - Communication & Information System Securit
 y Symposium
URL:http://www.wikicfp.com/cfp/servlet/event.showcfp?eventid=42810&copyow
 nerid=74556
UID:cfp505685-N@wikicfp.com
END:VEVENT
BEGIN:VEVENT
DTSTAMP:20260421T130524Z
DTSTART;VALUE=DATE:20150901
SUMMARY:GC15-CISS 2015 Final Version Due
DESCRIPTION:IEEE Globecom'15 - Communication & Information System Securit
 y Symposium
URL:http://www.wikicfp.com/cfp/servlet/event.showcfp?eventid=42810&copyow
 nerid=74556
UID:cfp505685-N@wikicfp.com
END:VEVENT
BEGIN:VEVENT
DTSTAMP:20260421T130524Z
DTSTART;VALUE=DATE:20150928
DTEND;VALUE=DATE:20151002
SUMMARY:SRDS 2015
DESCRIPTION:34th International Symposium on Reliable Distributed Systems
URL:http://www.wikicfp.com/cfp/servlet/event.showcfp?eventid=42096&copyow
 nerid=74556
UID:cfp505684-E@wikicfp.com
END:VEVENT
BEGIN:VEVENT
DTSTAMP:20260421T130524Z
DTSTART;VALUE=DATE:20150330
SUMMARY:SRDS 2015 Abstract Due
DESCRIPTION:34th International Symposium on Reliable Distributed Systems
URL:http://www.wikicfp.com/cfp/servlet/event.showcfp?eventid=42096&copyow
 nerid=74556
UID:cfp505684-A@wikicfp.com
END:VEVENT
BEGIN:VEVENT
DTSTAMP:20260421T130524Z
DTSTART;VALUE=DATE:20150406
SUMMARY:SRDS 2015 Deadline
DESCRIPTION:34th International Symposium on Reliable Distributed Systems
URL:http://www.wikicfp.com/cfp/servlet/event.showcfp?eventid=42096&copyow
 nerid=74556
UID:cfp505684-D@wikicfp.com
END:VEVENT
BEGIN:VEVENT
DTSTAMP:20260421T130524Z
DTSTART;VALUE=DATE:20150622
SUMMARY:SRDS 2015 Notification Due
DESCRIPTION:34th International Symposium on Reliable Distributed Systems
URL:http://www.wikicfp.com/cfp/servlet/event.showcfp?eventid=42096&copyow
 nerid=74556
UID:cfp505684-N@wikicfp.com
END:VEVENT
BEGIN:VEVENT
DTSTAMP:20260421T130524Z
DTSTART;VALUE=DATE:20150713
SUMMARY:SRDS 2015 Final Version Due
DESCRIPTION:34th International Symposium on Reliable Distributed Systems
URL:http://www.wikicfp.com/cfp/servlet/event.showcfp?eventid=42096&copyow
 nerid=74556
UID:cfp505684-N@wikicfp.com
END:VEVENT
BEGIN:VEVENT
DTSTAMP:20260421T130524Z
DTSTART;VALUE=DATE:20150818
DTEND;VALUE=DATE:20150821
SUMMARY:ISRCS 2015
DESCRIPTION:3rd International Symposium on Resilient Cyber Systems
URL:http://www.wikicfp.com/cfp/servlet/event.showcfp?eventid=43590&copyow
 nerid=74556
UID:cfp505687-E@wikicfp.com
END:VEVENT
BEGIN:VEVENT
DTSTAMP:20260421T130524Z
DTSTART;VALUE=DATE:20150406
SUMMARY:ISRCS 2015 Deadline
DESCRIPTION:3rd International Symposium on Resilient Cyber Systems
URL:http://www.wikicfp.com/cfp/servlet/event.showcfp?eventid=43590&copyow
 nerid=74556
UID:cfp505687-D@wikicfp.com
END:VEVENT
BEGIN:VEVENT
DTSTAMP:20260421T130524Z
DTSTART;VALUE=DATE:20150615
SUMMARY:ISRCS 2015 Notification Due
DESCRIPTION:3rd International Symposium on Resilient Cyber Systems
URL:http://www.wikicfp.com/cfp/servlet/event.showcfp?eventid=43590&copyow
 nerid=74556
UID:cfp505687-N@wikicfp.com
END:VEVENT
BEGIN:VEVENT
DTSTAMP:20260421T130524Z
DTSTART;VALUE=DATE:20150706
SUMMARY:ISRCS 2015 Final Version Due
DESCRIPTION:3rd International Symposium on Resilient Cyber Systems
URL:http://www.wikicfp.com/cfp/servlet/event.showcfp?eventid=43590&copyow
 nerid=74556
UID:cfp505687-N@wikicfp.com
END:VEVENT
BEGIN:VEVENT
DTSTAMP:20260421T130524Z
DTSTART;VALUE=DATE:20150908
DTEND;VALUE=DATE:20150912
SUMMARY:NSPW 2015
DESCRIPTION:New Security Paradigms Workshop
URL:http://www.wikicfp.com/cfp/servlet/event.showcfp?eventid=43115&copyow
 nerid=74556
UID:cfp505686-E@wikicfp.com
END:VEVENT
BEGIN:VEVENT
DTSTAMP:20260421T130524Z
DTSTART;VALUE=DATE:20150418
SUMMARY:NSPW 2015 Deadline
DESCRIPTION:New Security Paradigms Workshop
URL:http://www.wikicfp.com/cfp/servlet/event.showcfp?eventid=43115&copyow
 nerid=74556
UID:cfp505686-D@wikicfp.com
END:VEVENT
BEGIN:VEVENT
DTSTAMP:20260421T130524Z
DTSTART;VALUE=DATE:20150611
SUMMARY:NSPW 2015 Notification Due
DESCRIPTION:New Security Paradigms Workshop
URL:http://www.wikicfp.com/cfp/servlet/event.showcfp?eventid=43115&copyow
 nerid=74556
UID:cfp505686-N@wikicfp.com
END:VEVENT
BEGIN:VEVENT
DTSTAMP:20260421T130524Z
DTSTART;VALUE=DATE:20151103
SUMMARY:NSPW 2015 Final Version Due
DESCRIPTION:New Security Paradigms Workshop
URL:http://www.wikicfp.com/cfp/servlet/event.showcfp?eventid=43115&copyow
 nerid=74556
UID:cfp505686-N@wikicfp.com
END:VEVENT
BEGIN:VEVENT
DTSTAMP:20260421T130524Z
DTSTART;VALUE=DATE:20150522
SUMMARY:IEICE ICSS 2015 Deadline
DESCRIPTION:IEICE Transactions Special Section on Information and Communi
 cation System Security (April 2016)
URL:http://www.wikicfp.com/cfp/servlet/event.showcfp?eventid=43200&copyow
 nerid=74556
UID:cfp505679-D@wikicfp.com
END:VEVENT
END:VCALENDAR
