BEGIN:VCALENDAR
PRODID:-//WikiCFP//daliabathory 1.0//EN
VERSION:2.0
CALSCALE:GREGORIAN
BEGIN:VEVENT
DTSTAMP:20260426T022618Z
DTSTART;VALUE=DATE:20150330
SUMMARY:HCE 2015 Deadline
DESCRIPTION:(Dis)Embedding. The Institutionalization of the Social Memory
  of Totalitarian Pasts: Practices\, Politics\, Arts.
URL:http://www.wikicfp.com/cfp/servlet/event.showcfp?eventid=43580&copyow
 nerid=74421
UID:cfp504589-D@wikicfp.com
END:VEVENT
BEGIN:VEVENT
DTSTAMP:20260426T022618Z
DTSTART;VALUE=DATE:20150415
SUMMARY:HCE 2015 Notification Due
DESCRIPTION:(Dis)Embedding. The Institutionalization of the Social Memory
  of Totalitarian Pasts: Practices\, Politics\, Arts.
URL:http://www.wikicfp.com/cfp/servlet/event.showcfp?eventid=43580&copyow
 nerid=74421
UID:cfp504589-N@wikicfp.com
END:VEVENT
BEGIN:VEVENT
DTSTAMP:20260426T022618Z
DTSTART;VALUE=DATE:20150810
SUMMARY:HCE 2015 Final Version Due
DESCRIPTION:(Dis)Embedding. The Institutionalization of the Social Memory
  of Totalitarian Pasts: Practices\, Politics\, Arts.
URL:http://www.wikicfp.com/cfp/servlet/event.showcfp?eventid=43580&copyow
 nerid=74421
UID:cfp504589-N@wikicfp.com
END:VEVENT
BEGIN:VEVENT
DTSTAMP:20260426T022618Z
DTSTART;VALUE=DATE:20200502
SUMMARY:HCE 2020 Deadline
DESCRIPTION:History of Communism in Europe
URL:http://www.wikicfp.com/cfp/servlet/event.showcfp?eventid=99649&copyow
 nerid=74421
UID:cfp826791-D@wikicfp.com
END:VEVENT
BEGIN:VEVENT
DTSTAMP:20260426T022618Z
DTSTART;VALUE=DATE:20200510
SUMMARY:HCE 2020 Notification Due
DESCRIPTION:History of Communism in Europe
URL:http://www.wikicfp.com/cfp/servlet/event.showcfp?eventid=99649&copyow
 nerid=74421
UID:cfp826791-N@wikicfp.com
END:VEVENT
BEGIN:VEVENT
DTSTAMP:20260426T022618Z
DTSTART;VALUE=DATE:20200901
SUMMARY:HCE 2020 Final Version Due
DESCRIPTION:History of Communism in Europe
URL:http://www.wikicfp.com/cfp/servlet/event.showcfp?eventid=99649&copyow
 nerid=74421
UID:cfp826791-N@wikicfp.com
END:VEVENT
END:VCALENDAR
