BEGIN:VCALENDAR
PRODID:-//WikiCFP//recmad2015 1.0//EN
VERSION:2.0
CALSCALE:GREGORIAN
BEGIN:VEVENT
DTSTAMP:20260422T192641Z
DTSTART;VALUE=DATE:20200925
DTEND;VALUE=DATE:20200928
SUMMARY:ICEE 2020
DESCRIPTION:6th International Conference on Electrical Engineering
URL:http://www.wikicfp.com/cfp/servlet/event.showcfp?eventid=88262&copyow
 nerid=74250
UID:cfp780775-E@wikicfp.com
END:VEVENT
BEGIN:VEVENT
DTSTAMP:20260422T192641Z
DTSTART;VALUE=DATE:20200915
SUMMARY:ICEE 2020 Deadline
DESCRIPTION:6th International Conference on Electrical Engineering
URL:http://www.wikicfp.com/cfp/servlet/event.showcfp?eventid=88262&copyow
 nerid=74250
UID:cfp780775-D@wikicfp.com
END:VEVENT
BEGIN:VEVENT
DTSTAMP:20260422T192641Z
DTSTART;VALUE=DATE:20200920
SUMMARY:ICEE 2020 Notification Due
DESCRIPTION:6th International Conference on Electrical Engineering
URL:http://www.wikicfp.com/cfp/servlet/event.showcfp?eventid=88262&copyow
 nerid=74250
UID:cfp780775-N@wikicfp.com
END:VEVENT
BEGIN:VEVENT
DTSTAMP:20260422T192641Z
DTSTART;VALUE=DATE:20200923
SUMMARY:ICEE 2020 Final Version Due
DESCRIPTION:6th International Conference on Electrical Engineering
URL:http://www.wikicfp.com/cfp/servlet/event.showcfp?eventid=88262&copyow
 nerid=74250
UID:cfp780775-N@wikicfp.com
END:VEVENT
BEGIN:VEVENT
DTSTAMP:20260422T192641Z
DTSTART;VALUE=DATE:20211120
DTEND;VALUE=DATE:20220211
SUMMARY:HRPQ 2022
DESCRIPTION:Handbook of Research on Trends and Applied Techniques for Pow
 er Quality in Smart Grids
URL:http://www.wikicfp.com/cfp/servlet/event.showcfp?eventid=151704&copyo
 wnerid=74250
UID:cfp913622-E@wikicfp.com
END:VEVENT
BEGIN:VEVENT
DTSTAMP:20260422T192641Z
DTSTART;VALUE=DATE:20211212
SUMMARY:HRPQ 2022 Abstract Due
DESCRIPTION:Handbook of Research on Trends and Applied Techniques for Pow
 er Quality in Smart Grids
URL:http://www.wikicfp.com/cfp/servlet/event.showcfp?eventid=151704&copyo
 wnerid=74250
UID:cfp913622-A@wikicfp.com
END:VEVENT
BEGIN:VEVENT
DTSTAMP:20260422T192641Z
DTSTART;VALUE=DATE:20220210
SUMMARY:HRPQ 2022 Deadline
DESCRIPTION:Handbook of Research on Trends and Applied Techniques for Pow
 er Quality in Smart Grids
URL:http://www.wikicfp.com/cfp/servlet/event.showcfp?eventid=151704&copyo
 wnerid=74250
UID:cfp913622-D@wikicfp.com
END:VEVENT
BEGIN:VEVENT
DTSTAMP:20260422T192641Z
DTSTART;VALUE=DATE:20220413
SUMMARY:HRPQ 2022 Notification Due
DESCRIPTION:Handbook of Research on Trends and Applied Techniques for Pow
 er Quality in Smart Grids
URL:http://www.wikicfp.com/cfp/servlet/event.showcfp?eventid=151704&copyo
 wnerid=74250
UID:cfp913622-N@wikicfp.com
END:VEVENT
BEGIN:VEVENT
DTSTAMP:20260422T192641Z
DTSTART;VALUE=DATE:20220510
SUMMARY:HRPQ 2022 Final Version Due
DESCRIPTION:Handbook of Research on Trends and Applied Techniques for Pow
 er Quality in Smart Grids
URL:http://www.wikicfp.com/cfp/servlet/event.showcfp?eventid=151704&copyo
 wnerid=74250
UID:cfp913622-N@wikicfp.com
END:VEVENT
BEGIN:VEVENT
DTSTAMP:20260422T192641Z
DTSTART;VALUE=DATE:20220828
DTEND;VALUE=DATE:20220831
SUMMARY:IEEE CGEE 2022
DESCRIPTION:IEEE--2022 3rd International Conference on Clean and Green En
 ergy Engineering (CGEE 2022)
URL:http://www.wikicfp.com/cfp/servlet/event.showcfp?eventid=150631&copyo
 wnerid=74250
UID:cfp912849-E@wikicfp.com
END:VEVENT
BEGIN:VEVENT
DTSTAMP:20260422T192641Z
DTSTART;VALUE=DATE:20220705
SUMMARY:IEEE CGEE 2022 Deadline
DESCRIPTION:IEEE--2022 3rd International Conference on Clean and Green En
 ergy Engineering (CGEE 2022)
URL:http://www.wikicfp.com/cfp/servlet/event.showcfp?eventid=150631&copyo
 wnerid=74250
UID:cfp912849-D@wikicfp.com
END:VEVENT
BEGIN:VEVENT
DTSTAMP:20260422T192641Z
DTSTART;VALUE=DATE:20221118
DTEND;VALUE=DATE:20221121
SUMMARY:ICCEIS 2022
DESCRIPTION:2nd INTERNATIONAL CONFERENCE ON COMPUTATIONAL ENGINEERING AND
  INTELLIGENT SYSTEMS
URL:http://www.wikicfp.com/cfp/servlet/event.showcfp?eventid=128568&copyo
 wnerid=74250
UID:cfp902646-E@wikicfp.com
END:VEVENT
BEGIN:VEVENT
DTSTAMP:20260422T192641Z
DTSTART;VALUE=DATE:20220915
SUMMARY:ICCEIS 2022 Deadline
DESCRIPTION:2nd INTERNATIONAL CONFERENCE ON COMPUTATIONAL ENGINEERING AND
  INTELLIGENT SYSTEMS
URL:http://www.wikicfp.com/cfp/servlet/event.showcfp?eventid=128568&copyo
 wnerid=74250
UID:cfp902646-D@wikicfp.com
END:VEVENT
BEGIN:VEVENT
DTSTAMP:20260422T192641Z
DTSTART;VALUE=DATE:20221015
SUMMARY:ICCEIS 2022 Notification Due
DESCRIPTION:2nd INTERNATIONAL CONFERENCE ON COMPUTATIONAL ENGINEERING AND
  INTELLIGENT SYSTEMS
URL:http://www.wikicfp.com/cfp/servlet/event.showcfp?eventid=128568&copyo
 wnerid=74250
UID:cfp902646-N@wikicfp.com
END:VEVENT
BEGIN:VEVENT
DTSTAMP:20260422T192641Z
DTSTART;VALUE=DATE:20221030
SUMMARY:ICCEIS 2022 Final Version Due
DESCRIPTION:2nd INTERNATIONAL CONFERENCE ON COMPUTATIONAL ENGINEERING AND
  INTELLIGENT SYSTEMS
URL:http://www.wikicfp.com/cfp/servlet/event.showcfp?eventid=128568&copyo
 wnerid=74250
UID:cfp902646-N@wikicfp.com
END:VEVENT
BEGIN:VEVENT
DTSTAMP:20260422T192641Z
DTSTART;VALUE=DATE:20231027
DTEND;VALUE=DATE:20231031
SUMMARY:ICEE 2023
DESCRIPTION:7TH INTERNATIONAL CONFERENCE ON ELECTRICAL ENGINEERING
URL:http://www.wikicfp.com/cfp/servlet/event.showcfp?eventid=173875&copyo
 wnerid=74250
UID:cfp966355-E@wikicfp.com
END:VEVENT
BEGIN:VEVENT
DTSTAMP:20260422T192641Z
DTSTART;VALUE=DATE:20230915
SUMMARY:ICEE 2023 Abstract Due
DESCRIPTION:7TH INTERNATIONAL CONFERENCE ON ELECTRICAL ENGINEERING
URL:http://www.wikicfp.com/cfp/servlet/event.showcfp?eventid=173875&copyo
 wnerid=74250
UID:cfp966355-A@wikicfp.com
END:VEVENT
BEGIN:VEVENT
DTSTAMP:20260422T192641Z
DTSTART;VALUE=DATE:20230930
SUMMARY:ICEE 2023 Deadline
DESCRIPTION:7TH INTERNATIONAL CONFERENCE ON ELECTRICAL ENGINEERING
URL:http://www.wikicfp.com/cfp/servlet/event.showcfp?eventid=173875&copyo
 wnerid=74250
UID:cfp966355-D@wikicfp.com
END:VEVENT
BEGIN:VEVENT
DTSTAMP:20260422T192641Z
DTSTART;VALUE=DATE:20231010
SUMMARY:ICEE 2023 Notification Due
DESCRIPTION:7TH INTERNATIONAL CONFERENCE ON ELECTRICAL ENGINEERING
URL:http://www.wikicfp.com/cfp/servlet/event.showcfp?eventid=173875&copyo
 wnerid=74250
UID:cfp966355-N@wikicfp.com
END:VEVENT
BEGIN:VEVENT
DTSTAMP:20260422T192641Z
DTSTART;VALUE=DATE:20231020
SUMMARY:ICEE 2023 Final Version Due
DESCRIPTION:7TH INTERNATIONAL CONFERENCE ON ELECTRICAL ENGINEERING
URL:http://www.wikicfp.com/cfp/servlet/event.showcfp?eventid=173875&copyo
 wnerid=74250
UID:cfp966355-N@wikicfp.com
END:VEVENT
BEGIN:VEVENT
DTSTAMP:20260422T192641Z
DTSTART;VALUE=DATE:20241210
DTEND;VALUE=DATE:20241213
SUMMARY:NC2EAIS 2024
DESCRIPTION:NATIONAL CONFERENCE ON COMPUTATIONAL ENGINEERING\, ARTIFICIAL
  INTELLIGENCE AND SMART SYSTEMS 
URL:http://www.wikicfp.com/cfp/servlet/event.showcfp?eventid=180080&copyo
 wnerid=74250
UID:cfp990368-E@wikicfp.com
END:VEVENT
BEGIN:VEVENT
DTSTAMP:20260422T192641Z
DTSTART;VALUE=DATE:20241025
SUMMARY:NC2EAIS 2024 Deadline
DESCRIPTION:NATIONAL CONFERENCE ON COMPUTATIONAL ENGINEERING\, ARTIFICIAL
  INTELLIGENCE AND SMART SYSTEMS 
URL:http://www.wikicfp.com/cfp/servlet/event.showcfp?eventid=180080&copyo
 wnerid=74250
UID:cfp990368-D@wikicfp.com
END:VEVENT
BEGIN:VEVENT
DTSTAMP:20260422T192641Z
DTSTART;VALUE=DATE:20241115
SUMMARY:NC2EAIS 2024 Notification Due
DESCRIPTION:NATIONAL CONFERENCE ON COMPUTATIONAL ENGINEERING\, ARTIFICIAL
  INTELLIGENCE AND SMART SYSTEMS 
URL:http://www.wikicfp.com/cfp/servlet/event.showcfp?eventid=180080&copyo
 wnerid=74250
UID:cfp990368-N@wikicfp.com
END:VEVENT
BEGIN:VEVENT
DTSTAMP:20260422T192641Z
DTSTART;VALUE=DATE:20241125
SUMMARY:NC2EAIS 2024 Final Version Due
DESCRIPTION:NATIONAL CONFERENCE ON COMPUTATIONAL ENGINEERING\, ARTIFICIAL
  INTELLIGENCE AND SMART SYSTEMS 
URL:http://www.wikicfp.com/cfp/servlet/event.showcfp?eventid=180080&copyo
 wnerid=74250
UID:cfp990368-N@wikicfp.com
END:VEVENT
END:VCALENDAR
