BEGIN:VCALENDAR
PRODID:-//WikiCFP//igor_santos 1.0//EN
VERSION:2.0
CALSCALE:GREGORIAN
BEGIN:VEVENT
DTSTAMP:20260421T054344Z
DTSTART;VALUE=DATE:20150615
DTEND;VALUE=DATE:20150616
SUMMARY:SS02-USEC-CISIS 2015
DESCRIPTION:SS02: User-centric Security & Privacy - CISIS 2015
URL:http://www.wikicfp.com/cfp/servlet/event.showcfp?eventid=43379&copyow
 nerid=74145
UID:cfp502663-E@wikicfp.com
END:VEVENT
BEGIN:VEVENT
DTSTAMP:20260421T054344Z
DTSTART;VALUE=DATE:20150213
SUMMARY:SS02-USEC-CISIS 2015 Deadline
DESCRIPTION:SS02: User-centric Security & Privacy - CISIS 2015
URL:http://www.wikicfp.com/cfp/servlet/event.showcfp?eventid=43379&copyow
 nerid=74145
UID:cfp502663-D@wikicfp.com
END:VEVENT
BEGIN:VEVENT
DTSTAMP:20260421T054344Z
DTSTART;VALUE=DATE:20150302
SUMMARY:SS02-USEC-CISIS 2015 Notification Due
DESCRIPTION:SS02: User-centric Security & Privacy - CISIS 2015
URL:http://www.wikicfp.com/cfp/servlet/event.showcfp?eventid=43379&copyow
 nerid=74145
UID:cfp502663-N@wikicfp.com
END:VEVENT
BEGIN:VEVENT
DTSTAMP:20260421T054344Z
DTSTART;VALUE=DATE:20150313
SUMMARY:SS02-USEC-CISIS 2015 Final Version Due
DESCRIPTION:SS02: User-centric Security & Privacy - CISIS 2015
URL:http://www.wikicfp.com/cfp/servlet/event.showcfp?eventid=43379&copyow
 nerid=74145
UID:cfp502663-N@wikicfp.com
END:VEVENT
BEGIN:VEVENT
DTSTAMP:20260421T054344Z
DTSTART;VALUE=DATE:20150622
DTEND;VALUE=DATE:20150625
SUMMARY:HAIS 2015
DESCRIPTION:International Conference on Hybrid Artificial Intelligence Sy
 stems (HAIS) 2015 - Final CFP
URL:http://www.wikicfp.com/cfp/servlet/event.showcfp?eventid=43770&copyow
 nerid=74145
UID:cfp506273-E@wikicfp.com
END:VEVENT
BEGIN:VEVENT
DTSTAMP:20260421T054344Z
DTSTART;VALUE=DATE:20150306
SUMMARY:HAIS 2015 Deadline
DESCRIPTION:International Conference on Hybrid Artificial Intelligence Sy
 stems (HAIS) 2015 - Final CFP
URL:http://www.wikicfp.com/cfp/servlet/event.showcfp?eventid=43770&copyow
 nerid=74145
UID:cfp506273-D@wikicfp.com
END:VEVENT
BEGIN:VEVENT
DTSTAMP:20260421T054344Z
DTSTART;VALUE=DATE:20150319
SUMMARY:HAIS 2015 Notification Due
DESCRIPTION:International Conference on Hybrid Artificial Intelligence Sy
 stems (HAIS) 2015 - Final CFP
URL:http://www.wikicfp.com/cfp/servlet/event.showcfp?eventid=43770&copyow
 nerid=74145
UID:cfp506273-N@wikicfp.com
END:VEVENT
BEGIN:VEVENT
DTSTAMP:20260421T054344Z
DTSTART;VALUE=DATE:20150408
SUMMARY:HAIS 2015 Final Version Due
DESCRIPTION:International Conference on Hybrid Artificial Intelligence Sy
 stems (HAIS) 2015 - Final CFP
URL:http://www.wikicfp.com/cfp/servlet/event.showcfp?eventid=43770&copyow
 nerid=74145
UID:cfp506273-N@wikicfp.com
END:VEVENT
END:VCALENDAR
