BEGIN:VCALENDAR
PRODID:-//WikiCFP//pbkubc 1.0//EN
VERSION:2.0
CALSCALE:GREGORIAN
BEGIN:VEVENT
DTSTAMP:20260421T161316Z
DTSTART;VALUE=DATE:20150720
DTEND;VALUE=DATE:20150723
SUMMARY:ICSOFT 2015
DESCRIPTION:The 10th International Joint Conference on Software Technolog
 ies
URL:http://www.wikicfp.com/cfp/servlet/event.showcfp?eventid=41486&copyow
 nerid=73870
UID:cfp504466-E@wikicfp.com
END:VEVENT
BEGIN:VEVENT
DTSTAMP:20260421T161316Z
DTSTART;VALUE=DATE:20150217
SUMMARY:ICSOFT 2015 Deadline
DESCRIPTION:The 10th International Joint Conference on Software Technolog
 ies
URL:http://www.wikicfp.com/cfp/servlet/event.showcfp?eventid=41486&copyow
 nerid=73870
UID:cfp504466-D@wikicfp.com
END:VEVENT
BEGIN:VEVENT
DTSTAMP:20260421T161316Z
DTSTART;VALUE=DATE:20150123
DTEND;VALUE=DATE:20150701
SUMMARY:JSS+Technical Debt 2015
DESCRIPTION:Special issue of JSS on Technical Debt in Software Systems
URL:http://www.wikicfp.com/cfp/servlet/event.showcfp?eventid=43551&copyow
 nerid=73870
UID:cfp504445-E@wikicfp.com
END:VEVENT
BEGIN:VEVENT
DTSTAMP:20260421T161316Z
DTSTART;VALUE=DATE:20150531
SUMMARY:JSS+Technical Debt 2015 Deadline
DESCRIPTION:Special issue of JSS on Technical Debt in Software Systems
URL:http://www.wikicfp.com/cfp/servlet/event.showcfp?eventid=43551&copyow
 nerid=73870
UID:cfp504445-D@wikicfp.com
END:VEVENT
BEGIN:VEVENT
DTSTAMP:20260421T161316Z
DTSTART;VALUE=DATE:20150930
SUMMARY:JSS+Technical Debt 2015 Notification Due
DESCRIPTION:Special issue of JSS on Technical Debt in Software Systems
URL:http://www.wikicfp.com/cfp/servlet/event.showcfp?eventid=43551&copyow
 nerid=73870
UID:cfp504445-N@wikicfp.com
END:VEVENT
BEGIN:VEVENT
DTSTAMP:20260421T161316Z
DTSTART;VALUE=DATE:20160401
SUMMARY:JSS+Technical Debt 2015 Final Version Due
DESCRIPTION:Special issue of JSS on Technical Debt in Software Systems
URL:http://www.wikicfp.com/cfp/servlet/event.showcfp?eventid=43551&copyow
 nerid=73870
UID:cfp504445-N@wikicfp.com
END:VEVENT
BEGIN:VEVENT
DTSTAMP:20260421T161316Z
DTSTART;VALUE=DATE:20190521
DTEND;VALUE=DATE:20190526
SUMMARY:XP 2019
DESCRIPTION:20th International Conference on Agile Software and Systems D
 evelopment
URL:http://www.wikicfp.com/cfp/servlet/event.showcfp?eventid=80672&copyow
 nerid=73870
UID:cfp743822-E@wikicfp.com
END:VEVENT
BEGIN:VEVENT
DTSTAMP:20260421T161316Z
DTSTART;VALUE=DATE:20190105
SUMMARY:XP 2019 Deadline
DESCRIPTION:20th International Conference on Agile Software and Systems D
 evelopment
URL:http://www.wikicfp.com/cfp/servlet/event.showcfp?eventid=80672&copyow
 nerid=73870
UID:cfp743822-D@wikicfp.com
END:VEVENT
BEGIN:VEVENT
DTSTAMP:20260421T161316Z
DTSTART;VALUE=DATE:20190219
SUMMARY:XP 2019 Notification Due
DESCRIPTION:20th International Conference on Agile Software and Systems D
 evelopment
URL:http://www.wikicfp.com/cfp/servlet/event.showcfp?eventid=80672&copyow
 nerid=73870
UID:cfp743822-N@wikicfp.com
END:VEVENT
BEGIN:VEVENT
DTSTAMP:20260421T161316Z
DTSTART;VALUE=DATE:20190303
SUMMARY:XP 2019 Final Version Due
DESCRIPTION:20th International Conference on Agile Software and Systems D
 evelopment
URL:http://www.wikicfp.com/cfp/servlet/event.showcfp?eventid=80672&copyow
 nerid=73870
UID:cfp743822-N@wikicfp.com
END:VEVENT
END:VCALENDAR
