BEGIN:VCALENDAR
PRODID:-//WikiCFP//bozevic 1.0//EN
VERSION:2.0
CALSCALE:GREGORIAN
BEGIN:VEVENT
DTSTAMP:20260421T164207Z
DTSTART;VALUE=DATE:20091201
DTEND;VALUE=DATE:20091205
SUMMARY:RTSS 2009
DESCRIPTION:30th IEEE Real-Time Systems Symposium
URL:http://www.wikicfp.com/cfp/servlet/event.showcfp?eventid=5432&copyown
 erid=7385
UID:cfp54528-E@wikicfp.com
END:VEVENT
BEGIN:VEVENT
DTSTAMP:20260421T164207Z
DTSTART;VALUE=DATE:20090524
SUMMARY:RTSS 2009 Deadline
DESCRIPTION:30th IEEE Real-Time Systems Symposium
URL:http://www.wikicfp.com/cfp/servlet/event.showcfp?eventid=5432&copyown
 erid=7385
UID:cfp54528-D@wikicfp.com
END:VEVENT
BEGIN:VEVENT
DTSTAMP:20260421T164207Z
DTSTART;VALUE=DATE:20090823
SUMMARY:RTSS 2009 Notification Due
DESCRIPTION:30th IEEE Real-Time Systems Symposium
URL:http://www.wikicfp.com/cfp/servlet/event.showcfp?eventid=5432&copyown
 erid=7385
UID:cfp54528-N@wikicfp.com
END:VEVENT
BEGIN:VEVENT
DTSTAMP:20260421T164207Z
DTSTART;VALUE=DATE:20090911
SUMMARY:RTSS 2009 Final Version Due
DESCRIPTION:30th IEEE Real-Time Systems Symposium
URL:http://www.wikicfp.com/cfp/servlet/event.showcfp?eventid=5432&copyown
 erid=7385
UID:cfp54528-N@wikicfp.com
END:VEVENT
BEGIN:VEVENT
DTSTAMP:20260421T164207Z
DTSTART;VALUE=DATE:20091005
DTEND;VALUE=DATE:20091006
SUMMARY:IEEE WSNS 2009
DESCRIPTION:5th IEEE International Workshop on Wireless and Sensor Networ
 ks Security
URL:http://www.wikicfp.com/cfp/servlet/event.showcfp?eventid=4858&copyown
 erid=7385
UID:cfp54526-E@wikicfp.com
END:VEVENT
BEGIN:VEVENT
DTSTAMP:20260421T164207Z
DTSTART;VALUE=DATE:20090525
SUMMARY:IEEE WSNS 2009 Deadline
DESCRIPTION:5th IEEE International Workshop on Wireless and Sensor Networ
 ks Security
URL:http://www.wikicfp.com/cfp/servlet/event.showcfp?eventid=4858&copyown
 erid=7385
UID:cfp54526-D@wikicfp.com
END:VEVENT
BEGIN:VEVENT
DTSTAMP:20260421T164207Z
DTSTART;VALUE=DATE:20090628
SUMMARY:IEEE WSNS 2009 Notification Due
DESCRIPTION:5th IEEE International Workshop on Wireless and Sensor Networ
 ks Security
URL:http://www.wikicfp.com/cfp/servlet/event.showcfp?eventid=4858&copyown
 erid=7385
UID:cfp54526-N@wikicfp.com
END:VEVENT
BEGIN:VEVENT
DTSTAMP:20260421T164207Z
DTSTART;VALUE=DATE:20090714
SUMMARY:IEEE WSNS 2009 Final Version Due
DESCRIPTION:5th IEEE International Workshop on Wireless and Sensor Networ
 ks Security
URL:http://www.wikicfp.com/cfp/servlet/event.showcfp?eventid=4858&copyown
 erid=7385
UID:cfp54526-N@wikicfp.com
END:VEVENT
BEGIN:VEVENT
DTSTAMP:20260421T164207Z
DTSTART;VALUE=DATE:20091005
DTEND;VALUE=DATE:20091006
SUMMARY:WAASN 2009
DESCRIPTION:1th International Workshop on Advanced Applications in Wirele
 ss Sensor Networks
URL:http://www.wikicfp.com/cfp/servlet/event.showcfp?eventid=5528&copyown
 erid=7385
UID:cfp54529-E@wikicfp.com
END:VEVENT
BEGIN:VEVENT
DTSTAMP:20260421T164207Z
DTSTART;VALUE=DATE:20090601
SUMMARY:WAASN 2009 Deadline
DESCRIPTION:1th International Workshop on Advanced Applications in Wirele
 ss Sensor Networks
URL:http://www.wikicfp.com/cfp/servlet/event.showcfp?eventid=5528&copyown
 erid=7385
UID:cfp54529-D@wikicfp.com
END:VEVENT
BEGIN:VEVENT
DTSTAMP:20260421T164207Z
DTSTART;VALUE=DATE:20090705
SUMMARY:WAASN 2009 Notification Due
DESCRIPTION:1th International Workshop on Advanced Applications in Wirele
 ss Sensor Networks
URL:http://www.wikicfp.com/cfp/servlet/event.showcfp?eventid=5528&copyown
 erid=7385
UID:cfp54529-N@wikicfp.com
END:VEVENT
BEGIN:VEVENT
DTSTAMP:20260421T164207Z
DTSTART;VALUE=DATE:20090720
SUMMARY:WAASN 2009 Final Version Due
DESCRIPTION:1th International Workshop on Advanced Applications in Wirele
 ss Sensor Networks
URL:http://www.wikicfp.com/cfp/servlet/event.showcfp?eventid=5528&copyown
 erid=7385
UID:cfp54529-N@wikicfp.com
END:VEVENT
BEGIN:VEVENT
DTSTAMP:20260421T164207Z
DTSTART;VALUE=DATE:20091227
DTEND;VALUE=DATE:20091228
SUMMARY:Graph-Hoc 2009
DESCRIPTION:First Workshop on Applications of Graph Theory in Wireless Ad
  hoc Networks and Sensor Networks
URL:http://www.wikicfp.com/cfp/servlet/event.showcfp?eventid=5556&copyown
 erid=7385
UID:cfp54530-E@wikicfp.com
END:VEVENT
BEGIN:VEVENT
DTSTAMP:20260421T164207Z
DTSTART;VALUE=DATE:20090620
SUMMARY:Graph-Hoc 2009 Deadline
DESCRIPTION:First Workshop on Applications of Graph Theory in Wireless Ad
  hoc Networks and Sensor Networks
URL:http://www.wikicfp.com/cfp/servlet/event.showcfp?eventid=5556&copyown
 erid=7385
UID:cfp54530-D@wikicfp.com
END:VEVENT
BEGIN:VEVENT
DTSTAMP:20260421T164207Z
DTSTART;VALUE=DATE:20090820
SUMMARY:Graph-Hoc 2009 Notification Due
DESCRIPTION:First Workshop on Applications of Graph Theory in Wireless Ad
  hoc Networks and Sensor Networks
URL:http://www.wikicfp.com/cfp/servlet/event.showcfp?eventid=5556&copyown
 erid=7385
UID:cfp54530-N@wikicfp.com
END:VEVENT
BEGIN:VEVENT
DTSTAMP:20260421T164207Z
DTSTART;VALUE=DATE:20090920
SUMMARY:Graph-Hoc 2009 Final Version Due
DESCRIPTION:First Workshop on Applications of Graph Theory in Wireless Ad
  hoc Networks and Sensor Networks
URL:http://www.wikicfp.com/cfp/servlet/event.showcfp?eventid=5556&copyown
 erid=7385
UID:cfp54530-N@wikicfp.com
END:VEVENT
BEGIN:VEVENT
DTSTAMP:20260421T164207Z
DTSTART;VALUE=DATE:20091208
DTEND;VALUE=DATE:20091212
SUMMARY:SeNAmI 2009
DESCRIPTION:2nd International Workshop on Sensor Networks and Ambient Int
 elligence
URL:http://www.wikicfp.com/cfp/servlet/event.showcfp?eventid=5637&copyown
 erid=7385
UID:cfp54532-E@wikicfp.com
END:VEVENT
BEGIN:VEVENT
DTSTAMP:20260421T164207Z
DTSTART;VALUE=DATE:20090721
SUMMARY:SeNAmI 2009 Deadline
DESCRIPTION:2nd International Workshop on Sensor Networks and Ambient Int
 elligence
URL:http://www.wikicfp.com/cfp/servlet/event.showcfp?eventid=5637&copyown
 erid=7385
UID:cfp54532-D@wikicfp.com
END:VEVENT
BEGIN:VEVENT
DTSTAMP:20260421T164207Z
DTSTART;VALUE=DATE:20090821
SUMMARY:SeNAmI 2009 Notification Due
DESCRIPTION:2nd International Workshop on Sensor Networks and Ambient Int
 elligence
URL:http://www.wikicfp.com/cfp/servlet/event.showcfp?eventid=5637&copyown
 erid=7385
UID:cfp54532-N@wikicfp.com
END:VEVENT
BEGIN:VEVENT
DTSTAMP:20260421T164207Z
DTSTART;VALUE=DATE:20090901
SUMMARY:SeNAmI 2009 Final Version Due
DESCRIPTION:2nd International Workshop on Sensor Networks and Ambient Int
 elligence
URL:http://www.wikicfp.com/cfp/servlet/event.showcfp?eventid=5637&copyown
 erid=7385
UID:cfp54532-N@wikicfp.com
END:VEVENT
BEGIN:VEVENT
DTSTAMP:20260421T164207Z
DTSTART;VALUE=DATE:20090901
DTEND;VALUE=DATE:20090902
SUMMARY:FITS 2009
DESCRIPTION:International Workshop on the Future Internet of Things and	S
 ervices - Embedded Web Services for Pervasive Devices
URL:http://www.wikicfp.com/cfp/servlet/event.showcfp?eventid=6101&copyown
 erid=7385
UID:cfp54535-E@wikicfp.com
END:VEVENT
BEGIN:VEVENT
DTSTAMP:20260421T164207Z
DTSTART;VALUE=DATE:20090803
SUMMARY:FITS 2009 Deadline
DESCRIPTION:International Workshop on the Future Internet of Things and	S
 ervices - Embedded Web Services for Pervasive Devices
URL:http://www.wikicfp.com/cfp/servlet/event.showcfp?eventid=6101&copyown
 erid=7385
UID:cfp54535-D@wikicfp.com
END:VEVENT
BEGIN:VEVENT
DTSTAMP:20260421T164207Z
DTSTART;VALUE=DATE:20090817
SUMMARY:FITS 2009 Notification Due
DESCRIPTION:International Workshop on the Future Internet of Things and	S
 ervices - Embedded Web Services for Pervasive Devices
URL:http://www.wikicfp.com/cfp/servlet/event.showcfp?eventid=6101&copyown
 erid=7385
UID:cfp54535-N@wikicfp.com
END:VEVENT
BEGIN:VEVENT
DTSTAMP:20260421T164207Z
DTSTART;VALUE=DATE:20090825
SUMMARY:FITS 2009 Final Version Due
DESCRIPTION:International Workshop on the Future Internet of Things and	S
 ervices - Embedded Web Services for Pervasive Devices
URL:http://www.wikicfp.com/cfp/servlet/event.showcfp?eventid=6101&copyown
 erid=7385
UID:cfp54535-N@wikicfp.com
END:VEVENT
BEGIN:VEVENT
DTSTAMP:20260421T164207Z
DTSTART;VALUE=DATE:20091207
DTEND;VALUE=DATE:20091211
SUMMARY:ISSNIP 2009
DESCRIPTION:Fifth International Conference on Intelligent Sensors\, Senso
 r Networks and Information Processing
URL:http://www.wikicfp.com/cfp/servlet/event.showcfp?eventid=4143&copyown
 erid=7385
UID:cfp54525-E@wikicfp.com
END:VEVENT
BEGIN:VEVENT
DTSTAMP:20260421T164207Z
DTSTART;VALUE=DATE:20090630
SUMMARY:ISSNIP 2009 Abstract Due
DESCRIPTION:Fifth International Conference on Intelligent Sensors\, Senso
 r Networks and Information Processing
URL:http://www.wikicfp.com/cfp/servlet/event.showcfp?eventid=4143&copyown
 erid=7385
UID:cfp54525-A@wikicfp.com
END:VEVENT
BEGIN:VEVENT
DTSTAMP:20260421T164207Z
DTSTART;VALUE=DATE:20090807
SUMMARY:ISSNIP 2009 Deadline
DESCRIPTION:Fifth International Conference on Intelligent Sensors\, Senso
 r Networks and Information Processing
URL:http://www.wikicfp.com/cfp/servlet/event.showcfp?eventid=4143&copyown
 erid=7385
UID:cfp54525-D@wikicfp.com
END:VEVENT
BEGIN:VEVENT
DTSTAMP:20260421T164207Z
DTSTART;VALUE=DATE:20090831
SUMMARY:ISSNIP 2009 Notification Due
DESCRIPTION:Fifth International Conference on Intelligent Sensors\, Senso
 r Networks and Information Processing
URL:http://www.wikicfp.com/cfp/servlet/event.showcfp?eventid=4143&copyown
 erid=7385
UID:cfp54525-N@wikicfp.com
END:VEVENT
BEGIN:VEVENT
DTSTAMP:20260421T164207Z
DTSTART;VALUE=DATE:20090930
SUMMARY:ISSNIP 2009 Final Version Due
DESCRIPTION:Fifth International Conference on Intelligent Sensors\, Senso
 r Networks and Information Processing
URL:http://www.wikicfp.com/cfp/servlet/event.showcfp?eventid=4143&copyown
 erid=7385
UID:cfp54525-N@wikicfp.com
END:VEVENT
BEGIN:VEVENT
DTSTAMP:20260421T164207Z
DTSTART;VALUE=DATE:20091026
DTEND;VALUE=DATE:20091027
SUMMARY:SSN 2009
DESCRIPTION:2nd International Workshop on Semantic Sensor Networks
URL:http://www.wikicfp.com/cfp/servlet/event.showcfp?eventid=5740&copyown
 erid=7385
UID:cfp54533-E@wikicfp.com
END:VEVENT
BEGIN:VEVENT
DTSTAMP:20260421T164207Z
DTSTART;VALUE=DATE:20090814
SUMMARY:SSN 2009 Deadline
DESCRIPTION:2nd International Workshop on Semantic Sensor Networks
URL:http://www.wikicfp.com/cfp/servlet/event.showcfp?eventid=5740&copyown
 erid=7385
UID:cfp54533-D@wikicfp.com
END:VEVENT
BEGIN:VEVENT
DTSTAMP:20260421T164207Z
DTSTART;VALUE=DATE:20090904
SUMMARY:SSN 2009 Notification Due
DESCRIPTION:2nd International Workshop on Semantic Sensor Networks
URL:http://www.wikicfp.com/cfp/servlet/event.showcfp?eventid=5740&copyown
 erid=7385
UID:cfp54533-N@wikicfp.com
END:VEVENT
BEGIN:VEVENT
DTSTAMP:20260421T164207Z
DTSTART;VALUE=DATE:20091002
SUMMARY:SSN 2009 Final Version Due
DESCRIPTION:2nd International Workshop on Semantic Sensor Networks
URL:http://www.wikicfp.com/cfp/servlet/event.showcfp?eventid=5740&copyown
 erid=7385
UID:cfp54533-N@wikicfp.com
END:VEVENT
BEGIN:VEVENT
DTSTAMP:20260421T164207Z
DTSTART;VALUE=DATE:20091029
DTEND;VALUE=DATE:20091030
SUMMARY:AASN 2009
DESCRIPTION:Second International Workshop on Automated and Autonomous Sen
 sor Networks
URL:http://www.wikicfp.com/cfp/servlet/event.showcfp?eventid=5952&copyown
 erid=7385
UID:cfp54534-E@wikicfp.com
END:VEVENT
BEGIN:VEVENT
DTSTAMP:20260421T164207Z
DTSTART;VALUE=DATE:20090814
SUMMARY:AASN 2009 Deadline
DESCRIPTION:Second International Workshop on Automated and Autonomous Sen
 sor Networks
URL:http://www.wikicfp.com/cfp/servlet/event.showcfp?eventid=5952&copyown
 erid=7385
UID:cfp54534-D@wikicfp.com
END:VEVENT
BEGIN:VEVENT
DTSTAMP:20260421T164207Z
DTSTART;VALUE=DATE:20090905
SUMMARY:AASN 2009 Notification Due
DESCRIPTION:Second International Workshop on Automated and Autonomous Sen
 sor Networks
URL:http://www.wikicfp.com/cfp/servlet/event.showcfp?eventid=5952&copyown
 erid=7385
UID:cfp54534-N@wikicfp.com
END:VEVENT
BEGIN:VEVENT
DTSTAMP:20260421T164207Z
DTSTART;VALUE=DATE:20090915
SUMMARY:AASN 2009 Final Version Due
DESCRIPTION:Second International Workshop on Automated and Autonomous Sen
 sor Networks
URL:http://www.wikicfp.com/cfp/servlet/event.showcfp?eventid=5952&copyown
 erid=7385
UID:cfp54534-N@wikicfp.com
END:VEVENT
BEGIN:VEVENT
DTSTAMP:20260421T164207Z
DTSTART;VALUE=DATE:20091212
DTEND;VALUE=DATE:20091215
SUMMARY:MMASN 2009
DESCRIPTION:2009 International Workshop on Mobile\, Multimedia\, Ad Hoc a
 nd Sensor Networks
URL:http://www.wikicfp.com/cfp/servlet/event.showcfp?eventid=6426&copyown
 erid=7385
UID:cfp54538-E@wikicfp.com
END:VEVENT
BEGIN:VEVENT
DTSTAMP:20260421T164207Z
DTSTART;VALUE=DATE:20090901
SUMMARY:MMASN 2009 Deadline
DESCRIPTION:2009 International Workshop on Mobile\, Multimedia\, Ad Hoc a
 nd Sensor Networks
URL:http://www.wikicfp.com/cfp/servlet/event.showcfp?eventid=6426&copyown
 erid=7385
UID:cfp54538-D@wikicfp.com
END:VEVENT
BEGIN:VEVENT
DTSTAMP:20260421T164207Z
DTSTART;VALUE=DATE:20091001
SUMMARY:MMASN 2009 Notification Due
DESCRIPTION:2009 International Workshop on Mobile\, Multimedia\, Ad Hoc a
 nd Sensor Networks
URL:http://www.wikicfp.com/cfp/servlet/event.showcfp?eventid=6426&copyown
 erid=7385
UID:cfp54538-N@wikicfp.com
END:VEVENT
BEGIN:VEVENT
DTSTAMP:20260421T164207Z
DTSTART;VALUE=DATE:20091015
SUMMARY:MMASN 2009 Final Version Due
DESCRIPTION:2009 International Workshop on Mobile\, Multimedia\, Ad Hoc a
 nd Sensor Networks
URL:http://www.wikicfp.com/cfp/servlet/event.showcfp?eventid=6426&copyown
 erid=7385
UID:cfp54538-N@wikicfp.com
END:VEVENT
BEGIN:VEVENT
DTSTAMP:20260421T164207Z
DTSTART;VALUE=DATE:20100412
DTEND;VALUE=DATE:20100417
SUMMARY:IPSN 2010
DESCRIPTION:The 9th ACM/IEEE International Conference on Information Proc
 essing in Sensor Networks
URL:http://www.wikicfp.com/cfp/servlet/event.showcfp?eventid=6118&copyown
 erid=7385
UID:cfp54536-E@wikicfp.com
END:VEVENT
BEGIN:VEVENT
DTSTAMP:20260421T164207Z
DTSTART;VALUE=DATE:20091023
SUMMARY:IPSN 2010 Abstract Due
DESCRIPTION:The 9th ACM/IEEE International Conference on Information Proc
 essing in Sensor Networks
URL:http://www.wikicfp.com/cfp/servlet/event.showcfp?eventid=6118&copyown
 erid=7385
UID:cfp54536-A@wikicfp.com
END:VEVENT
BEGIN:VEVENT
DTSTAMP:20260421T164207Z
DTSTART;VALUE=DATE:20091030
SUMMARY:IPSN 2010 Deadline
DESCRIPTION:The 9th ACM/IEEE International Conference on Information Proc
 essing in Sensor Networks
URL:http://www.wikicfp.com/cfp/servlet/event.showcfp?eventid=6118&copyown
 erid=7385
UID:cfp54536-D@wikicfp.com
END:VEVENT
BEGIN:VEVENT
DTSTAMP:20260421T164207Z
DTSTART;VALUE=DATE:20100119
SUMMARY:IPSN 2010 Notification Due
DESCRIPTION:The 9th ACM/IEEE International Conference on Information Proc
 essing in Sensor Networks
URL:http://www.wikicfp.com/cfp/servlet/event.showcfp?eventid=6118&copyown
 erid=7385
UID:cfp54536-N@wikicfp.com
END:VEVENT
BEGIN:VEVENT
DTSTAMP:20260421T164207Z
DTSTART;VALUE=DATE:20100219
SUMMARY:IPSN 2010 Final Version Due
DESCRIPTION:The 9th ACM/IEEE International Conference on Information Proc
 essing in Sensor Networks
URL:http://www.wikicfp.com/cfp/servlet/event.showcfp?eventid=6118&copyown
 erid=7385
UID:cfp54536-N@wikicfp.com
END:VEVENT
BEGIN:VEVENT
DTSTAMP:20260421T164207Z
DTSTART;VALUE=DATE:20091031
SUMMARY:SI- JNCA 2009 Deadline
DESCRIPTION:Special Issue of Journal of Network and Computer Applications
  (Elsevier) - RFID Technology\, Systems and Applications
URL:http://www.wikicfp.com/cfp/servlet/event.showcfp?eventid=5616&copyown
 erid=7385
UID:cfp54531-D@wikicfp.com
END:VEVENT
BEGIN:VEVENT
DTSTAMP:20260421T164207Z
DTSTART;VALUE=DATE:20100131
SUMMARY:SI- JNCA 2009 Notification Due
DESCRIPTION:Special Issue of Journal of Network and Computer Applications
  (Elsevier) - RFID Technology\, Systems and Applications
URL:http://www.wikicfp.com/cfp/servlet/event.showcfp?eventid=5616&copyown
 erid=7385
UID:cfp54531-N@wikicfp.com
END:VEVENT
BEGIN:VEVENT
DTSTAMP:20260421T164207Z
DTSTART;VALUE=DATE:20100330
SUMMARY:SI- JNCA 2009 Final Version Due
DESCRIPTION:Special Issue of Journal of Network and Computer Applications
  (Elsevier) - RFID Technology\, Systems and Applications
URL:http://www.wikicfp.com/cfp/servlet/event.showcfp?eventid=5616&copyown
 erid=7385
UID:cfp54531-N@wikicfp.com
END:VEVENT
BEGIN:VEVENT
DTSTAMP:20260421T164207Z
DTSTART;VALUE=DATE:20091208
DTEND;VALUE=DATE:20091212
SUMMARY:SeNAmI 2009
DESCRIPTION:Call for Posters and Demos: Sensor Networks and Ambient Intel
 lgience
URL:http://www.wikicfp.com/cfp/servlet/event.showcfp?eventid=6639&copyown
 erid=7385
UID:cfp54540-E@wikicfp.com
END:VEVENT
BEGIN:VEVENT
DTSTAMP:20260421T164207Z
DTSTART;VALUE=DATE:20091110
SUMMARY:SeNAmI 2009 Deadline
DESCRIPTION:Call for Posters and Demos: Sensor Networks and Ambient Intel
 lgience
URL:http://www.wikicfp.com/cfp/servlet/event.showcfp?eventid=6639&copyown
 erid=7385
UID:cfp54540-D@wikicfp.com
END:VEVENT
BEGIN:VEVENT
DTSTAMP:20260421T164207Z
DTSTART;VALUE=DATE:20091115
SUMMARY:SeNAmI 2009 Notification Due
DESCRIPTION:Call for Posters and Demos: Sensor Networks and Ambient Intel
 lgience
URL:http://www.wikicfp.com/cfp/servlet/event.showcfp?eventid=6639&copyown
 erid=7385
UID:cfp54540-N@wikicfp.com
END:VEVENT
BEGIN:VEVENT
DTSTAMP:20260421T164207Z
DTSTART;VALUE=DATE:20100704
DTEND;VALUE=DATE:20100708
SUMMARY:ISIE-2010 Special Session Intell. spaces 2010
DESCRIPTION:ISIE-2010. Special Session on Multisensor Signal Processing f
 or Applications in Intelligent Spaces
URL:http://www.wikicfp.com/cfp/servlet/event.showcfp?eventid=6952&copyown
 erid=7385
UID:cfp54542-E@wikicfp.com
END:VEVENT
BEGIN:VEVENT
DTSTAMP:20260421T164207Z
DTSTART;VALUE=DATE:20091125
SUMMARY:ISIE-2010 Special Session Intell. spaces 2010 Deadline
DESCRIPTION:ISIE-2010. Special Session on Multisensor Signal Processing f
 or Applications in Intelligent Spaces
URL:http://www.wikicfp.com/cfp/servlet/event.showcfp?eventid=6952&copyown
 erid=7385
UID:cfp54542-D@wikicfp.com
END:VEVENT
BEGIN:VEVENT
DTSTAMP:20260421T164207Z
DTSTART;VALUE=DATE:20100215
SUMMARY:ISIE-2010 Special Session Intell. spaces 2010 Notification Due
DESCRIPTION:ISIE-2010. Special Session on Multisensor Signal Processing f
 or Applications in Intelligent Spaces
URL:http://www.wikicfp.com/cfp/servlet/event.showcfp?eventid=6952&copyown
 erid=7385
UID:cfp54542-N@wikicfp.com
END:VEVENT
BEGIN:VEVENT
DTSTAMP:20260421T164207Z
DTSTART;VALUE=DATE:20100315
SUMMARY:ISIE-2010 Special Session Intell. spaces 2010 Final Version Due
DESCRIPTION:ISIE-2010. Special Session on Multisensor Signal Processing f
 or Applications in Intelligent Spaces
URL:http://www.wikicfp.com/cfp/servlet/event.showcfp?eventid=6952&copyown
 erid=7385
UID:cfp54542-N@wikicfp.com
END:VEVENT
BEGIN:VEVENT
DTSTAMP:20260421T164207Z
DTSTART;VALUE=DATE:20100607
DTEND;VALUE=DATE:20100610
SUMMARY:SUTC 2010
DESCRIPTION:IEEE INTERNATIONAL CONFERENCE ON SENSOR NETWORKS\, UBIQUITOUS
 \, AND TRUSTWORTHY COMPUTING 
URL:http://www.wikicfp.com/cfp/servlet/event.showcfp?eventid=6486&copyown
 erid=7385
UID:cfp54539-E@wikicfp.com
END:VEVENT
BEGIN:VEVENT
DTSTAMP:20260421T164207Z
DTSTART;VALUE=DATE:20091213
SUMMARY:SUTC 2010 Deadline
DESCRIPTION:IEEE INTERNATIONAL CONFERENCE ON SENSOR NETWORKS\, UBIQUITOUS
 \, AND TRUSTWORTHY COMPUTING 
URL:http://www.wikicfp.com/cfp/servlet/event.showcfp?eventid=6486&copyown
 erid=7385
UID:cfp54539-D@wikicfp.com
END:VEVENT
BEGIN:VEVENT
DTSTAMP:20260421T164207Z
DTSTART;VALUE=DATE:20100131
SUMMARY:SUTC 2010 Notification Due
DESCRIPTION:IEEE INTERNATIONAL CONFERENCE ON SENSOR NETWORKS\, UBIQUITOUS
 \, AND TRUSTWORTHY COMPUTING 
URL:http://www.wikicfp.com/cfp/servlet/event.showcfp?eventid=6486&copyown
 erid=7385
UID:cfp54539-N@wikicfp.com
END:VEVENT
BEGIN:VEVENT
DTSTAMP:20260421T164207Z
DTSTART;VALUE=DATE:20100321
SUMMARY:SUTC 2010 Final Version Due
DESCRIPTION:IEEE INTERNATIONAL CONFERENCE ON SENSOR NETWORKS\, UBIQUITOUS
 \, AND TRUSTWORTHY COMPUTING 
URL:http://www.wikicfp.com/cfp/servlet/event.showcfp?eventid=6486&copyown
 erid=7385
UID:cfp54539-N@wikicfp.com
END:VEVENT
BEGIN:VEVENT
DTSTAMP:20260421T164207Z
DTSTART;VALUE=DATE:20100413
DTEND;VALUE=DATE:20100415
SUMMARY:ICCPS 2010
DESCRIPTION:CM/IEEE 1st International Conference on Cyber-Physical System
 s (ICCPS) Call for Papers 
URL:http://www.wikicfp.com/cfp/servlet/event.showcfp?eventid=6959&copyown
 erid=7385
UID:cfp54543-E@wikicfp.com
END:VEVENT
BEGIN:VEVENT
DTSTAMP:20260421T164207Z
DTSTART;VALUE=DATE:20091218
SUMMARY:ICCPS 2010 Deadline
DESCRIPTION:CM/IEEE 1st International Conference on Cyber-Physical System
 s (ICCPS) Call for Papers 
URL:http://www.wikicfp.com/cfp/servlet/event.showcfp?eventid=6959&copyown
 erid=7385
UID:cfp54543-D@wikicfp.com
END:VEVENT
BEGIN:VEVENT
DTSTAMP:20260421T164207Z
DTSTART;VALUE=DATE:20100125
SUMMARY:ICCPS 2010 Notification Due
DESCRIPTION:CM/IEEE 1st International Conference on Cyber-Physical System
 s (ICCPS) Call for Papers 
URL:http://www.wikicfp.com/cfp/servlet/event.showcfp?eventid=6959&copyown
 erid=7385
UID:cfp54543-N@wikicfp.com
END:VEVENT
BEGIN:VEVENT
DTSTAMP:20260421T164207Z
DTSTART;VALUE=DATE:20100215
SUMMARY:ICCPS 2010 Final Version Due
DESCRIPTION:CM/IEEE 1st International Conference on Cyber-Physical System
 s (ICCPS) Call for Papers 
URL:http://www.wikicfp.com/cfp/servlet/event.showcfp?eventid=6959&copyown
 erid=7385
UID:cfp54543-N@wikicfp.com
END:VEVENT
BEGIN:VEVENT
DTSTAMP:20260421T164207Z
DTSTART;VALUE=DATE:20100615
DTEND;VALUE=DATE:20100619
SUMMARY:INSS 2010
DESCRIPTION:Seventh International Conference on Networked Sensing Systems
 
URL:http://www.wikicfp.com/cfp/servlet/event.showcfp?eventid=7061&copyown
 erid=7385
UID:cfp54544-E@wikicfp.com
END:VEVENT
BEGIN:VEVENT
DTSTAMP:20260421T164207Z
DTSTART;VALUE=DATE:20091212
SUMMARY:INSS 2010 Abstract Due
DESCRIPTION:Seventh International Conference on Networked Sensing Systems
 
URL:http://www.wikicfp.com/cfp/servlet/event.showcfp?eventid=7061&copyown
 erid=7385
UID:cfp54544-A@wikicfp.com
END:VEVENT
BEGIN:VEVENT
DTSTAMP:20260421T164207Z
DTSTART;VALUE=DATE:20091218
SUMMARY:INSS 2010 Deadline
DESCRIPTION:Seventh International Conference on Networked Sensing Systems
 
URL:http://www.wikicfp.com/cfp/servlet/event.showcfp?eventid=7061&copyown
 erid=7385
UID:cfp54544-D@wikicfp.com
END:VEVENT
BEGIN:VEVENT
DTSTAMP:20260421T164207Z
DTSTART;VALUE=DATE:20100315
SUMMARY:INSS 2010 Notification Due
DESCRIPTION:Seventh International Conference on Networked Sensing Systems
 
URL:http://www.wikicfp.com/cfp/servlet/event.showcfp?eventid=7061&copyown
 erid=7385
UID:cfp54544-N@wikicfp.com
END:VEVENT
BEGIN:VEVENT
DTSTAMP:20260421T164207Z
DTSTART;VALUE=DATE:20100415
SUMMARY:INSS 2010 Final Version Due
DESCRIPTION:Seventh International Conference on Networked Sensing Systems
 
URL:http://www.wikicfp.com/cfp/servlet/event.showcfp?eventid=7061&copyown
 erid=7385
UID:cfp54544-N@wikicfp.com
END:VEVENT
BEGIN:VEVENT
DTSTAMP:20260421T164207Z
DTSTART;VALUE=DATE:20100913
DTEND;VALUE=DATE:20100915
SUMMARY:MACOM 2010
DESCRIPTION:3rd International Workshop on Multiple Access Communications
URL:http://www.wikicfp.com/cfp/servlet/event.showcfp?eventid=6685&copyown
 erid=7385
UID:cfp54541-E@wikicfp.com
END:VEVENT
BEGIN:VEVENT
DTSTAMP:20260421T164207Z
DTSTART;VALUE=DATE:20100115
SUMMARY:MACOM 2010 Deadline
DESCRIPTION:3rd International Workshop on Multiple Access Communications
URL:http://www.wikicfp.com/cfp/servlet/event.showcfp?eventid=6685&copyown
 erid=7385
UID:cfp54541-D@wikicfp.com
END:VEVENT
BEGIN:VEVENT
DTSTAMP:20260421T164207Z
DTSTART;VALUE=DATE:20100401
SUMMARY:MACOM 2010 Notification Due
DESCRIPTION:3rd International Workshop on Multiple Access Communications
URL:http://www.wikicfp.com/cfp/servlet/event.showcfp?eventid=6685&copyown
 erid=7385
UID:cfp54541-N@wikicfp.com
END:VEVENT
BEGIN:VEVENT
DTSTAMP:20260421T164207Z
DTSTART;VALUE=DATE:20100501
SUMMARY:MACOM 2010 Final Version Due
DESCRIPTION:3rd International Workshop on Multiple Access Communications
URL:http://www.wikicfp.com/cfp/servlet/event.showcfp?eventid=6685&copyown
 erid=7385
UID:cfp54541-N@wikicfp.com
END:VEVENT
BEGIN:VEVENT
DTSTAMP:20260421T164207Z
DTSTART;VALUE=DATE:20101101
DTEND;VALUE=DATE:20101102
SUMMARY:Special Issue on IJCNDS 2010
DESCRIPTION:Mobile\, Multimedia\, Ad Hoc and Sensor Networks
URL:http://www.wikicfp.com/cfp/servlet/event.showcfp?eventid=6132&copyown
 erid=7385
UID:cfp54537-E@wikicfp.com
END:VEVENT
BEGIN:VEVENT
DTSTAMP:20260421T164207Z
DTSTART;VALUE=DATE:20100301
SUMMARY:Special Issue on IJCNDS 2010 Deadline
DESCRIPTION:Mobile\, Multimedia\, Ad Hoc and Sensor Networks
URL:http://www.wikicfp.com/cfp/servlet/event.showcfp?eventid=6132&copyown
 erid=7385
UID:cfp54537-D@wikicfp.com
END:VEVENT
BEGIN:VEVENT
DTSTAMP:20260421T164207Z
DTSTART;VALUE=DATE:20101001
SUMMARY:Special Issue on IJCNDS 2010 Notification Due
DESCRIPTION:Mobile\, Multimedia\, Ad Hoc and Sensor Networks
URL:http://www.wikicfp.com/cfp/servlet/event.showcfp?eventid=6132&copyown
 erid=7385
UID:cfp54537-N@wikicfp.com
END:VEVENT
BEGIN:VEVENT
DTSTAMP:20260421T164207Z
DTSTART;VALUE=DATE:20101101
SUMMARY:Special Issue on IJCNDS 2010 Final Version Due
DESCRIPTION:Mobile\, Multimedia\, Ad Hoc and Sensor Networks
URL:http://www.wikicfp.com/cfp/servlet/event.showcfp?eventid=6132&copyown
 erid=7385
UID:cfp54537-N@wikicfp.com
END:VEVENT
BEGIN:VEVENT
DTSTAMP:20260421T164207Z
DTSTART;VALUE=DATE:20100905
DTEND;VALUE=DATE:20100908
SUMMARY:MFI 2010
DESCRIPTION:IEEE International Conference on Multisensor Fusion and Integ
 ration for Intelligent Systems
URL:http://www.wikicfp.com/cfp/servlet/event.showcfp?eventid=4900&copyown
 erid=7385
UID:cfp54527-E@wikicfp.com
END:VEVENT
BEGIN:VEVENT
DTSTAMP:20260421T164207Z
DTSTART;VALUE=DATE:20100401
SUMMARY:MFI 2010 Deadline
DESCRIPTION:IEEE International Conference on Multisensor Fusion and Integ
 ration for Intelligent Systems
URL:http://www.wikicfp.com/cfp/servlet/event.showcfp?eventid=4900&copyown
 erid=7385
UID:cfp54527-D@wikicfp.com
END:VEVENT
BEGIN:VEVENT
DTSTAMP:20260421T164207Z
DTSTART;VALUE=DATE:20100601
SUMMARY:MFI 2010 Notification Due
DESCRIPTION:IEEE International Conference on Multisensor Fusion and Integ
 ration for Intelligent Systems
URL:http://www.wikicfp.com/cfp/servlet/event.showcfp?eventid=4900&copyown
 erid=7385
UID:cfp54527-N@wikicfp.com
END:VEVENT
BEGIN:VEVENT
DTSTAMP:20260421T164207Z
DTSTART;VALUE=DATE:20100715
SUMMARY:MFI 2010 Final Version Due
DESCRIPTION:IEEE International Conference on Multisensor Fusion and Integ
 ration for Intelligent Systems
URL:http://www.wikicfp.com/cfp/servlet/event.showcfp?eventid=4900&copyown
 erid=7385
UID:cfp54527-N@wikicfp.com
END:VEVENT
END:VCALENDAR
