BEGIN:VCALENDAR
PRODID:-//WikiCFP//alhajj 1.0//EN
VERSION:2.0
CALSCALE:GREGORIAN
BEGIN:VEVENT
DTSTAMP:20260421T202537Z
DTSTART;VALUE=DATE:20160818
DTEND;VALUE=DATE:20160822
SUMMARY:ASONAM 2016
DESCRIPTION:The 2016 IEEE/ACM International Conference on Advances in Soc
 ial Networks Analysis and Mining
URL:http://www.wikicfp.com/cfp/servlet/event.showcfp?eventid=51590&copyow
 nerid=7294
UID:cfp579572-E@wikicfp.com
END:VEVENT
BEGIN:VEVENT
DTSTAMP:20260421T202537Z
DTSTART;VALUE=DATE:20160630
SUMMARY:ASONAM 2016 Notification Due
DESCRIPTION:The 2016 IEEE/ACM International Conference on Advances in Soc
 ial Networks Analysis and Mining
URL:http://www.wikicfp.com/cfp/servlet/event.showcfp?eventid=51590&copyow
 nerid=7294
UID:cfp579572-N@wikicfp.com
END:VEVENT
BEGIN:VEVENT
DTSTAMP:20260421T202537Z
DTSTART;VALUE=DATE:20160715
SUMMARY:ASONAM 2016 Final Version Due
DESCRIPTION:The 2016 IEEE/ACM International Conference on Advances in Soc
 ial Networks Analysis and Mining
URL:http://www.wikicfp.com/cfp/servlet/event.showcfp?eventid=51590&copyow
 nerid=7294
UID:cfp579572-N@wikicfp.com
END:VEVENT
BEGIN:VEVENT
DTSTAMP:20260421T202537Z
DTSTART;VALUE=DATE:20170731
DTEND;VALUE=DATE:20170804
SUMMARY:ASONAM 2017
DESCRIPTION:Advances in Social Networks Analysis and Mining: Other Tracks
 \, Workshops\, Co-located Events
URL:http://www.wikicfp.com/cfp/servlet/event.showcfp?eventid=59179&copyow
 nerid=7294
UID:cfp633078-E@wikicfp.com
END:VEVENT
BEGIN:VEVENT
DTSTAMP:20260421T202537Z
DTSTART;VALUE=DATE:20170501
SUMMARY:ASONAM 2017 Deadline
DESCRIPTION:Advances in Social Networks Analysis and Mining: Other Tracks
 \, Workshops\, Co-located Events
URL:http://www.wikicfp.com/cfp/servlet/event.showcfp?eventid=59179&copyow
 nerid=7294
UID:cfp633078-D@wikicfp.com
END:VEVENT
END:VCALENDAR
