BEGIN:VCALENDAR
PRODID:-//WikiCFP//bioinfoau 1.0//EN
VERSION:2.0
CALSCALE:GREGORIAN
BEGIN:VEVENT
DTSTAMP:20260422T205218Z
DTSTART;VALUE=DATE:20160216
DTEND;VALUE=DATE:20160220
SUMMARY:SBCADD 2016
DESCRIPTION:8th National Symposium cum Workshop on Recent Trends in Struc
 tural Bioinformatics and Computer Aided Drug Design
URL:http://www.wikicfp.com/cfp/servlet/event.showcfp?eventid=49459&copyow
 nerid=72750
UID:cfp561905-E@wikicfp.com
END:VEVENT
BEGIN:VEVENT
DTSTAMP:20260422T205218Z
DTSTART;VALUE=DATE:20150224
DTEND;VALUE=DATE:20150228
SUMMARY:SBCADD 2015
DESCRIPTION:7th National Symposium cum Workshop on  âRecent Trends in S
 tructural Bioinformatics and Computer Aided Drug Designâ  [SBCADDâ20
 15] 
URL:http://www.wikicfp.com/cfp/servlet/event.showcfp?eventid=42298&copyow
 nerid=72750
UID:cfp493024-E@wikicfp.com
END:VEVENT
BEGIN:VEVENT
DTSTAMP:20260422T205218Z
DTSTART;VALUE=DATE:20150125
SUMMARY:SBCADD 2015 Deadline
DESCRIPTION:7th National Symposium cum Workshop on  âRecent Trends in S
 tructural Bioinformatics and Computer Aided Drug Designâ  [SBCADDâ20
 15] 
URL:http://www.wikicfp.com/cfp/servlet/event.showcfp?eventid=42298&copyow
 nerid=72750
UID:cfp493024-D@wikicfp.com
END:VEVENT
END:VCALENDAR
