BEGIN:VCALENDAR
PRODID:-//WikiCFP//pradorenata 1.0//EN
VERSION:2.0
CALSCALE:GREGORIAN
BEGIN:VEVENT
DTSTAMP:20260424T204249Z
DTSTART;VALUE=DATE:20150526
DTEND;VALUE=DATE:20150530
SUMMARY:ICWSM 2015
DESCRIPTION:THE 9TH INTERNATIONAL AAAI CONFERENCE ON WEB AND SOCIAL MEDIA
 
URL:http://www.wikicfp.com/cfp/servlet/event.showcfp?eventid=41035&copyow
 nerid=71911
UID:cfp487939-E@wikicfp.com
END:VEVENT
BEGIN:VEVENT
DTSTAMP:20260424T204249Z
DTSTART;VALUE=DATE:20150118
SUMMARY:ICWSM 2015 Abstract Due
DESCRIPTION:THE 9TH INTERNATIONAL AAAI CONFERENCE ON WEB AND SOCIAL MEDIA
 
URL:http://www.wikicfp.com/cfp/servlet/event.showcfp?eventid=41035&copyow
 nerid=71911
UID:cfp487939-A@wikicfp.com
END:VEVENT
BEGIN:VEVENT
DTSTAMP:20260424T204249Z
DTSTART;VALUE=DATE:20150123
SUMMARY:ICWSM 2015 Deadline
DESCRIPTION:THE 9TH INTERNATIONAL AAAI CONFERENCE ON WEB AND SOCIAL MEDIA
 
URL:http://www.wikicfp.com/cfp/servlet/event.showcfp?eventid=41035&copyow
 nerid=71911
UID:cfp487939-D@wikicfp.com
END:VEVENT
BEGIN:VEVENT
DTSTAMP:20260424T204249Z
DTSTART;VALUE=DATE:20150309
SUMMARY:ICWSM 2015 Notification Due
DESCRIPTION:THE 9TH INTERNATIONAL AAAI CONFERENCE ON WEB AND SOCIAL MEDIA
 
URL:http://www.wikicfp.com/cfp/servlet/event.showcfp?eventid=41035&copyow
 nerid=71911
UID:cfp487939-N@wikicfp.com
END:VEVENT
BEGIN:VEVENT
DTSTAMP:20260424T204249Z
DTSTART;VALUE=DATE:20150317
SUMMARY:ICWSM 2015 Final Version Due
DESCRIPTION:THE 9TH INTERNATIONAL AAAI CONFERENCE ON WEB AND SOCIAL MEDIA
 
URL:http://www.wikicfp.com/cfp/servlet/event.showcfp?eventid=41035&copyow
 nerid=71911
UID:cfp487939-N@wikicfp.com
END:VEVENT
BEGIN:VEVENT
DTSTAMP:20260424T204249Z
DTSTART;VALUE=DATE:20151206
DTEND;VALUE=DATE:20151211
SUMMARY:GLOBECOM 2015
DESCRIPTION:IEEE Global Communications Conference
URL:http://www.wikicfp.com/cfp/servlet/event.showcfp?eventid=41092&copyow
 nerid=71911
UID:cfp487934-E@wikicfp.com
END:VEVENT
BEGIN:VEVENT
DTSTAMP:20260424T204249Z
DTSTART;VALUE=DATE:20150401
SUMMARY:GLOBECOM 2015 Deadline
DESCRIPTION:IEEE Global Communications Conference
URL:http://www.wikicfp.com/cfp/servlet/event.showcfp?eventid=41092&copyow
 nerid=71911
UID:cfp487934-D@wikicfp.com
END:VEVENT
END:VCALENDAR
