BEGIN:VCALENDAR
PRODID:-//WikiCFP//radwanm 1.0//EN
VERSION:2.0
CALSCALE:GREGORIAN
BEGIN:VEVENT
DTSTAMP:20260422T171414Z
DTSTART;VALUE=DATE:20150330
DTEND;VALUE=DATE:20150404
SUMMARY:SOSE 2015
DESCRIPTION:9th International Symposium on Service Oriented System Engine
 ering
URL:http://www.wikicfp.com/cfp/servlet/event.showcfp?eventid=41508&copyow
 nerid=71590
UID:cfp485967-E@wikicfp.com
END:VEVENT
BEGIN:VEVENT
DTSTAMP:20260422T171414Z
DTSTART;VALUE=DATE:20141116
SUMMARY:SOSE 2015 Deadline
DESCRIPTION:9th International Symposium on Service Oriented System Engine
 ering
URL:http://www.wikicfp.com/cfp/servlet/event.showcfp?eventid=41508&copyow
 nerid=71590
UID:cfp485967-D@wikicfp.com
END:VEVENT
BEGIN:VEVENT
DTSTAMP:20260422T171414Z
DTSTART;VALUE=DATE:20141221
SUMMARY:SOSE 2015 Notification Due
DESCRIPTION:9th International Symposium on Service Oriented System Engine
 ering
URL:http://www.wikicfp.com/cfp/servlet/event.showcfp?eventid=41508&copyow
 nerid=71590
UID:cfp485967-N@wikicfp.com
END:VEVENT
BEGIN:VEVENT
DTSTAMP:20260422T171414Z
DTSTART;VALUE=DATE:20150119
SUMMARY:SOSE 2015 Final Version Due
DESCRIPTION:9th International Symposium on Service Oriented System Engine
 ering
URL:http://www.wikicfp.com/cfp/servlet/event.showcfp?eventid=41508&copyow
 nerid=71590
UID:cfp485967-N@wikicfp.com
END:VEVENT
BEGIN:VEVENT
DTSTAMP:20260422T171414Z
DTSTART;VALUE=DATE:20150212
DTEND;VALUE=DATE:20150214
SUMMARY:ICSMO 2015
DESCRIPTION:2015 3rd International Conference on System Modeling and Opti
 mization
URL:http://www.wikicfp.com/cfp/servlet/event.showcfp?eventid=32209&copyow
 nerid=71590
UID:cfp485969-E@wikicfp.com
END:VEVENT
BEGIN:VEVENT
DTSTAMP:20260422T171414Z
DTSTART;VALUE=DATE:20141120
SUMMARY:ICSMO 2015 Deadline
DESCRIPTION:2015 3rd International Conference on System Modeling and Opti
 mization
URL:http://www.wikicfp.com/cfp/servlet/event.showcfp?eventid=32209&copyow
 nerid=71590
UID:cfp485969-D@wikicfp.com
END:VEVENT
BEGIN:VEVENT
DTSTAMP:20260422T171414Z
DTSTART;VALUE=DATE:20141215
SUMMARY:ICSMO 2015 Notification Due
DESCRIPTION:2015 3rd International Conference on System Modeling and Opti
 mization
URL:http://www.wikicfp.com/cfp/servlet/event.showcfp?eventid=32209&copyow
 nerid=71590
UID:cfp485969-N@wikicfp.com
END:VEVENT
BEGIN:VEVENT
DTSTAMP:20260422T171414Z
DTSTART;VALUE=DATE:20141230
SUMMARY:ICSMO 2015 Final Version Due
DESCRIPTION:2015 3rd International Conference on System Modeling and Opti
 mization
URL:http://www.wikicfp.com/cfp/servlet/event.showcfp?eventid=32209&copyow
 nerid=71590
UID:cfp485969-N@wikicfp.com
END:VEVENT
BEGIN:VEVENT
DTSTAMP:20260422T171414Z
DTSTART;VALUE=DATE:20150318
DTEND;VALUE=DATE:20150320
SUMMARY:CSIT 2015
DESCRIPTION:The 7th International Conference of Computer Science and Info
 rmation Technology
URL:http://www.wikicfp.com/cfp/servlet/event.showcfp?eventid=39765&copyow
 nerid=71590
UID:cfp485970-E@wikicfp.com
END:VEVENT
BEGIN:VEVENT
DTSTAMP:20260422T171414Z
DTSTART;VALUE=DATE:20141222
SUMMARY:CSIT 2015 Deadline
DESCRIPTION:The 7th International Conference of Computer Science and Info
 rmation Technology
URL:http://www.wikicfp.com/cfp/servlet/event.showcfp?eventid=39765&copyow
 nerid=71590
UID:cfp485970-D@wikicfp.com
END:VEVENT
BEGIN:VEVENT
DTSTAMP:20260422T171414Z
DTSTART;VALUE=DATE:20150209
SUMMARY:CSIT 2015 Notification Due
DESCRIPTION:The 7th International Conference of Computer Science and Info
 rmation Technology
URL:http://www.wikicfp.com/cfp/servlet/event.showcfp?eventid=39765&copyow
 nerid=71590
UID:cfp485970-N@wikicfp.com
END:VEVENT
BEGIN:VEVENT
DTSTAMP:20260422T171414Z
DTSTART;VALUE=DATE:20150223
SUMMARY:CSIT 2015 Final Version Due
DESCRIPTION:The 7th International Conference of Computer Science and Info
 rmation Technology
URL:http://www.wikicfp.com/cfp/servlet/event.showcfp?eventid=39765&copyow
 nerid=71590
UID:cfp485970-N@wikicfp.com
END:VEVENT
BEGIN:VEVENT
DTSTAMP:20260422T171414Z
DTSTART;VALUE=DATE:20150602
DTEND;VALUE=DATE:20150606
SUMMARY:ANT 2015
DESCRIPTION:ANT 2015 - 6th International Conference on Ambient Systems\, 
 Networks and Technologies
URL:http://www.wikicfp.com/cfp/servlet/event.showcfp?eventid=40390&copyow
 nerid=71590
UID:cfp485965-E@wikicfp.com
END:VEVENT
BEGIN:VEVENT
DTSTAMP:20260422T171414Z
DTSTART;VALUE=DATE:20150110
SUMMARY:ANT 2015 Deadline
DESCRIPTION:ANT 2015 - 6th International Conference on Ambient Systems\, 
 Networks and Technologies
URL:http://www.wikicfp.com/cfp/servlet/event.showcfp?eventid=40390&copyow
 nerid=71590
UID:cfp485965-D@wikicfp.com
END:VEVENT
BEGIN:VEVENT
DTSTAMP:20260422T171414Z
DTSTART;VALUE=DATE:20150301
SUMMARY:ANT 2015 Notification Due
DESCRIPTION:ANT 2015 - 6th International Conference on Ambient Systems\, 
 Networks and Technologies
URL:http://www.wikicfp.com/cfp/servlet/event.showcfp?eventid=40390&copyow
 nerid=71590
UID:cfp485965-N@wikicfp.com
END:VEVENT
BEGIN:VEVENT
DTSTAMP:20260422T171414Z
DTSTART;VALUE=DATE:20150401
SUMMARY:ANT 2015 Final Version Due
DESCRIPTION:ANT 2015 - 6th International Conference on Ambient Systems\, 
 Networks and Technologies
URL:http://www.wikicfp.com/cfp/servlet/event.showcfp?eventid=40390&copyow
 nerid=71590
UID:cfp485965-N@wikicfp.com
END:VEVENT
BEGIN:VEVENT
DTSTAMP:20260422T171414Z
DTSTART;VALUE=DATE:20150429
DTEND;VALUE=DATE:20150501
SUMMARY:MESAS 2015
DESCRIPTION:Modeling and Simulation for Autonomous Systems Workshop
URL:http://www.wikicfp.com/cfp/servlet/event.showcfp?eventid=41625&copyow
 nerid=71590
UID:cfp485966-E@wikicfp.com
END:VEVENT
BEGIN:VEVENT
DTSTAMP:20260422T171414Z
DTSTART;VALUE=DATE:20150313
SUMMARY:MESAS 2015 Deadline
DESCRIPTION:Modeling and Simulation for Autonomous Systems Workshop
URL:http://www.wikicfp.com/cfp/servlet/event.showcfp?eventid=41625&copyow
 nerid=71590
UID:cfp485966-D@wikicfp.com
END:VEVENT
BEGIN:VEVENT
DTSTAMP:20260422T171414Z
DTSTART;VALUE=DATE:20150907
DTEND;VALUE=DATE:20150912
SUMMARY:SEFM 2015
DESCRIPTION: International Conference on Software Engineering and Formal 
 Methods SEFM 2015
URL:http://www.wikicfp.com/cfp/servlet/event.showcfp?eventid=41480&copyow
 nerid=71590
UID:cfp485971-E@wikicfp.com
END:VEVENT
BEGIN:VEVENT
DTSTAMP:20260422T171414Z
DTSTART;VALUE=DATE:20150313
SUMMARY:SEFM 2015 Abstract Due
DESCRIPTION: International Conference on Software Engineering and Formal 
 Methods SEFM 2015
URL:http://www.wikicfp.com/cfp/servlet/event.showcfp?eventid=41480&copyow
 nerid=71590
UID:cfp485971-A@wikicfp.com
END:VEVENT
BEGIN:VEVENT
DTSTAMP:20260422T171414Z
DTSTART;VALUE=DATE:20150320
SUMMARY:SEFM 2015 Deadline
DESCRIPTION: International Conference on Software Engineering and Formal 
 Methods SEFM 2015
URL:http://www.wikicfp.com/cfp/servlet/event.showcfp?eventid=41480&copyow
 nerid=71590
UID:cfp485971-D@wikicfp.com
END:VEVENT
BEGIN:VEVENT
DTSTAMP:20260422T171414Z
DTSTART;VALUE=DATE:20150515
SUMMARY:SEFM 2015 Notification Due
DESCRIPTION: International Conference on Software Engineering and Formal 
 Methods SEFM 2015
URL:http://www.wikicfp.com/cfp/servlet/event.showcfp?eventid=41480&copyow
 nerid=71590
UID:cfp485971-N@wikicfp.com
END:VEVENT
BEGIN:VEVENT
DTSTAMP:20260422T171414Z
DTSTART;VALUE=DATE:20150830
SUMMARY:AJSEA/MDASDP 2015 Deadline
DESCRIPTION:Model-Based Architecting and Model Driven Approaches in Syste
 m Development Process
URL:http://www.wikicfp.com/cfp/servlet/event.showcfp?eventid=41036&copyow
 nerid=71590
UID:cfp485972-D@wikicfp.com
END:VEVENT
BEGIN:VEVENT
DTSTAMP:20260422T171414Z
DTSTART;VALUE=DATE:20150115
DTEND;VALUE=DATE:20150118
SUMMARY:CISCA 2015
DESCRIPTION:1st International Conference on Communications\, Information 
 Systems\, Control and their Applications
URL:http://www.wikicfp.com/cfp/servlet/event.showcfp?eventid=37312&copyow
 nerid=71590
UID:cfp485968-E@wikicfp.com
END:VEVENT
BEGIN:VEVENT
DTSTAMP:20260422T171414Z
DTSTART;VALUE=DATE:20150915
SUMMARY:CISCA 2015 Deadline
DESCRIPTION:1st International Conference on Communications\, Information 
 Systems\, Control and their Applications
URL:http://www.wikicfp.com/cfp/servlet/event.showcfp?eventid=37312&copyow
 nerid=71590
UID:cfp485968-D@wikicfp.com
END:VEVENT
BEGIN:VEVENT
DTSTAMP:20260422T171414Z
DTSTART;VALUE=DATE:20151015
SUMMARY:CISCA 2015 Notification Due
DESCRIPTION:1st International Conference on Communications\, Information 
 Systems\, Control and their Applications
URL:http://www.wikicfp.com/cfp/servlet/event.showcfp?eventid=37312&copyow
 nerid=71590
UID:cfp485968-N@wikicfp.com
END:VEVENT
BEGIN:VEVENT
DTSTAMP:20260422T171414Z
DTSTART;VALUE=DATE:20151030
SUMMARY:CISCA 2015 Final Version Due
DESCRIPTION:1st International Conference on Communications\, Information 
 Systems\, Control and their Applications
URL:http://www.wikicfp.com/cfp/servlet/event.showcfp?eventid=37312&copyow
 nerid=71590
UID:cfp485968-N@wikicfp.com
END:VEVENT
BEGIN:VEVENT
DTSTAMP:20260422T171414Z
DTSTART;VALUE=DATE:20151027
DTEND;VALUE=DATE:20151030
SUMMARY:SEMCMI 2015
DESCRIPTION:The International Conference on Software Engineering\, Mobile
  Computing and Media Informatics - Part of The Fourth World Congress on 
 Computing and Information Technolog
URL:http://www.wikicfp.com/cfp/servlet/event.showcfp?eventid=41133&copyow
 nerid=71590
UID:cfp485973-E@wikicfp.com
END:VEVENT
BEGIN:VEVENT
DTSTAMP:20260422T171414Z
DTSTART;VALUE=DATE:20151017
SUMMARY:SEMCMI 2015 Abstract Due
DESCRIPTION:The International Conference on Software Engineering\, Mobile
  Computing and Media Informatics - Part of The Fourth World Congress on 
 Computing and Information Technolog
URL:http://www.wikicfp.com/cfp/servlet/event.showcfp?eventid=41133&copyow
 nerid=71590
UID:cfp485973-A@wikicfp.com
END:VEVENT
BEGIN:VEVENT
DTSTAMP:20260422T171414Z
DTSTART;VALUE=DATE:20150927
SUMMARY:SEMCMI 2015 Deadline
DESCRIPTION:The International Conference on Software Engineering\, Mobile
  Computing and Media Informatics - Part of The Fourth World Congress on 
 Computing and Information Technolog
URL:http://www.wikicfp.com/cfp/servlet/event.showcfp?eventid=41133&copyow
 nerid=71590
UID:cfp485973-D@wikicfp.com
END:VEVENT
BEGIN:VEVENT
DTSTAMP:20260422T171414Z
DTSTART;VALUE=DATE:20150927
SUMMARY:SEMCMI 2015 Notification Due
DESCRIPTION:The International Conference on Software Engineering\, Mobile
  Computing and Media Informatics - Part of The Fourth World Congress on 
 Computing and Information Technolog
URL:http://www.wikicfp.com/cfp/servlet/event.showcfp?eventid=41133&copyow
 nerid=71590
UID:cfp485973-N@wikicfp.com
END:VEVENT
BEGIN:VEVENT
DTSTAMP:20260422T171414Z
DTSTART;VALUE=DATE:20151017
SUMMARY:SEMCMI 2015 Final Version Due
DESCRIPTION:The International Conference on Software Engineering\, Mobile
  Computing and Media Informatics - Part of The Fourth World Congress on 
 Computing and Information Technolog
URL:http://www.wikicfp.com/cfp/servlet/event.showcfp?eventid=41133&copyow
 nerid=71590
UID:cfp485973-N@wikicfp.com
END:VEVENT
END:VCALENDAR
