BEGIN:VCALENDAR
PRODID:-//WikiCFP//Mr_fuzzy 1.0//EN
VERSION:2.0
CALSCALE:GREGORIAN
BEGIN:VEVENT
DTSTAMP:20260420T111537Z
DTSTART;VALUE=DATE:20150311
DTEND;VALUE=DATE:20150315
SUMMARY:VISAPP 2015
DESCRIPTION:International Conference on Computer Vision Theory and Applic
 ations
URL:http://www.wikicfp.com/cfp/servlet/event.showcfp?eventid=37313&copyow
 nerid=70863
UID:cfp481455-E@wikicfp.com
END:VEVENT
BEGIN:VEVENT
DTSTAMP:20260420T111537Z
DTSTART;VALUE=DATE:20141020
SUMMARY:VISAPP 2015 Deadline
DESCRIPTION:International Conference on Computer Vision Theory and Applic
 ations
URL:http://www.wikicfp.com/cfp/servlet/event.showcfp?eventid=37313&copyow
 nerid=70863
UID:cfp481455-D@wikicfp.com
END:VEVENT
BEGIN:VEVENT
DTSTAMP:20260420T111537Z
DTSTART;VALUE=DATE:20141128
SUMMARY:VISAPP 2015 Notification Due
DESCRIPTION:International Conference on Computer Vision Theory and Applic
 ations
URL:http://www.wikicfp.com/cfp/servlet/event.showcfp?eventid=37313&copyow
 nerid=70863
UID:cfp481455-N@wikicfp.com
END:VEVENT
BEGIN:VEVENT
DTSTAMP:20260420T111537Z
DTSTART;VALUE=DATE:20141219
SUMMARY:VISAPP 2015 Final Version Due
DESCRIPTION:International Conference on Computer Vision Theory and Applic
 ations
URL:http://www.wikicfp.com/cfp/servlet/event.showcfp?eventid=37313&copyow
 nerid=70863
UID:cfp481455-N@wikicfp.com
END:VEVENT
END:VCALENDAR
