BEGIN:VCALENDAR
PRODID:-//WikiCFP//liuguoliang 1.0//EN
VERSION:2.0
CALSCALE:GREGORIAN
BEGIN:VEVENT
DTSTAMP:20260420T151615Z
DTSTART;VALUE=DATE:20150615
DTEND;VALUE=DATE:20150620
SUMMARY:HPDC 2015
DESCRIPTION:ACM Symposium on High Performance Distributed Computing
URL:http://www.wikicfp.com/cfp/servlet/event.showcfp?eventid=40870&copyow
 nerid=70778
UID:cfp484605-E@wikicfp.com
END:VEVENT
BEGIN:VEVENT
DTSTAMP:20260420T151615Z
DTSTART;VALUE=DATE:20150112
SUMMARY:HPDC 2015 Abstract Due
DESCRIPTION:ACM Symposium on High Performance Distributed Computing
URL:http://www.wikicfp.com/cfp/servlet/event.showcfp?eventid=40870&copyow
 nerid=70778
UID:cfp484605-A@wikicfp.com
END:VEVENT
BEGIN:VEVENT
DTSTAMP:20260420T151615Z
DTSTART;VALUE=DATE:20150119
SUMMARY:HPDC 2015 Deadline
DESCRIPTION:ACM Symposium on High Performance Distributed Computing
URL:http://www.wikicfp.com/cfp/servlet/event.showcfp?eventid=40870&copyow
 nerid=70778
UID:cfp484605-D@wikicfp.com
END:VEVENT
BEGIN:VEVENT
DTSTAMP:20260420T151615Z
DTSTART;VALUE=DATE:20150316
SUMMARY:HPDC 2015 Notification Due
DESCRIPTION:ACM Symposium on High Performance Distributed Computing
URL:http://www.wikicfp.com/cfp/servlet/event.showcfp?eventid=40870&copyow
 nerid=70778
UID:cfp484605-N@wikicfp.com
END:VEVENT
BEGIN:VEVENT
DTSTAMP:20260420T151615Z
DTSTART;VALUE=DATE:20150401
SUMMARY:HPDC 2015 Final Version Due
DESCRIPTION:ACM Symposium on High Performance Distributed Computing
URL:http://www.wikicfp.com/cfp/servlet/event.showcfp?eventid=40870&copyow
 nerid=70778
UID:cfp484605-N@wikicfp.com
END:VEVENT
BEGIN:VEVENT
DTSTAMP:20260420T151615Z
DTSTART;VALUE=DATE:20150908
DTEND;VALUE=DATE:20150912
SUMMARY:CLUSTER 2015
DESCRIPTION:IEEE International Conference on Cluster Computing
URL:http://www.wikicfp.com/cfp/servlet/event.showcfp?eventid=42222&copyow
 nerid=70778
UID:cfp498977-E@wikicfp.com
END:VEVENT
BEGIN:VEVENT
DTSTAMP:20260420T151615Z
DTSTART;VALUE=DATE:20150307
SUMMARY:CLUSTER 2015 Deadline
DESCRIPTION:IEEE International Conference on Cluster Computing
URL:http://www.wikicfp.com/cfp/servlet/event.showcfp?eventid=42222&copyow
 nerid=70778
UID:cfp498977-D@wikicfp.com
END:VEVENT
BEGIN:VEVENT
DTSTAMP:20260420T151615Z
DTSTART;VALUE=DATE:20150423
SUMMARY:CLUSTER 2015 Notification Due
DESCRIPTION:IEEE International Conference on Cluster Computing
URL:http://www.wikicfp.com/cfp/servlet/event.showcfp?eventid=42222&copyow
 nerid=70778
UID:cfp498977-N@wikicfp.com
END:VEVENT
BEGIN:VEVENT
DTSTAMP:20260420T151615Z
DTSTART;VALUE=DATE:20150801
SUMMARY:CLUSTER 2015 Final Version Due
DESCRIPTION:IEEE International Conference on Cluster Computing
URL:http://www.wikicfp.com/cfp/servlet/event.showcfp?eventid=42222&copyow
 nerid=70778
UID:cfp498977-N@wikicfp.com
END:VEVENT
BEGIN:VEVENT
DTSTAMP:20260420T151615Z
DTSTART;VALUE=DATE:20150601
DTEND;VALUE=DATE:20150606
SUMMARY:MSST 2015
DESCRIPTION:31st International Conference on Massive Storage Systems and 
 Technologies 
URL:http://www.wikicfp.com/cfp/servlet/event.showcfp?eventid=43035&copyow
 nerid=70778
UID:cfp500937-E@wikicfp.com
END:VEVENT
BEGIN:VEVENT
DTSTAMP:20260420T151615Z
DTSTART;VALUE=DATE:20150306
SUMMARY:MSST 2015 Abstract Due
DESCRIPTION:31st International Conference on Massive Storage Systems and 
 Technologies 
URL:http://www.wikicfp.com/cfp/servlet/event.showcfp?eventid=43035&copyow
 nerid=70778
UID:cfp500937-A@wikicfp.com
END:VEVENT
BEGIN:VEVENT
DTSTAMP:20260420T151615Z
DTSTART;VALUE=DATE:20150313
SUMMARY:MSST 2015 Deadline
DESCRIPTION:31st International Conference on Massive Storage Systems and 
 Technologies 
URL:http://www.wikicfp.com/cfp/servlet/event.showcfp?eventid=43035&copyow
 nerid=70778
UID:cfp500937-D@wikicfp.com
END:VEVENT
BEGIN:VEVENT
DTSTAMP:20260420T151615Z
DTSTART;VALUE=DATE:20150424
SUMMARY:MSST 2015 Notification Due
DESCRIPTION:31st International Conference on Massive Storage Systems and 
 Technologies 
URL:http://www.wikicfp.com/cfp/servlet/event.showcfp?eventid=43035&copyow
 nerid=70778
UID:cfp500937-N@wikicfp.com
END:VEVENT
BEGIN:VEVENT
DTSTAMP:20260420T151615Z
DTSTART;VALUE=DATE:20150514
SUMMARY:MSST 2015 Final Version Due
DESCRIPTION:31st International Conference on Massive Storage Systems and 
 Technologies 
URL:http://www.wikicfp.com/cfp/servlet/event.showcfp?eventid=43035&copyow
 nerid=70778
UID:cfp500937-N@wikicfp.com
END:VEVENT
BEGIN:VEVENT
DTSTAMP:20260420T151615Z
DTSTART;VALUE=DATE:20150806
DTEND;VALUE=DATE:20150808
SUMMARY:NAS 2015
DESCRIPTION:10th IEEE International Conference on Networking\, Architectu
 re\, and Storage 
URL:http://www.wikicfp.com/cfp/servlet/event.showcfp?eventid=42544&copyow
 nerid=70778
UID:cfp498975-E@wikicfp.com
END:VEVENT
BEGIN:VEVENT
DTSTAMP:20260420T151615Z
DTSTART;VALUE=DATE:20150403
SUMMARY:NAS 2015 Deadline
DESCRIPTION:10th IEEE International Conference on Networking\, Architectu
 re\, and Storage 
URL:http://www.wikicfp.com/cfp/servlet/event.showcfp?eventid=42544&copyow
 nerid=70778
UID:cfp498975-D@wikicfp.com
END:VEVENT
BEGIN:VEVENT
DTSTAMP:20260420T151615Z
DTSTART;VALUE=DATE:20150520
SUMMARY:NAS 2015 Notification Due
DESCRIPTION:10th IEEE International Conference on Networking\, Architectu
 re\, and Storage 
URL:http://www.wikicfp.com/cfp/servlet/event.showcfp?eventid=42544&copyow
 nerid=70778
UID:cfp498975-N@wikicfp.com
END:VEVENT
BEGIN:VEVENT
DTSTAMP:20260420T151615Z
DTSTART;VALUE=DATE:20150629
SUMMARY:NAS 2015 Final Version Due
DESCRIPTION:10th IEEE International Conference on Networking\, Architectu
 re\, and Storage 
URL:http://www.wikicfp.com/cfp/servlet/event.showcfp?eventid=42544&copyow
 nerid=70778
UID:cfp498975-N@wikicfp.com
END:VEVENT
BEGIN:VEVENT
DTSTAMP:20260420T151615Z
DTSTART;VALUE=DATE:20150824
DTEND;VALUE=DATE:20150827
SUMMARY:HPCC 2015
DESCRIPTION:17th IEEE International Conference on High Performance and Co
 mmunications
URL:http://www.wikicfp.com/cfp/servlet/event.showcfp?eventid=41950&copyow
 nerid=70778
UID:cfp498974-E@wikicfp.com
END:VEVENT
BEGIN:VEVENT
DTSTAMP:20260420T151615Z
DTSTART;VALUE=DATE:20150403
SUMMARY:HPCC 2015 Abstract Due
DESCRIPTION:17th IEEE International Conference on High Performance and Co
 mmunications
URL:http://www.wikicfp.com/cfp/servlet/event.showcfp?eventid=41950&copyow
 nerid=70778
UID:cfp498974-A@wikicfp.com
END:VEVENT
BEGIN:VEVENT
DTSTAMP:20260420T151615Z
DTSTART;VALUE=DATE:20150430
SUMMARY:HPCC 2015 Deadline
DESCRIPTION:17th IEEE International Conference on High Performance and Co
 mmunications
URL:http://www.wikicfp.com/cfp/servlet/event.showcfp?eventid=41950&copyow
 nerid=70778
UID:cfp498974-D@wikicfp.com
END:VEVENT
BEGIN:VEVENT
DTSTAMP:20260420T151615Z
DTSTART;VALUE=DATE:20150615
SUMMARY:HPCC 2015 Notification Due
DESCRIPTION:17th IEEE International Conference on High Performance and Co
 mmunications
URL:http://www.wikicfp.com/cfp/servlet/event.showcfp?eventid=41950&copyow
 nerid=70778
UID:cfp498974-N@wikicfp.com
END:VEVENT
BEGIN:VEVENT
DTSTAMP:20260420T151615Z
DTSTART;VALUE=DATE:20150715
SUMMARY:HPCC 2015 Final Version Due
DESCRIPTION:17th IEEE International Conference on High Performance and Co
 mmunications
URL:http://www.wikicfp.com/cfp/servlet/event.showcfp?eventid=41950&copyow
 nerid=70778
UID:cfp498974-N@wikicfp.com
END:VEVENT
BEGIN:VEVENT
DTSTAMP:20260420T151615Z
DTSTART;VALUE=DATE:20160430
DTEND;VALUE=DATE:20160507
SUMMARY:MSST 2016
DESCRIPTION:32st International Conference on Massive Storage Systems and 
 Technologies
URL:http://www.wikicfp.com/cfp/servlet/event.showcfp?eventid=50238&copyow
 nerid=70778
UID:cfp579739-E@wikicfp.com
END:VEVENT
BEGIN:VEVENT
DTSTAMP:20260420T151615Z
DTSTART;VALUE=DATE:20160205
SUMMARY:MSST 2016 Abstract Due
DESCRIPTION:32st International Conference on Massive Storage Systems and 
 Technologies
URL:http://www.wikicfp.com/cfp/servlet/event.showcfp?eventid=50238&copyow
 nerid=70778
UID:cfp579739-A@wikicfp.com
END:VEVENT
BEGIN:VEVENT
DTSTAMP:20260420T151615Z
DTSTART;VALUE=DATE:20160212
SUMMARY:MSST 2016 Deadline
DESCRIPTION:32st International Conference on Massive Storage Systems and 
 Technologies
URL:http://www.wikicfp.com/cfp/servlet/event.showcfp?eventid=50238&copyow
 nerid=70778
UID:cfp579739-D@wikicfp.com
END:VEVENT
BEGIN:VEVENT
DTSTAMP:20260420T151615Z
DTSTART;VALUE=DATE:20160325
SUMMARY:MSST 2016 Notification Due
DESCRIPTION:32st International Conference on Massive Storage Systems and 
 Technologies
URL:http://www.wikicfp.com/cfp/servlet/event.showcfp?eventid=50238&copyow
 nerid=70778
UID:cfp579739-N@wikicfp.com
END:VEVENT
BEGIN:VEVENT
DTSTAMP:20260420T151615Z
DTSTART;VALUE=DATE:20160414
SUMMARY:MSST 2016 Final Version Due
DESCRIPTION:32st International Conference on Massive Storage Systems and 
 Technologies
URL:http://www.wikicfp.com/cfp/servlet/event.showcfp?eventid=50238&copyow
 nerid=70778
UID:cfp579739-N@wikicfp.com
END:VEVENT
BEGIN:VEVENT
DTSTAMP:20260420T151615Z
DTSTART;VALUE=DATE:20160912
DTEND;VALUE=DATE:20160917
SUMMARY:IEEE Cluster 2016
DESCRIPTION:IEEE International Conference on Cluster Computing
URL:http://www.wikicfp.com/cfp/servlet/event.showcfp?eventid=50526&copyow
 nerid=70778
UID:cfp579740-E@wikicfp.com
END:VEVENT
BEGIN:VEVENT
DTSTAMP:20260420T151615Z
DTSTART;VALUE=DATE:20160325
SUMMARY:IEEE Cluster 2016 Deadline
DESCRIPTION:IEEE International Conference on Cluster Computing
URL:http://www.wikicfp.com/cfp/servlet/event.showcfp?eventid=50526&copyow
 nerid=70778
UID:cfp579740-D@wikicfp.com
END:VEVENT
BEGIN:VEVENT
DTSTAMP:20260420T151615Z
DTSTART;VALUE=DATE:20160513
SUMMARY:IEEE Cluster 2016 Notification Due
DESCRIPTION:IEEE International Conference on Cluster Computing
URL:http://www.wikicfp.com/cfp/servlet/event.showcfp?eventid=50526&copyow
 nerid=70778
UID:cfp579740-N@wikicfp.com
END:VEVENT
BEGIN:VEVENT
DTSTAMP:20260420T151615Z
DTSTART;VALUE=DATE:20161113
DTEND;VALUE=DATE:20161119
SUMMARY:SC 2016
DESCRIPTION:The International Conference for High Performance Computing\,
  Networking\, Storage and Analysis
URL:http://www.wikicfp.com/cfp/servlet/event.showcfp?eventid=50368&copyow
 nerid=70778
UID:cfp577338-E@wikicfp.com
END:VEVENT
BEGIN:VEVENT
DTSTAMP:20260420T151615Z
DTSTART;VALUE=DATE:20160327
SUMMARY:SC 2016 Abstract Due
DESCRIPTION:The International Conference for High Performance Computing\,
  Networking\, Storage and Analysis
URL:http://www.wikicfp.com/cfp/servlet/event.showcfp?eventid=50368&copyow
 nerid=70778
UID:cfp577338-A@wikicfp.com
END:VEVENT
BEGIN:VEVENT
DTSTAMP:20260420T151615Z
DTSTART;VALUE=DATE:20160403
SUMMARY:SC 2016 Deadline
DESCRIPTION:The International Conference for High Performance Computing\,
  Networking\, Storage and Analysis
URL:http://www.wikicfp.com/cfp/servlet/event.showcfp?eventid=50368&copyow
 nerid=70778
UID:cfp577338-D@wikicfp.com
END:VEVENT
BEGIN:VEVENT
DTSTAMP:20260420T151615Z
DTSTART;VALUE=DATE:20160615
SUMMARY:SC 2016 Notification Due
DESCRIPTION:The International Conference for High Performance Computing\,
  Networking\, Storage and Analysis
URL:http://www.wikicfp.com/cfp/servlet/event.showcfp?eventid=50368&copyow
 nerid=70778
UID:cfp577338-N@wikicfp.com
END:VEVENT
BEGIN:VEVENT
DTSTAMP:20260420T151615Z
DTSTART;VALUE=DATE:20160808
DTEND;VALUE=DATE:20160811
SUMMARY:NAS 2016 2016
DESCRIPTION:11th IEEE International Conference on Networking\, Architectu
 re and Storage
URL:http://www.wikicfp.com/cfp/servlet/event.showcfp?eventid=52196&copyow
 nerid=70778
UID:cfp588069-E@wikicfp.com
END:VEVENT
BEGIN:VEVENT
DTSTAMP:20260420T151615Z
DTSTART;VALUE=DATE:20160410
SUMMARY:NAS 2016 2016 Deadline
DESCRIPTION:11th IEEE International Conference on Networking\, Architectu
 re and Storage
URL:http://www.wikicfp.com/cfp/servlet/event.showcfp?eventid=52196&copyow
 nerid=70778
UID:cfp588069-D@wikicfp.com
END:VEVENT
BEGIN:VEVENT
DTSTAMP:20260420T151615Z
DTSTART;VALUE=DATE:20160529
SUMMARY:NAS 2016 2016 Notification Due
DESCRIPTION:11th IEEE International Conference on Networking\, Architectu
 re and Storage
URL:http://www.wikicfp.com/cfp/servlet/event.showcfp?eventid=52196&copyow
 nerid=70778
UID:cfp588069-N@wikicfp.com
END:VEVENT
BEGIN:VEVENT
DTSTAMP:20260420T151615Z
DTSTART;VALUE=DATE:20160626
SUMMARY:NAS 2016 2016 Final Version Due
DESCRIPTION:11th IEEE International Conference on Networking\, Architectu
 re and Storage
URL:http://www.wikicfp.com/cfp/servlet/event.showcfp?eventid=52196&copyow
 nerid=70778
UID:cfp588069-N@wikicfp.com
END:VEVENT
BEGIN:VEVENT
DTSTAMP:20260420T151615Z
DTSTART;VALUE=DATE:20161212
DTEND;VALUE=DATE:20161215
SUMMARY:HPCC 2016
DESCRIPTION:18th IEEE International Conference on High Performance Comput
 ing and Communications
URL:http://www.wikicfp.com/cfp/servlet/event.showcfp?eventid=55222&copyow
 nerid=70778
UID:cfp669644-E@wikicfp.com
END:VEVENT
BEGIN:VEVENT
DTSTAMP:20260420T151615Z
DTSTART;VALUE=DATE:20160720
SUMMARY:HPCC 2016 Deadline
DESCRIPTION:18th IEEE International Conference on High Performance Comput
 ing and Communications
URL:http://www.wikicfp.com/cfp/servlet/event.showcfp?eventid=55222&copyow
 nerid=70778
UID:cfp669644-D@wikicfp.com
END:VEVENT
BEGIN:VEVENT
DTSTAMP:20260420T151615Z
DTSTART;VALUE=DATE:20160925
SUMMARY:HPCC 2016 Notification Due
DESCRIPTION:18th IEEE International Conference on High Performance Comput
 ing and Communications
URL:http://www.wikicfp.com/cfp/servlet/event.showcfp?eventid=55222&copyow
 nerid=70778
UID:cfp669644-N@wikicfp.com
END:VEVENT
BEGIN:VEVENT
DTSTAMP:20260420T151615Z
DTSTART;VALUE=DATE:20161015
SUMMARY:HPCC 2016 Final Version Due
DESCRIPTION:18th IEEE International Conference on High Performance Comput
 ing and Communications
URL:http://www.wikicfp.com/cfp/servlet/event.showcfp?eventid=55222&copyow
 nerid=70778
UID:cfp669644-N@wikicfp.com
END:VEVENT
BEGIN:VEVENT
DTSTAMP:20260420T151615Z
DTSTART;VALUE=DATE:20170905
DTEND;VALUE=DATE:20170909
SUMMARY:cluster17 2017
DESCRIPTION:IEEE CLUSTER
URL:http://www.wikicfp.com/cfp/servlet/event.showcfp?eventid=60036&copyow
 nerid=70778
UID:cfp643472-E@wikicfp.com
END:VEVENT
BEGIN:VEVENT
DTSTAMP:20260420T151615Z
DTSTART;VALUE=DATE:20170424
SUMMARY:cluster17 2017 Abstract Due
DESCRIPTION:IEEE CLUSTER
URL:http://www.wikicfp.com/cfp/servlet/event.showcfp?eventid=60036&copyow
 nerid=70778
UID:cfp643472-A@wikicfp.com
END:VEVENT
BEGIN:VEVENT
DTSTAMP:20260420T151615Z
DTSTART;VALUE=DATE:20170501
SUMMARY:cluster17 2017 Deadline
DESCRIPTION:IEEE CLUSTER
URL:http://www.wikicfp.com/cfp/servlet/event.showcfp?eventid=60036&copyow
 nerid=70778
UID:cfp643472-D@wikicfp.com
END:VEVENT
BEGIN:VEVENT
DTSTAMP:20260420T151615Z
DTSTART;VALUE=DATE:20170630
SUMMARY:cluster17 2017 Notification Due
DESCRIPTION:IEEE CLUSTER
URL:http://www.wikicfp.com/cfp/servlet/event.showcfp?eventid=60036&copyow
 nerid=70778
UID:cfp643472-N@wikicfp.com
END:VEVENT
BEGIN:VEVENT
DTSTAMP:20260420T151615Z
DTSTART;VALUE=DATE:20170905
DTEND;VALUE=DATE:20170909
SUMMARY:IEEE Cluster 2017 2017
DESCRIPTION:International Conference on Cluster Computing
URL:http://www.wikicfp.com/cfp/servlet/event.showcfp?eventid=59953&copyow
 nerid=70778
UID:cfp643473-E@wikicfp.com
END:VEVENT
BEGIN:VEVENT
DTSTAMP:20260420T151615Z
DTSTART;VALUE=DATE:20170507
SUMMARY:IEEE Cluster 2017 2017 Abstract Due
DESCRIPTION:International Conference on Cluster Computing
URL:http://www.wikicfp.com/cfp/servlet/event.showcfp?eventid=59953&copyow
 nerid=70778
UID:cfp643473-A@wikicfp.com
END:VEVENT
BEGIN:VEVENT
DTSTAMP:20260420T151615Z
DTSTART;VALUE=DATE:20170515
SUMMARY:IEEE Cluster 2017 2017 Deadline
DESCRIPTION:International Conference on Cluster Computing
URL:http://www.wikicfp.com/cfp/servlet/event.showcfp?eventid=59953&copyow
 nerid=70778
UID:cfp643473-D@wikicfp.com
END:VEVENT
BEGIN:VEVENT
DTSTAMP:20260420T151615Z
DTSTART;VALUE=DATE:20170630
SUMMARY:IEEE Cluster 2017 2017 Notification Due
DESCRIPTION:International Conference on Cluster Computing
URL:http://www.wikicfp.com/cfp/servlet/event.showcfp?eventid=59953&copyow
 nerid=70778
UID:cfp643473-N@wikicfp.com
END:VEVENT
BEGIN:VEVENT
DTSTAMP:20260420T151615Z
DTSTART;VALUE=DATE:20171218
DTEND;VALUE=DATE:20171221
SUMMARY:IEEE HPCC 2017
DESCRIPTION:IEEE International Conference on High Performance Computing a
 nd Communications
URL:http://www.wikicfp.com/cfp/servlet/event.showcfp?eventid=61807&copyow
 nerid=70778
UID:cfp669643-E@wikicfp.com
END:VEVENT
BEGIN:VEVENT
DTSTAMP:20260420T151615Z
DTSTART;VALUE=DATE:20170601
SUMMARY:IEEE HPCC 2017 Deadline
DESCRIPTION:IEEE International Conference on High Performance Computing a
 nd Communications
URL:http://www.wikicfp.com/cfp/servlet/event.showcfp?eventid=61807&copyow
 nerid=70778
UID:cfp669643-D@wikicfp.com
END:VEVENT
BEGIN:VEVENT
DTSTAMP:20260420T151615Z
DTSTART;VALUE=DATE:20170815
SUMMARY:IEEE HPCC 2017 Notification Due
DESCRIPTION:IEEE International Conference on High Performance Computing a
 nd Communications
URL:http://www.wikicfp.com/cfp/servlet/event.showcfp?eventid=61807&copyow
 nerid=70778
UID:cfp669643-N@wikicfp.com
END:VEVENT
BEGIN:VEVENT
DTSTAMP:20260420T151615Z
DTSTART;VALUE=DATE:20170917
SUMMARY:IEEE HPCC 2017 Final Version Due
DESCRIPTION:IEEE International Conference on High Performance Computing a
 nd Communications
URL:http://www.wikicfp.com/cfp/servlet/event.showcfp?eventid=61807&copyow
 nerid=70778
UID:cfp669643-N@wikicfp.com
END:VEVENT
END:VCALENDAR
