BEGIN:VCALENDAR
PRODID:-//WikiCFP//tact21 1.0//EN
VERSION:2.0
CALSCALE:GREGORIAN
BEGIN:VEVENT
DTSTAMP:20260421T110926Z
DTSTART;VALUE=DATE:20141213
DTEND;VALUE=DATE:20141216
SUMMARY:ICFB 2014
DESCRIPTION:2014 3rd International Conference on Future Bioengineering
URL:http://www.wikicfp.com/cfp/servlet/event.showcfp?eventid=38594&copyow
 nerid=70551
UID:cfp479928-E@wikicfp.com
END:VEVENT
BEGIN:VEVENT
DTSTAMP:20260421T110926Z
DTSTART;VALUE=DATE:20141005
SUMMARY:ICFB 2014 Deadline
DESCRIPTION:2014 3rd International Conference on Future Bioengineering
URL:http://www.wikicfp.com/cfp/servlet/event.showcfp?eventid=38594&copyow
 nerid=70551
UID:cfp479928-D@wikicfp.com
END:VEVENT
BEGIN:VEVENT
DTSTAMP:20260421T110926Z
DTSTART;VALUE=DATE:20141020
SUMMARY:ICFB 2014 Notification Due
DESCRIPTION:2014 3rd International Conference on Future Bioengineering
URL:http://www.wikicfp.com/cfp/servlet/event.showcfp?eventid=38594&copyow
 nerid=70551
UID:cfp479928-N@wikicfp.com
END:VEVENT
BEGIN:VEVENT
DTSTAMP:20260421T110926Z
DTSTART;VALUE=DATE:20141105
SUMMARY:ICFB 2014 Final Version Due
DESCRIPTION:2014 3rd International Conference on Future Bioengineering
URL:http://www.wikicfp.com/cfp/servlet/event.showcfp?eventid=38594&copyow
 nerid=70551
UID:cfp479928-N@wikicfp.com
END:VEVENT
BEGIN:VEVENT
DTSTAMP:20260421T110926Z
DTSTART;VALUE=DATE:20150310
DTEND;VALUE=DATE:20150312
SUMMARY:ICBET 2015
DESCRIPTION:2015 5th International Conference on Biomedical Engineering a
 nd Technology 
URL:http://www.wikicfp.com/cfp/servlet/event.showcfp?eventid=40698&copyow
 nerid=70551
UID:cfp479927-E@wikicfp.com
END:VEVENT
BEGIN:VEVENT
DTSTAMP:20260421T110926Z
DTSTART;VALUE=DATE:20150105
SUMMARY:ICBET 2015 Deadline
DESCRIPTION:2015 5th International Conference on Biomedical Engineering a
 nd Technology 
URL:http://www.wikicfp.com/cfp/servlet/event.showcfp?eventid=40698&copyow
 nerid=70551
UID:cfp479927-D@wikicfp.com
END:VEVENT
BEGIN:VEVENT
DTSTAMP:20260421T110926Z
DTSTART;VALUE=DATE:20150120
SUMMARY:ICBET 2015 Notification Due
DESCRIPTION:2015 5th International Conference on Biomedical Engineering a
 nd Technology 
URL:http://www.wikicfp.com/cfp/servlet/event.showcfp?eventid=40698&copyow
 nerid=70551
UID:cfp479927-N@wikicfp.com
END:VEVENT
BEGIN:VEVENT
DTSTAMP:20260421T110926Z
DTSTART;VALUE=DATE:20150205
SUMMARY:ICBET 2015 Final Version Due
DESCRIPTION:2015 5th International Conference on Biomedical Engineering a
 nd Technology 
URL:http://www.wikicfp.com/cfp/servlet/event.showcfp?eventid=40698&copyow
 nerid=70551
UID:cfp479927-N@wikicfp.com
END:VEVENT
BEGIN:VEVENT
DTSTAMP:20260421T110926Z
DTSTART;VALUE=DATE:20160615
SUMMARY:JBEMI 2016 Deadline
DESCRIPTION:Journal of Biomedical Engineering and Medical Imaging
URL:http://www.wikicfp.com/cfp/servlet/event.showcfp?eventid=37559&copyow
 nerid=70551
UID:cfp479929-D@wikicfp.com
END:VEVENT
BEGIN:VEVENT
DTSTAMP:20260421T110926Z
DTSTART;VALUE=DATE:20160625
SUMMARY:JBEMI 2016 Notification Due
DESCRIPTION:Journal of Biomedical Engineering and Medical Imaging
URL:http://www.wikicfp.com/cfp/servlet/event.showcfp?eventid=37559&copyow
 nerid=70551
UID:cfp479929-N@wikicfp.com
END:VEVENT
BEGIN:VEVENT
DTSTAMP:20260421T110926Z
DTSTART;VALUE=DATE:20160630
SUMMARY:JBEMI 2016 Final Version Due
DESCRIPTION:Journal of Biomedical Engineering and Medical Imaging
URL:http://www.wikicfp.com/cfp/servlet/event.showcfp?eventid=37559&copyow
 nerid=70551
UID:cfp479929-N@wikicfp.com
END:VEVENT
END:VCALENDAR
