BEGIN:VCALENDAR
PRODID:-//WikiCFP//mhnahid 1.0//EN
VERSION:2.0
CALSCALE:GREGORIAN
BEGIN:VEVENT
DTSTAMP:20260424T164116Z
DTSTART;VALUE=DATE:20150212
DTEND;VALUE=DATE:20150215
SUMMARY:ICEAPVI 2015
DESCRIPTION:International Conference on Enabling Access  for Persons with
  Visual Impairment
URL:http://www.wikicfp.com/cfp/servlet/event.showcfp?eventid=38620&copyow
 nerid=69820
UID:cfp475408-E@wikicfp.com
END:VEVENT
BEGIN:VEVENT
DTSTAMP:20260424T164116Z
DTSTART;VALUE=DATE:20140915
SUMMARY:ICEAPVI 2015 Deadline
DESCRIPTION:International Conference on Enabling Access  for Persons with
  Visual Impairment
URL:http://www.wikicfp.com/cfp/servlet/event.showcfp?eventid=38620&copyow
 nerid=69820
UID:cfp475408-D@wikicfp.com
END:VEVENT
BEGIN:VEVENT
DTSTAMP:20260424T164116Z
DTSTART;VALUE=DATE:20141115
SUMMARY:ICEAPVI 2015 Notification Due
DESCRIPTION:International Conference on Enabling Access  for Persons with
  Visual Impairment
URL:http://www.wikicfp.com/cfp/servlet/event.showcfp?eventid=38620&copyow
 nerid=69820
UID:cfp475408-N@wikicfp.com
END:VEVENT
BEGIN:VEVENT
DTSTAMP:20260424T164116Z
DTSTART;VALUE=DATE:20141220
SUMMARY:ICEAPVI 2015 Final Version Due
DESCRIPTION:International Conference on Enabling Access  for Persons with
  Visual Impairment
URL:http://www.wikicfp.com/cfp/servlet/event.showcfp?eventid=38620&copyow
 nerid=69820
UID:cfp475408-N@wikicfp.com
END:VEVENT
END:VCALENDAR
