BEGIN:VCALENDAR
PRODID:-//WikiCFP//choibok15 1.0//EN
VERSION:2.0
CALSCALE:GREGORIAN
BEGIN:VEVENT
DTSTAMP:20260421T235846Z
DTSTART;VALUE=DATE:20150319
DTEND;VALUE=DATE:20150321
SUMMARY:ICICN 2015
DESCRIPTION:2015 3th International Conference on Information and Computer
  Networks
URL:http://www.wikicfp.com/cfp/servlet/event.showcfp?eventid=40244&copyow
 nerid=69679
UID:cfp474777-E@wikicfp.com
END:VEVENT
BEGIN:VEVENT
DTSTAMP:20260421T235846Z
DTSTART;VALUE=DATE:20141230
SUMMARY:ICICN 2015 Deadline
DESCRIPTION:2015 3th International Conference on Information and Computer
  Networks
URL:http://www.wikicfp.com/cfp/servlet/event.showcfp?eventid=40244&copyow
 nerid=69679
UID:cfp474777-D@wikicfp.com
END:VEVENT
BEGIN:VEVENT
DTSTAMP:20260421T235846Z
DTSTART;VALUE=DATE:20150125
SUMMARY:ICICN 2015 Notification Due
DESCRIPTION:2015 3th International Conference on Information and Computer
  Networks
URL:http://www.wikicfp.com/cfp/servlet/event.showcfp?eventid=40244&copyow
 nerid=69679
UID:cfp474777-N@wikicfp.com
END:VEVENT
BEGIN:VEVENT
DTSTAMP:20260421T235846Z
DTSTART;VALUE=DATE:20150210
SUMMARY:ICICN 2015 Final Version Due
DESCRIPTION:2015 3th International Conference on Information and Computer
  Networks
URL:http://www.wikicfp.com/cfp/servlet/event.showcfp?eventid=40244&copyow
 nerid=69679
UID:cfp474777-N@wikicfp.com
END:VEVENT
BEGIN:VEVENT
DTSTAMP:20260421T235846Z
DTSTART;VALUE=DATE:20150307
DTEND;VALUE=DATE:20150309
SUMMARY:ICNMC  2015
DESCRIPTION:International Conference on New Music Concepts
URL:http://www.wikicfp.com/cfp/servlet/event.showcfp?eventid=38085&copyow
 nerid=69679
UID:cfp474778-E@wikicfp.com
END:VEVENT
BEGIN:VEVENT
DTSTAMP:20260421T235846Z
DTSTART;VALUE=DATE:20141231
SUMMARY:ICNMC  2015 Deadline
DESCRIPTION:International Conference on New Music Concepts
URL:http://www.wikicfp.com/cfp/servlet/event.showcfp?eventid=38085&copyow
 nerid=69679
UID:cfp474778-D@wikicfp.com
END:VEVENT
BEGIN:VEVENT
DTSTAMP:20260421T235846Z
DTSTART;VALUE=DATE:20150125
SUMMARY:ICNMC  2015 Notification Due
DESCRIPTION:International Conference on New Music Concepts
URL:http://www.wikicfp.com/cfp/servlet/event.showcfp?eventid=38085&copyow
 nerid=69679
UID:cfp474778-N@wikicfp.com
END:VEVENT
BEGIN:VEVENT
DTSTAMP:20260421T235846Z
DTSTART;VALUE=DATE:20150208
SUMMARY:ICNMC  2015 Final Version Due
DESCRIPTION:International Conference on New Music Concepts
URL:http://www.wikicfp.com/cfp/servlet/event.showcfp?eventid=38085&copyow
 nerid=69679
UID:cfp474778-N@wikicfp.com
END:VEVENT
END:VCALENDAR
