BEGIN:VCALENDAR
PRODID:-//WikiCFP//charliefreundlich 1.0//EN
VERSION:2.0
CALSCALE:GREGORIAN
BEGIN:VEVENT
DTSTAMP:20260425T215801Z
DTSTART;VALUE=DATE:20151215
DTEND;VALUE=DATE:20151219
SUMMARY:CDC 2015
DESCRIPTION:IEEE Conference on Decision and Control
URL:http://www.wikicfp.com/cfp/servlet/event.showcfp?eventid=37913&copyow
 nerid=69109
UID:cfp471087-E@wikicfp.com
END:VEVENT
BEGIN:VEVENT
DTSTAMP:20260425T215801Z
DTSTART;VALUE=DATE:20150324
SUMMARY:CDC 2015 Deadline
DESCRIPTION:IEEE Conference on Decision and Control
URL:http://www.wikicfp.com/cfp/servlet/event.showcfp?eventid=37913&copyow
 nerid=69109
UID:cfp471087-D@wikicfp.com
END:VEVENT
END:VCALENDAR
