BEGIN:VCALENDAR
PRODID:-//WikiCFP//berker 1.0//EN
VERSION:2.0
CALSCALE:GREGORIAN
BEGIN:VEVENT
DTSTAMP:20260423T004134Z
DTSTART;VALUE=DATE:20170324
DTEND;VALUE=DATE:20170401
SUMMARY:WACV 2017
DESCRIPTION:IEEE Winter Conference on Applications of Computer Vision 
URL:http://www.wikicfp.com/cfp/servlet/event.showcfp?eventid=56568&copyow
 nerid=68806
UID:cfp656265-E@wikicfp.com
END:VEVENT
BEGIN:VEVENT
DTSTAMP:20260423T004134Z
DTSTART;VALUE=DATE:20161003
SUMMARY:WACV 2017 Deadline
DESCRIPTION:IEEE Winter Conference on Applications of Computer Vision 
URL:http://www.wikicfp.com/cfp/servlet/event.showcfp?eventid=56568&copyow
 nerid=68806
UID:cfp656265-D@wikicfp.com
END:VEVENT
BEGIN:VEVENT
DTSTAMP:20260423T004134Z
DTSTART;VALUE=DATE:20171128
DTEND;VALUE=DATE:20171202
SUMMARY:IPTA 2017
DESCRIPTION:International Conference on Image Processing Theory\, Tools a
 nd Applications
URL:http://www.wikicfp.com/cfp/servlet/event.showcfp?eventid=61616&copyow
 nerid=68806
UID:cfp656264-E@wikicfp.com
END:VEVENT
BEGIN:VEVENT
DTSTAMP:20260423T004134Z
DTSTART;VALUE=DATE:20170710
SUMMARY:IPTA 2017 Deadline
DESCRIPTION:International Conference on Image Processing Theory\, Tools a
 nd Applications
URL:http://www.wikicfp.com/cfp/servlet/event.showcfp?eventid=61616&copyow
 nerid=68806
UID:cfp656264-D@wikicfp.com
END:VEVENT
BEGIN:VEVENT
DTSTAMP:20260423T004134Z
DTSTART;VALUE=DATE:20170920
SUMMARY:IPTA 2017 Notification Due
DESCRIPTION:International Conference on Image Processing Theory\, Tools a
 nd Applications
URL:http://www.wikicfp.com/cfp/servlet/event.showcfp?eventid=61616&copyow
 nerid=68806
UID:cfp656264-N@wikicfp.com
END:VEVENT
BEGIN:VEVENT
DTSTAMP:20260423T004134Z
DTSTART;VALUE=DATE:20171015
SUMMARY:IPTA 2017 Final Version Due
DESCRIPTION:International Conference on Image Processing Theory\, Tools a
 nd Applications
URL:http://www.wikicfp.com/cfp/servlet/event.showcfp?eventid=61616&copyow
 nerid=68806
UID:cfp656264-N@wikicfp.com
END:VEVENT
BEGIN:VEVENT
DTSTAMP:20260423T004134Z
DTSTART;VALUE=DATE:20171125
DTEND;VALUE=DATE:20171127
SUMMARY:ISAIR 2017
DESCRIPTION:The 2nd International Symposium on Artificial Intelligence an
 d Robotics 2017
URL:http://www.wikicfp.com/cfp/servlet/event.showcfp?eventid=57170&copyow
 nerid=68806
UID:cfp656263-E@wikicfp.com
END:VEVENT
BEGIN:VEVENT
DTSTAMP:20260423T004134Z
DTSTART;VALUE=DATE:20170731
SUMMARY:ISAIR 2017 Deadline
DESCRIPTION:The 2nd International Symposium on Artificial Intelligence an
 d Robotics 2017
URL:http://www.wikicfp.com/cfp/servlet/event.showcfp?eventid=57170&copyow
 nerid=68806
UID:cfp656263-D@wikicfp.com
END:VEVENT
BEGIN:VEVENT
DTSTAMP:20260423T004134Z
DTSTART;VALUE=DATE:20170805
SUMMARY:ISAIR 2017 Notification Due
DESCRIPTION:The 2nd International Symposium on Artificial Intelligence an
 d Robotics 2017
URL:http://www.wikicfp.com/cfp/servlet/event.showcfp?eventid=57170&copyow
 nerid=68806
UID:cfp656263-N@wikicfp.com
END:VEVENT
BEGIN:VEVENT
DTSTAMP:20260423T004134Z
DTSTART;VALUE=DATE:20170815
SUMMARY:ISAIR 2017 Final Version Due
DESCRIPTION:The 2nd International Symposium on Artificial Intelligence an
 d Robotics 2017
URL:http://www.wikicfp.com/cfp/servlet/event.showcfp?eventid=57170&copyow
 nerid=68806
UID:cfp656263-N@wikicfp.com
END:VEVENT
END:VCALENDAR
