BEGIN:VCALENDAR
PRODID:-//WikiCFP//lauraosoriovelez 1.0//EN
VERSION:2.0
CALSCALE:GREGORIAN
BEGIN:VEVENT
DTSTAMP:20260424T180057Z
DTSTART;VALUE=DATE:20140611
DTEND;VALUE=DATE:20140616
SUMMARY:MMTIC 2014
DESCRIPTION:Materials\, Methods and Technologies 2014\, 16th Internationa
 l Conference
URL:http://www.wikicfp.com/cfp/servlet/event.showcfp?eventid=36846&copyow
 nerid=68685
UID:cfp467556-E@wikicfp.com
END:VEVENT
BEGIN:VEVENT
DTSTAMP:20260424T180057Z
DTSTART;VALUE=DATE:20140418
DTEND;VALUE=DATE:20140420
SUMMARY:ICAAMN 2014
DESCRIPTION:2014 the 1st International Conference on Advance in Applied M
 aterials and Nanotechnology
URL:http://www.wikicfp.com/cfp/servlet/event.showcfp?eventid=37363&copyow
 nerid=68685
UID:cfp467558-E@wikicfp.com
END:VEVENT
BEGIN:VEVENT
DTSTAMP:20260424T180057Z
DTSTART;VALUE=DATE:20140410
SUMMARY:ICAAMN 2014 Deadline
DESCRIPTION:2014 the 1st International Conference on Advance in Applied M
 aterials and Nanotechnology
URL:http://www.wikicfp.com/cfp/servlet/event.showcfp?eventid=37363&copyow
 nerid=68685
UID:cfp467558-D@wikicfp.com
END:VEVENT
BEGIN:VEVENT
DTSTAMP:20260424T180057Z
DTSTART;VALUE=DATE:20140424
SUMMARY:ICAAMN 2014 Notification Due
DESCRIPTION:2014 the 1st International Conference on Advance in Applied M
 aterials and Nanotechnology
URL:http://www.wikicfp.com/cfp/servlet/event.showcfp?eventid=37363&copyow
 nerid=68685
UID:cfp467558-N@wikicfp.com
END:VEVENT
BEGIN:VEVENT
DTSTAMP:20260424T180057Z
DTSTART;VALUE=DATE:20140424
SUMMARY:ICAAMN 2014 Final Version Due
DESCRIPTION:2014 the 1st International Conference on Advance in Applied M
 aterials and Nanotechnology
URL:http://www.wikicfp.com/cfp/servlet/event.showcfp?eventid=37363&copyow
 nerid=68685
UID:cfp467558-N@wikicfp.com
END:VEVENT
BEGIN:VEVENT
DTSTAMP:20260424T180057Z
DTSTART;VALUE=DATE:20140921
DTEND;VALUE=DATE:20140928
SUMMARY:NAP 2014
DESCRIPTION:4-th International Conference Nanomaterials: Applications & P
 roperties' 2014
URL:http://www.wikicfp.com/cfp/servlet/event.showcfp?eventid=33664&copyow
 nerid=68685
UID:cfp467550-E@wikicfp.com
END:VEVENT
BEGIN:VEVENT
DTSTAMP:20260424T180057Z
DTSTART;VALUE=DATE:20140501
SUMMARY:NAP 2014 Deadline
DESCRIPTION:4-th International Conference Nanomaterials: Applications & P
 roperties' 2014
URL:http://www.wikicfp.com/cfp/servlet/event.showcfp?eventid=33664&copyow
 nerid=68685
UID:cfp467550-D@wikicfp.com
END:VEVENT
BEGIN:VEVENT
DTSTAMP:20260424T180057Z
DTSTART;VALUE=DATE:20140601
SUMMARY:NAP 2014 Final Version Due
DESCRIPTION:4-th International Conference Nanomaterials: Applications & P
 roperties' 2014
URL:http://www.wikicfp.com/cfp/servlet/event.showcfp?eventid=33664&copyow
 nerid=68685
UID:cfp467550-N@wikicfp.com
END:VEVENT
BEGIN:VEVENT
DTSTAMP:20260424T180057Z
DTSTART;VALUE=DATE:20150309
DTEND;VALUE=DATE:20150314
SUMMARY:Hybrid Materials  2015
DESCRIPTION:Fourth International Conference on Multifunctional\, Hybrid a
 nd Nanomaterials 
URL:http://www.wikicfp.com/cfp/servlet/event.showcfp?eventid=37890&copyow
 nerid=68685
UID:cfp467548-E@wikicfp.com
END:VEVENT
BEGIN:VEVENT
DTSTAMP:20260424T180057Z
DTSTART;VALUE=DATE:20140915
SUMMARY:Hybrid Materials  2015 Deadline
DESCRIPTION:Fourth International Conference on Multifunctional\, Hybrid a
 nd Nanomaterials 
URL:http://www.wikicfp.com/cfp/servlet/event.showcfp?eventid=37890&copyow
 nerid=68685
UID:cfp467548-D@wikicfp.com
END:VEVENT
BEGIN:VEVENT
DTSTAMP:20260424T180057Z
DTSTART;VALUE=DATE:20141218
DTEND;VALUE=DATE:20141221
SUMMARY:ICMPM 2014
DESCRIPTION:2014 International Conference on Mechanical Properties of Mat
 erials
URL:http://www.wikicfp.com/cfp/servlet/event.showcfp?eventid=37525&copyow
 nerid=68685
UID:cfp467542-E@wikicfp.com
END:VEVENT
BEGIN:VEVENT
DTSTAMP:20260424T180057Z
DTSTART;VALUE=DATE:20140930
SUMMARY:ICMPM 2014 Deadline
DESCRIPTION:2014 International Conference on Mechanical Properties of Mat
 erials
URL:http://www.wikicfp.com/cfp/servlet/event.showcfp?eventid=37525&copyow
 nerid=68685
UID:cfp467542-D@wikicfp.com
END:VEVENT
BEGIN:VEVENT
DTSTAMP:20260424T180057Z
DTSTART;VALUE=DATE:20141025
SUMMARY:ICMPM 2014 Notification Due
DESCRIPTION:2014 International Conference on Mechanical Properties of Mat
 erials
URL:http://www.wikicfp.com/cfp/servlet/event.showcfp?eventid=37525&copyow
 nerid=68685
UID:cfp467542-N@wikicfp.com
END:VEVENT
BEGIN:VEVENT
DTSTAMP:20260424T180057Z
DTSTART;VALUE=DATE:20141110
SUMMARY:ICMPM 2014 Final Version Due
DESCRIPTION:2014 International Conference on Mechanical Properties of Mat
 erials
URL:http://www.wikicfp.com/cfp/servlet/event.showcfp?eventid=37525&copyow
 nerid=68685
UID:cfp467542-N@wikicfp.com
END:VEVENT
BEGIN:VEVENT
DTSTAMP:20260424T180057Z
DTSTART;VALUE=DATE:20141105
DTEND;VALUE=DATE:20141107
SUMMARY:ICMEM 2014
DESCRIPTION:2014 3rd International Conference on Mechanical Engineering a
 nd Materials
URL:http://www.wikicfp.com/cfp/servlet/event.showcfp?eventid=40072&copyow
 nerid=68685
UID:cfp467539-E@wikicfp.com
END:VEVENT
BEGIN:VEVENT
DTSTAMP:20260424T180057Z
DTSTART;VALUE=DATE:20140930
SUMMARY:ICMEM 2014 Deadline
DESCRIPTION:2014 3rd International Conference on Mechanical Engineering a
 nd Materials
URL:http://www.wikicfp.com/cfp/servlet/event.showcfp?eventid=40072&copyow
 nerid=68685
UID:cfp467539-D@wikicfp.com
END:VEVENT
BEGIN:VEVENT
DTSTAMP:20260424T180057Z
DTSTART;VALUE=DATE:20141010
SUMMARY:ICMEM 2014 Notification Due
DESCRIPTION:2014 3rd International Conference on Mechanical Engineering a
 nd Materials
URL:http://www.wikicfp.com/cfp/servlet/event.showcfp?eventid=40072&copyow
 nerid=68685
UID:cfp467539-N@wikicfp.com
END:VEVENT
BEGIN:VEVENT
DTSTAMP:20260424T180057Z
DTSTART;VALUE=DATE:20141020
SUMMARY:ICMEM 2014 Final Version Due
DESCRIPTION:2014 3rd International Conference on Mechanical Engineering a
 nd Materials
URL:http://www.wikicfp.com/cfp/servlet/event.showcfp?eventid=40072&copyow
 nerid=68685
UID:cfp467539-N@wikicfp.com
END:VEVENT
BEGIN:VEVENT
DTSTAMP:20260424T180057Z
DTSTART;VALUE=DATE:20141218
DTEND;VALUE=DATE:20141221
SUMMARY:ICNB 2014
DESCRIPTION:2014 5th International Conference on Nanotechnology and Biose
 nsors
URL:http://www.wikicfp.com/cfp/servlet/event.showcfp?eventid=37524&copyow
 nerid=68685
UID:cfp467541-E@wikicfp.com
END:VEVENT
BEGIN:VEVENT
DTSTAMP:20260424T180057Z
DTSTART;VALUE=DATE:20141005
SUMMARY:ICNB 2014 Deadline
DESCRIPTION:2014 5th International Conference on Nanotechnology and Biose
 nsors
URL:http://www.wikicfp.com/cfp/servlet/event.showcfp?eventid=37524&copyow
 nerid=68685
UID:cfp467541-D@wikicfp.com
END:VEVENT
BEGIN:VEVENT
DTSTAMP:20260424T180057Z
DTSTART;VALUE=DATE:20141030
SUMMARY:ICNB 2014 Notification Due
DESCRIPTION:2014 5th International Conference on Nanotechnology and Biose
 nsors
URL:http://www.wikicfp.com/cfp/servlet/event.showcfp?eventid=37524&copyow
 nerid=68685
UID:cfp467541-N@wikicfp.com
END:VEVENT
BEGIN:VEVENT
DTSTAMP:20260424T180057Z
DTSTART;VALUE=DATE:20141115
SUMMARY:ICNB 2014 Final Version Due
DESCRIPTION:2014 5th International Conference on Nanotechnology and Biose
 nsors
URL:http://www.wikicfp.com/cfp/servlet/event.showcfp?eventid=37524&copyow
 nerid=68685
UID:cfp467541-N@wikicfp.com
END:VEVENT
BEGIN:VEVENT
DTSTAMP:20260424T180057Z
DTSTART;VALUE=DATE:20141213
DTEND;VALUE=DATE:20141216
SUMMARY:ICFB 2014
DESCRIPTION:2014 3rd International Conference on Future Bioengineering
URL:http://www.wikicfp.com/cfp/servlet/event.showcfp?eventid=38594&copyow
 nerid=68685
UID:cfp467543-E@wikicfp.com
END:VEVENT
BEGIN:VEVENT
DTSTAMP:20260424T180057Z
DTSTART;VALUE=DATE:20141005
SUMMARY:ICFB 2014 Deadline
DESCRIPTION:2014 3rd International Conference on Future Bioengineering
URL:http://www.wikicfp.com/cfp/servlet/event.showcfp?eventid=38594&copyow
 nerid=68685
UID:cfp467543-D@wikicfp.com
END:VEVENT
BEGIN:VEVENT
DTSTAMP:20260424T180057Z
DTSTART;VALUE=DATE:20141020
SUMMARY:ICFB 2014 Notification Due
DESCRIPTION:2014 3rd International Conference on Future Bioengineering
URL:http://www.wikicfp.com/cfp/servlet/event.showcfp?eventid=38594&copyow
 nerid=68685
UID:cfp467543-N@wikicfp.com
END:VEVENT
BEGIN:VEVENT
DTSTAMP:20260424T180057Z
DTSTART;VALUE=DATE:20141105
SUMMARY:ICFB 2014 Final Version Due
DESCRIPTION:2014 3rd International Conference on Future Bioengineering
URL:http://www.wikicfp.com/cfp/servlet/event.showcfp?eventid=38594&copyow
 nerid=68685
UID:cfp467543-N@wikicfp.com
END:VEVENT
BEGIN:VEVENT
DTSTAMP:20260424T180057Z
DTSTART;VALUE=DATE:20141010
SUMMARY:IJBES 2014 Deadline
DESCRIPTION:International Journal of Biomedical Engineering and Science 
URL:http://www.wikicfp.com/cfp/servlet/event.showcfp?eventid=33052&copyow
 nerid=68685
UID:cfp467540-D@wikicfp.com
END:VEVENT
BEGIN:VEVENT
DTSTAMP:20260424T180057Z
DTSTART;VALUE=DATE:20141110
SUMMARY:IJBES 2014 Notification Due
DESCRIPTION:International Journal of Biomedical Engineering and Science 
URL:http://www.wikicfp.com/cfp/servlet/event.showcfp?eventid=33052&copyow
 nerid=68685
UID:cfp467540-N@wikicfp.com
END:VEVENT
BEGIN:VEVENT
DTSTAMP:20260424T180057Z
DTSTART;VALUE=DATE:20141117
SUMMARY:IJBES 2014 Final Version Due
DESCRIPTION:International Journal of Biomedical Engineering and Science 
URL:http://www.wikicfp.com/cfp/servlet/event.showcfp?eventid=33052&copyow
 nerid=68685
UID:cfp467540-N@wikicfp.com
END:VEVENT
BEGIN:VEVENT
DTSTAMP:20260424T180057Z
DTSTART;VALUE=DATE:20141226
DTEND;VALUE=DATE:20141229
SUMMARY:ICNNN 2014
DESCRIPTION:2014 The 3rd International Conference on Nanostructures\, Nan
 omaterials and Nanoengineering (ICNNN 2014)
URL:http://www.wikicfp.com/cfp/servlet/event.showcfp?eventid=38496&copyow
 nerid=68685
UID:cfp467551-E@wikicfp.com
END:VEVENT
BEGIN:VEVENT
DTSTAMP:20260424T180057Z
DTSTART;VALUE=DATE:20141010
SUMMARY:ICNNN 2014 Deadline
DESCRIPTION:2014 The 3rd International Conference on Nanostructures\, Nan
 omaterials and Nanoengineering (ICNNN 2014)
URL:http://www.wikicfp.com/cfp/servlet/event.showcfp?eventid=38496&copyow
 nerid=68685
UID:cfp467551-D@wikicfp.com
END:VEVENT
BEGIN:VEVENT
DTSTAMP:20260424T180057Z
DTSTART;VALUE=DATE:20141030
SUMMARY:ICNNN 2014 Notification Due
DESCRIPTION:2014 The 3rd International Conference on Nanostructures\, Nan
 omaterials and Nanoengineering (ICNNN 2014)
URL:http://www.wikicfp.com/cfp/servlet/event.showcfp?eventid=38496&copyow
 nerid=68685
UID:cfp467551-N@wikicfp.com
END:VEVENT
BEGIN:VEVENT
DTSTAMP:20260424T180057Z
DTSTART;VALUE=DATE:20141115
SUMMARY:ICNNN 2014 Final Version Due
DESCRIPTION:2014 The 3rd International Conference on Nanostructures\, Nan
 omaterials and Nanoengineering (ICNNN 2014)
URL:http://www.wikicfp.com/cfp/servlet/event.showcfp?eventid=38496&copyow
 nerid=68685
UID:cfp467551-N@wikicfp.com
END:VEVENT
BEGIN:VEVENT
DTSTAMP:20260424T180057Z
DTSTART;VALUE=DATE:20150124
DTEND;VALUE=DATE:20150127
SUMMARY:ICNMS 2015
DESCRIPTION:2015 3rd International Conference on Nano and Materials Scien
 ce
URL:http://www.wikicfp.com/cfp/servlet/event.showcfp?eventid=38941&copyow
 nerid=68685
UID:cfp467544-E@wikicfp.com
END:VEVENT
BEGIN:VEVENT
DTSTAMP:20260424T180057Z
DTSTART;VALUE=DATE:20141110
SUMMARY:ICNMS 2015 Deadline
DESCRIPTION:2015 3rd International Conference on Nano and Materials Scien
 ce
URL:http://www.wikicfp.com/cfp/servlet/event.showcfp?eventid=38941&copyow
 nerid=68685
UID:cfp467544-D@wikicfp.com
END:VEVENT
BEGIN:VEVENT
DTSTAMP:20260424T180057Z
DTSTART;VALUE=DATE:20141130
SUMMARY:ICNMS 2015 Notification Due
DESCRIPTION:2015 3rd International Conference on Nano and Materials Scien
 ce
URL:http://www.wikicfp.com/cfp/servlet/event.showcfp?eventid=38941&copyow
 nerid=68685
UID:cfp467544-N@wikicfp.com
END:VEVENT
BEGIN:VEVENT
DTSTAMP:20260424T180057Z
DTSTART;VALUE=DATE:20141215
SUMMARY:ICNMS 2015 Final Version Due
DESCRIPTION:2015 3rd International Conference on Nano and Materials Scien
 ce
URL:http://www.wikicfp.com/cfp/servlet/event.showcfp?eventid=38941&copyow
 nerid=68685
UID:cfp467544-N@wikicfp.com
END:VEVENT
BEGIN:VEVENT
DTSTAMP:20260424T180057Z
DTSTART;VALUE=DATE:20150402
DTEND;VALUE=DATE:20150404
SUMMARY:ICNME 2015
DESCRIPTION:2015 3rd International Conference on Nano and Materials Engin
 eering
URL:http://www.wikicfp.com/cfp/servlet/event.showcfp?eventid=33180&copyow
 nerid=68685
UID:cfp467557-E@wikicfp.com
END:VEVENT
BEGIN:VEVENT
DTSTAMP:20260424T180057Z
DTSTART;VALUE=DATE:20150120
SUMMARY:ICNME 2015 Deadline
DESCRIPTION:2015 3rd International Conference on Nano and Materials Engin
 eering
URL:http://www.wikicfp.com/cfp/servlet/event.showcfp?eventid=33180&copyow
 nerid=68685
UID:cfp467557-D@wikicfp.com
END:VEVENT
BEGIN:VEVENT
DTSTAMP:20260424T180057Z
DTSTART;VALUE=DATE:20150210
SUMMARY:ICNME 2015 Notification Due
DESCRIPTION:2015 3rd International Conference on Nano and Materials Engin
 eering
URL:http://www.wikicfp.com/cfp/servlet/event.showcfp?eventid=33180&copyow
 nerid=68685
UID:cfp467557-N@wikicfp.com
END:VEVENT
BEGIN:VEVENT
DTSTAMP:20260424T180057Z
DTSTART;VALUE=DATE:20150225
SUMMARY:ICNME 2015 Final Version Due
DESCRIPTION:2015 3rd International Conference on Nano and Materials Engin
 eering
URL:http://www.wikicfp.com/cfp/servlet/event.showcfp?eventid=33180&copyow
 nerid=68685
UID:cfp467557-N@wikicfp.com
END:VEVENT
END:VCALENDAR
