BEGIN:VCALENDAR
PRODID:-//WikiCFP//isabellamunari 1.0//EN
VERSION:2.0
CALSCALE:GREGORIAN
BEGIN:VEVENT
DTSTAMP:20260421T222042Z
DTSTART;VALUE=DATE:20141025
DTEND;VALUE=DATE:20141027
SUMMARY:IWAHS 2014
DESCRIPTION:International Workshop on Arts\, Humanities\, Social Sciences
  and Related Topics
URL:http://www.wikicfp.com/cfp/servlet/event.showcfp?eventid=39770&copyow
 nerid=68399
UID:cfp465864-E@wikicfp.com
END:VEVENT
BEGIN:VEVENT
DTSTAMP:20260421T222042Z
DTSTART;VALUE=DATE:20140820
SUMMARY:IWAHS 2014 Deadline
DESCRIPTION:International Workshop on Arts\, Humanities\, Social Sciences
  and Related Topics
URL:http://www.wikicfp.com/cfp/servlet/event.showcfp?eventid=39770&copyow
 nerid=68399
UID:cfp465864-D@wikicfp.com
END:VEVENT
BEGIN:VEVENT
DTSTAMP:20260421T222042Z
DTSTART;VALUE=DATE:20140915
SUMMARY:IWAHS 2014 Notification Due
DESCRIPTION:International Workshop on Arts\, Humanities\, Social Sciences
  and Related Topics
URL:http://www.wikicfp.com/cfp/servlet/event.showcfp?eventid=39770&copyow
 nerid=68399
UID:cfp465864-N@wikicfp.com
END:VEVENT
BEGIN:VEVENT
DTSTAMP:20260421T222042Z
DTSTART;VALUE=DATE:20140915
SUMMARY:IWAHS 2014 Final Version Due
DESCRIPTION:International Workshop on Arts\, Humanities\, Social Sciences
  and Related Topics
URL:http://www.wikicfp.com/cfp/servlet/event.showcfp?eventid=39770&copyow
 nerid=68399
UID:cfp465864-N@wikicfp.com
END:VEVENT
BEGIN:VEVENT
DTSTAMP:20260421T222042Z
DTSTART;VALUE=DATE:20141023
DTEND;VALUE=DATE:20141026
SUMMARY:HISTART'14 2014
DESCRIPTION:HISTART'14 / HISTORY OF ART CONFERENCE
URL:http://www.wikicfp.com/cfp/servlet/event.showcfp?eventid=38514&copyow
 nerid=68399
UID:cfp465858-E@wikicfp.com
END:VEVENT
BEGIN:VEVENT
DTSTAMP:20260421T222042Z
DTSTART;VALUE=DATE:20140718
SUMMARY:HISTART'14 2014 Abstract Due
DESCRIPTION:HISTART'14 / HISTORY OF ART CONFERENCE
URL:http://www.wikicfp.com/cfp/servlet/event.showcfp?eventid=38514&copyow
 nerid=68399
UID:cfp465858-A@wikicfp.com
END:VEVENT
BEGIN:VEVENT
DTSTAMP:20260421T222042Z
DTSTART;VALUE=DATE:20140919
SUMMARY:HISTART'14 2014 Deadline
DESCRIPTION:HISTART'14 / HISTORY OF ART CONFERENCE
URL:http://www.wikicfp.com/cfp/servlet/event.showcfp?eventid=38514&copyow
 nerid=68399
UID:cfp465858-D@wikicfp.com
END:VEVENT
BEGIN:VEVENT
DTSTAMP:20260421T222042Z
DTSTART;VALUE=DATE:20141027
DTEND;VALUE=DATE:20141030
SUMMARY:CULTHIST 2014
DESCRIPTION:CULTHIST'14 - Cultural History and Anthropology Conference
URL:http://www.wikicfp.com/cfp/servlet/event.showcfp?eventid=38515&copyow
 nerid=68399
UID:cfp465860-E@wikicfp.com
END:VEVENT
BEGIN:VEVENT
DTSTAMP:20260421T222042Z
DTSTART;VALUE=DATE:20140725
SUMMARY:CULTHIST 2014 Abstract Due
DESCRIPTION:CULTHIST'14 - Cultural History and Anthropology Conference
URL:http://www.wikicfp.com/cfp/servlet/event.showcfp?eventid=38515&copyow
 nerid=68399
UID:cfp465860-A@wikicfp.com
END:VEVENT
BEGIN:VEVENT
DTSTAMP:20260421T222042Z
DTSTART;VALUE=DATE:20140926
SUMMARY:CULTHIST 2014 Deadline
DESCRIPTION:CULTHIST'14 - Cultural History and Anthropology Conference
URL:http://www.wikicfp.com/cfp/servlet/event.showcfp?eventid=38515&copyow
 nerid=68399
UID:cfp465860-D@wikicfp.com
END:VEVENT
BEGIN:VEVENT
DTSTAMP:20260421T222042Z
DTSTART;VALUE=DATE:20150219
DTEND;VALUE=DATE:20150221
SUMMARY:IGRSAH 2015
DESCRIPTION:1st International Graduate Research Symposium on Architectura
 l History: TABULA RASA
URL:http://www.wikicfp.com/cfp/servlet/event.showcfp?eventid=39496&copyow
 nerid=68399
UID:cfp465862-E@wikicfp.com
END:VEVENT
BEGIN:VEVENT
DTSTAMP:20260421T222042Z
DTSTART;VALUE=DATE:20140930
SUMMARY:IGRSAH 2015 Deadline
DESCRIPTION:1st International Graduate Research Symposium on Architectura
 l History: TABULA RASA
URL:http://www.wikicfp.com/cfp/servlet/event.showcfp?eventid=39496&copyow
 nerid=68399
UID:cfp465862-D@wikicfp.com
END:VEVENT
BEGIN:VEVENT
DTSTAMP:20260421T222042Z
DTSTART;VALUE=DATE:20141030
SUMMARY:IGRSAH 2015 Notification Due
DESCRIPTION:1st International Graduate Research Symposium on Architectura
 l History: TABULA RASA
URL:http://www.wikicfp.com/cfp/servlet/event.showcfp?eventid=39496&copyow
 nerid=68399
UID:cfp465862-N@wikicfp.com
END:VEVENT
BEGIN:VEVENT
DTSTAMP:20260421T222042Z
DTSTART;VALUE=DATE:20150108
SUMMARY:IGRSAH 2015 Final Version Due
DESCRIPTION:1st International Graduate Research Symposium on Architectura
 l History: TABULA RASA
URL:http://www.wikicfp.com/cfp/servlet/event.showcfp?eventid=39496&copyow
 nerid=68399
UID:cfp465862-N@wikicfp.com
END:VEVENT
BEGIN:VEVENT
DTSTAMP:20260421T222042Z
DTSTART;VALUE=DATE:20150402
DTEND;VALUE=DATE:20150406
SUMMARY:ACAH 2015
DESCRIPTION:The Asian Conference on Arts and Humanities 2015
URL:http://www.wikicfp.com/cfp/servlet/event.showcfp?eventid=39167&copyow
 nerid=68399
UID:cfp465863-E@wikicfp.com
END:VEVENT
BEGIN:VEVENT
DTSTAMP:20260421T222042Z
DTSTART;VALUE=DATE:20141201
SUMMARY:ACAH 2015 Deadline
DESCRIPTION:The Asian Conference on Arts and Humanities 2015
URL:http://www.wikicfp.com/cfp/servlet/event.showcfp?eventid=39167&copyow
 nerid=68399
UID:cfp465863-D@wikicfp.com
END:VEVENT
BEGIN:VEVENT
DTSTAMP:20260421T222042Z
DTSTART;VALUE=DATE:20150401
SUMMARY:SR-XIX 2015 Deadline
DESCRIPTION:Science and Religion in the XIX Century
URL:http://www.wikicfp.com/cfp/servlet/event.showcfp?eventid=39071&copyow
 nerid=68399
UID:cfp465861-D@wikicfp.com
END:VEVENT
BEGIN:VEVENT
DTSTAMP:20260421T222042Z
DTSTART;VALUE=DATE:20150601
SUMMARY:SR-XIX 2015 Notification Due
DESCRIPTION:Science and Religion in the XIX Century
URL:http://www.wikicfp.com/cfp/servlet/event.showcfp?eventid=39071&copyow
 nerid=68399
UID:cfp465861-N@wikicfp.com
END:VEVENT
BEGIN:VEVENT
DTSTAMP:20260421T222042Z
DTSTART;VALUE=DATE:20151220
SUMMARY:SR-XIX 2015 Final Version Due
DESCRIPTION:Science and Religion in the XIX Century
URL:http://www.wikicfp.com/cfp/servlet/event.showcfp?eventid=39071&copyow
 nerid=68399
UID:cfp465861-N@wikicfp.com
END:VEVENT
BEGIN:VEVENT
DTSTAMP:20260421T222042Z
DTSTART;VALUE=DATE:20150514
DTEND;VALUE=DATE:20150518
SUMMARY:KZOO 2015
DESCRIPTION:CFP: Kalamazoo\, The Eye of the Dragon: Viewing a Medieval Ic
 onography from the Other Side - 50th International Congress on Medieval 
 Studies
URL:http://www.wikicfp.com/cfp/servlet/event.showcfp?eventid=39712&copyow
 nerid=68399
UID:cfp465859-E@wikicfp.com
END:VEVENT
BEGIN:VEVENT
DTSTAMP:20260421T222042Z
DTSTART;VALUE=DATE:20150915
SUMMARY:KZOO 2015 Deadline
DESCRIPTION:CFP: Kalamazoo\, The Eye of the Dragon: Viewing a Medieval Ic
 onography from the Other Side - 50th International Congress on Medieval 
 Studies
URL:http://www.wikicfp.com/cfp/servlet/event.showcfp?eventid=39712&copyow
 nerid=68399
UID:cfp465859-D@wikicfp.com
END:VEVENT
END:VCALENDAR
