BEGIN:VCALENDAR
PRODID:-//WikiCFP//rexas2 1.0//EN
VERSION:2.0
CALSCALE:GREGORIAN
BEGIN:VEVENT
DTSTAMP:20260420T180228Z
DTSTART;VALUE=DATE:20141106
DTEND;VALUE=DATE:20141107
SUMMARY:ENSsys 2014
DESCRIPTION:2nd International Workshop on Energy Neutral Sensing Systems
URL:http://www.wikicfp.com/cfp/servlet/event.showcfp?eventid=38276&copyow
 nerid=68291
UID:cfp465260-E@wikicfp.com
END:VEVENT
BEGIN:VEVENT
DTSTAMP:20260420T180228Z
DTSTART;VALUE=DATE:20140803
SUMMARY:ENSsys 2014 Deadline
DESCRIPTION:2nd International Workshop on Energy Neutral Sensing Systems
URL:http://www.wikicfp.com/cfp/servlet/event.showcfp?eventid=38276&copyow
 nerid=68291
UID:cfp465260-D@wikicfp.com
END:VEVENT
BEGIN:VEVENT
DTSTAMP:20260420T180228Z
DTSTART;VALUE=DATE:20140921
SUMMARY:ENSsys 2014 Notification Due
DESCRIPTION:2nd International Workshop on Energy Neutral Sensing Systems
URL:http://www.wikicfp.com/cfp/servlet/event.showcfp?eventid=38276&copyow
 nerid=68291
UID:cfp465260-N@wikicfp.com
END:VEVENT
BEGIN:VEVENT
DTSTAMP:20260420T180228Z
DTSTART;VALUE=DATE:20141005
SUMMARY:ENSsys 2014 Final Version Due
DESCRIPTION:2nd International Workshop on Energy Neutral Sensing Systems
URL:http://www.wikicfp.com/cfp/servlet/event.showcfp?eventid=38276&copyow
 nerid=68291
UID:cfp465260-N@wikicfp.com
END:VEVENT
BEGIN:VEVENT
DTSTAMP:20260420T180228Z
DTSTART;VALUE=DATE:20140815
SUMMARY:CAEE SI-green 2014 Deadline
DESCRIPTION:Computers & Electrical Engineering Journal\, Elsevier\, Speci
 al Issue on Green Engineering Towards Sustainable Smart Cities
URL:http://www.wikicfp.com/cfp/servlet/event.showcfp?eventid=35622&copyow
 nerid=68291
UID:cfp465258-D@wikicfp.com
END:VEVENT
BEGIN:VEVENT
DTSTAMP:20260420T180228Z
DTSTART;VALUE=DATE:20141115
SUMMARY:CAEE SI-green 2014 Notification Due
DESCRIPTION:Computers & Electrical Engineering Journal\, Elsevier\, Speci
 al Issue on Green Engineering Towards Sustainable Smart Cities
URL:http://www.wikicfp.com/cfp/servlet/event.showcfp?eventid=35622&copyow
 nerid=68291
UID:cfp465258-N@wikicfp.com
END:VEVENT
BEGIN:VEVENT
DTSTAMP:20260420T180228Z
DTSTART;VALUE=DATE:20150215
SUMMARY:CAEE SI-green 2014 Final Version Due
DESCRIPTION:Computers & Electrical Engineering Journal\, Elsevier\, Speci
 al Issue on Green Engineering Towards Sustainable Smart Cities
URL:http://www.wikicfp.com/cfp/servlet/event.showcfp?eventid=35622&copyow
 nerid=68291
UID:cfp465258-N@wikicfp.com
END:VEVENT
BEGIN:VEVENT
DTSTAMP:20260420T180228Z
DTSTART;VALUE=DATE:20150309
DTEND;VALUE=DATE:20150314
SUMMARY:Netsys 2015
DESCRIPTION:2nd International Conference on Networked Systems
URL:http://www.wikicfp.com/cfp/servlet/event.showcfp?eventid=37179&copyow
 nerid=68291
UID:cfp465280-E@wikicfp.com
END:VEVENT
BEGIN:VEVENT
DTSTAMP:20260420T180228Z
DTSTART;VALUE=DATE:20140825
SUMMARY:Netsys 2015 Abstract Due
DESCRIPTION:2nd International Conference on Networked Systems
URL:http://www.wikicfp.com/cfp/servlet/event.showcfp?eventid=37179&copyow
 nerid=68291
UID:cfp465280-A@wikicfp.com
END:VEVENT
BEGIN:VEVENT
DTSTAMP:20260420T180228Z
DTSTART;VALUE=DATE:20140901
SUMMARY:Netsys 2015 Deadline
DESCRIPTION:2nd International Conference on Networked Systems
URL:http://www.wikicfp.com/cfp/servlet/event.showcfp?eventid=37179&copyow
 nerid=68291
UID:cfp465280-D@wikicfp.com
END:VEVENT
BEGIN:VEVENT
DTSTAMP:20260420T180228Z
DTSTART;VALUE=DATE:20141108
SUMMARY:Netsys 2015 Notification Due
DESCRIPTION:2nd International Conference on Networked Systems
URL:http://www.wikicfp.com/cfp/servlet/event.showcfp?eventid=37179&copyow
 nerid=68291
UID:cfp465280-N@wikicfp.com
END:VEVENT
BEGIN:VEVENT
DTSTAMP:20260420T180228Z
DTSTART;VALUE=DATE:20141210
SUMMARY:Netsys 2015 Final Version Due
DESCRIPTION:2nd International Conference on Networked Systems
URL:http://www.wikicfp.com/cfp/servlet/event.showcfp?eventid=37179&copyow
 nerid=68291
UID:cfp465280-N@wikicfp.com
END:VEVENT
BEGIN:VEVENT
DTSTAMP:20260420T180228Z
DTSTART;VALUE=DATE:20150211
DTEND;VALUE=DATE:20150214
SUMMARY:SENSORNETS 2015
DESCRIPTION:4th International Conference on Sensor Networks
URL:http://www.wikicfp.com/cfp/servlet/event.showcfp?eventid=37530&copyow
 nerid=68291
UID:cfp465259-E@wikicfp.com
END:VEVENT
BEGIN:VEVENT
DTSTAMP:20260420T180228Z
DTSTART;VALUE=DATE:20140909
SUMMARY:SENSORNETS 2015 Deadline
DESCRIPTION:4th International Conference on Sensor Networks
URL:http://www.wikicfp.com/cfp/servlet/event.showcfp?eventid=37530&copyow
 nerid=68291
UID:cfp465259-D@wikicfp.com
END:VEVENT
BEGIN:VEVENT
DTSTAMP:20260420T180228Z
DTSTART;VALUE=DATE:20150324
DTEND;VALUE=DATE:20150328
SUMMARY:PAEWN  2015
DESCRIPTION:The 10th International Workshop on the Performance Analysis a
 nd Enhancement of Wireless Networks 
URL:http://www.wikicfp.com/cfp/servlet/event.showcfp?eventid=39601&copyow
 nerid=68291
UID:cfp465277-E@wikicfp.com
END:VEVENT
BEGIN:VEVENT
DTSTAMP:20260420T180228Z
DTSTART;VALUE=DATE:20140915
SUMMARY:PAEWN  2015 Deadline
DESCRIPTION:The 10th International Workshop on the Performance Analysis a
 nd Enhancement of Wireless Networks 
URL:http://www.wikicfp.com/cfp/servlet/event.showcfp?eventid=39601&copyow
 nerid=68291
UID:cfp465277-D@wikicfp.com
END:VEVENT
BEGIN:VEVENT
DTSTAMP:20260420T180228Z
DTSTART;VALUE=DATE:20141215
SUMMARY:PAEWN  2015 Notification Due
DESCRIPTION:The 10th International Workshop on the Performance Analysis a
 nd Enhancement of Wireless Networks 
URL:http://www.wikicfp.com/cfp/servlet/event.showcfp?eventid=39601&copyow
 nerid=68291
UID:cfp465277-N@wikicfp.com
END:VEVENT
BEGIN:VEVENT
DTSTAMP:20260420T180228Z
DTSTART;VALUE=DATE:20150115
SUMMARY:PAEWN  2015 Final Version Due
DESCRIPTION:The 10th International Workshop on the Performance Analysis a
 nd Enhancement of Wireless Networks 
URL:http://www.wikicfp.com/cfp/servlet/event.showcfp?eventid=39601&copyow
 nerid=68291
UID:cfp465277-N@wikicfp.com
END:VEVENT
BEGIN:VEVENT
DTSTAMP:20260420T180228Z
DTSTART;VALUE=DATE:20150226
DTEND;VALUE=DATE:20150227
SUMMARY:AISNSS 2014
DESCRIPTION:special issue in journal : Innovations in Systems and Softwar
 e Engineering - Springer
URL:http://www.wikicfp.com/cfp/servlet/event.showcfp?eventid=36942&copyow
 nerid=68291
UID:cfp465276-E@wikicfp.com
END:VEVENT
BEGIN:VEVENT
DTSTAMP:20260420T180228Z
DTSTART;VALUE=DATE:20140926
SUMMARY:AISNSS 2014 Deadline
DESCRIPTION:special issue in journal : Innovations in Systems and Softwar
 e Engineering - Springer
URL:http://www.wikicfp.com/cfp/servlet/event.showcfp?eventid=36942&copyow
 nerid=68291
UID:cfp465276-D@wikicfp.com
END:VEVENT
BEGIN:VEVENT
DTSTAMP:20260420T180228Z
DTSTART;VALUE=DATE:20141215
SUMMARY:AISNSS 2014 Notification Due
DESCRIPTION:special issue in journal : Innovations in Systems and Softwar
 e Engineering - Springer
URL:http://www.wikicfp.com/cfp/servlet/event.showcfp?eventid=36942&copyow
 nerid=68291
UID:cfp465276-N@wikicfp.com
END:VEVENT
BEGIN:VEVENT
DTSTAMP:20260420T180228Z
DTSTART;VALUE=DATE:20150226
SUMMARY:AISNSS 2014 Final Version Due
DESCRIPTION:special issue in journal : Innovations in Systems and Softwar
 e Engineering - Springer
URL:http://www.wikicfp.com/cfp/servlet/event.showcfp?eventid=36942&copyow
 nerid=68291
UID:cfp465276-N@wikicfp.com
END:VEVENT
BEGIN:VEVENT
DTSTAMP:20260420T180228Z
DTSTART;VALUE=DATE:20140927
SUMMARY:IJWMN 2014 Deadline
DESCRIPTION:International Journal of Wireless & Mobile Networks
URL:http://www.wikicfp.com/cfp/servlet/event.showcfp?eventid=32606&copyow
 nerid=68291
UID:cfp465274-D@wikicfp.com
END:VEVENT
BEGIN:VEVENT
DTSTAMP:20260420T180228Z
DTSTART;VALUE=DATE:20141027
SUMMARY:IJWMN 2014 Notification Due
DESCRIPTION:International Journal of Wireless & Mobile Networks
URL:http://www.wikicfp.com/cfp/servlet/event.showcfp?eventid=32606&copyow
 nerid=68291
UID:cfp465274-N@wikicfp.com
END:VEVENT
BEGIN:VEVENT
DTSTAMP:20260420T180228Z
DTSTART;VALUE=DATE:20141030
SUMMARY:IJWMN 2014 Final Version Due
DESCRIPTION:International Journal of Wireless & Mobile Networks
URL:http://www.wikicfp.com/cfp/servlet/event.showcfp?eventid=32606&copyow
 nerid=68291
UID:cfp465274-N@wikicfp.com
END:VEVENT
BEGIN:VEVENT
DTSTAMP:20260420T180228Z
DTSTART;VALUE=DATE:20141107
DTEND;VALUE=DATE:20141109
SUMMARY:NeCoM 2014
DESCRIPTION:Sixth International Conference on Networks & Communications 
URL:http://www.wikicfp.com/cfp/servlet/event.showcfp?eventid=39124&copyow
 nerid=68291
UID:cfp465272-E@wikicfp.com
END:VEVENT
BEGIN:VEVENT
DTSTAMP:20260420T180228Z
DTSTART;VALUE=DATE:20140929
SUMMARY:NeCoM 2014 Deadline
DESCRIPTION:Sixth International Conference on Networks & Communications 
URL:http://www.wikicfp.com/cfp/servlet/event.showcfp?eventid=39124&copyow
 nerid=68291
UID:cfp465272-D@wikicfp.com
END:VEVENT
BEGIN:VEVENT
DTSTAMP:20260420T180228Z
DTSTART;VALUE=DATE:20141029
SUMMARY:NeCoM 2014 Notification Due
DESCRIPTION:Sixth International Conference on Networks & Communications 
URL:http://www.wikicfp.com/cfp/servlet/event.showcfp?eventid=39124&copyow
 nerid=68291
UID:cfp465272-N@wikicfp.com
END:VEVENT
BEGIN:VEVENT
DTSTAMP:20260420T180228Z
DTSTART;VALUE=DATE:20141102
SUMMARY:NeCoM 2014 Final Version Due
DESCRIPTION:Sixth International Conference on Networks & Communications 
URL:http://www.wikicfp.com/cfp/servlet/event.showcfp?eventid=39124&copyow
 nerid=68291
UID:cfp465272-N@wikicfp.com
END:VEVENT
BEGIN:VEVENT
DTSTAMP:20260420T180228Z
DTSTART;VALUE=DATE:20141107
DTEND;VALUE=DATE:20141109
SUMMARY:ASUC 2014
DESCRIPTION:Fifth International Conference on Ad hoc\, sensor & Ubiquitou
 s Computing 
URL:http://www.wikicfp.com/cfp/servlet/event.showcfp?eventid=39425&copyow
 nerid=68291
UID:cfp465265-E@wikicfp.com
END:VEVENT
BEGIN:VEVENT
DTSTAMP:20260420T180228Z
DTSTART;VALUE=DATE:20140929
SUMMARY:ASUC 2014 Deadline
DESCRIPTION:Fifth International Conference on Ad hoc\, sensor & Ubiquitou
 s Computing 
URL:http://www.wikicfp.com/cfp/servlet/event.showcfp?eventid=39425&copyow
 nerid=68291
UID:cfp465265-D@wikicfp.com
END:VEVENT
BEGIN:VEVENT
DTSTAMP:20260420T180228Z
DTSTART;VALUE=DATE:20141029
SUMMARY:ASUC 2014 Notification Due
DESCRIPTION:Fifth International Conference on Ad hoc\, sensor & Ubiquitou
 s Computing 
URL:http://www.wikicfp.com/cfp/servlet/event.showcfp?eventid=39425&copyow
 nerid=68291
UID:cfp465265-N@wikicfp.com
END:VEVENT
BEGIN:VEVENT
DTSTAMP:20260420T180228Z
DTSTART;VALUE=DATE:20141102
SUMMARY:ASUC 2014 Final Version Due
DESCRIPTION:Fifth International Conference on Ad hoc\, sensor & Ubiquitou
 s Computing 
URL:http://www.wikicfp.com/cfp/servlet/event.showcfp?eventid=39425&copyow
 nerid=68291
UID:cfp465265-N@wikicfp.com
END:VEVENT
BEGIN:VEVENT
DTSTAMP:20260420T180228Z
DTSTART;VALUE=DATE:20140930
SUMMARY:PPNA-SI 2015 Deadline
DESCRIPTION:Special Issue on Crowd Sensing Networks: Peer-to-Peer Network
 ing and Applications (Springer)
URL:http://www.wikicfp.com/cfp/servlet/event.showcfp?eventid=38872&copyow
 nerid=68291
UID:cfp465262-D@wikicfp.com
END:VEVENT
BEGIN:VEVENT
DTSTAMP:20260420T180228Z
DTSTART;VALUE=DATE:20141215
SUMMARY:PPNA-SI 2015 Notification Due
DESCRIPTION:Special Issue on Crowd Sensing Networks: Peer-to-Peer Network
 ing and Applications (Springer)
URL:http://www.wikicfp.com/cfp/servlet/event.showcfp?eventid=38872&copyow
 nerid=68291
UID:cfp465262-N@wikicfp.com
END:VEVENT
BEGIN:VEVENT
DTSTAMP:20260420T180228Z
DTSTART;VALUE=DATE:20150315
SUMMARY:PPNA-SI 2015 Final Version Due
DESCRIPTION:Special Issue on Crowd Sensing Networks: Peer-to-Peer Network
 ing and Applications (Springer)
URL:http://www.wikicfp.com/cfp/servlet/event.showcfp?eventid=38872&copyow
 nerid=68291
UID:cfp465262-N@wikicfp.com
END:VEVENT
BEGIN:VEVENT
DTSTAMP:20260420T180228Z
DTSTART;VALUE=DATE:20150323
DTEND;VALUE=DATE:20150327
SUMMARY:ISISS 2015
DESCRIPTION:2015 IEEE International Symposium on Inertial Sensors and Sys
 tems
URL:http://www.wikicfp.com/cfp/servlet/event.showcfp?eventid=38988&copyow
 nerid=68291
UID:cfp465263-E@wikicfp.com
END:VEVENT
BEGIN:VEVENT
DTSTAMP:20260420T180228Z
DTSTART;VALUE=DATE:20141001
SUMMARY:ISISS 2015 Deadline
DESCRIPTION:2015 IEEE International Symposium on Inertial Sensors and Sys
 tems
URL:http://www.wikicfp.com/cfp/servlet/event.showcfp?eventid=38988&copyow
 nerid=68291
UID:cfp465263-D@wikicfp.com
END:VEVENT
BEGIN:VEVENT
DTSTAMP:20260420T180228Z
DTSTART;VALUE=DATE:20141201
SUMMARY:ISISS 2015 Notification Due
DESCRIPTION:2015 IEEE International Symposium on Inertial Sensors and Sys
 tems
URL:http://www.wikicfp.com/cfp/servlet/event.showcfp?eventid=38988&copyow
 nerid=68291
UID:cfp465263-N@wikicfp.com
END:VEVENT
BEGIN:VEVENT
DTSTAMP:20260420T180228Z
DTSTART;VALUE=DATE:20150201
SUMMARY:ISISS 2015 Final Version Due
DESCRIPTION:2015 IEEE International Symposium on Inertial Sensors and Sys
 tems
URL:http://www.wikicfp.com/cfp/servlet/event.showcfp?eventid=38988&copyow
 nerid=68291
UID:cfp465263-N@wikicfp.com
END:VEVENT
BEGIN:VEVENT
DTSTAMP:20260420T180228Z
DTSTART;VALUE=DATE:20141011
SUMMARY:IJP2P 2014 Deadline
DESCRIPTION:International Journal of Peer-to-Peer Networks
URL:http://www.wikicfp.com/cfp/servlet/event.showcfp?eventid=33130&copyow
 nerid=68291
UID:cfp465257-D@wikicfp.com
END:VEVENT
BEGIN:VEVENT
DTSTAMP:20260420T180228Z
DTSTART;VALUE=DATE:20141111
SUMMARY:IJP2P 2014 Notification Due
DESCRIPTION:International Journal of Peer-to-Peer Networks
URL:http://www.wikicfp.com/cfp/servlet/event.showcfp?eventid=33130&copyow
 nerid=68291
UID:cfp465257-N@wikicfp.com
END:VEVENT
BEGIN:VEVENT
DTSTAMP:20260420T180228Z
DTSTART;VALUE=DATE:20141118
SUMMARY:IJP2P 2014 Final Version Due
DESCRIPTION:International Journal of Peer-to-Peer Networks
URL:http://www.wikicfp.com/cfp/servlet/event.showcfp?eventid=33130&copyow
 nerid=68291
UID:cfp465257-N@wikicfp.com
END:VEVENT
BEGIN:VEVENT
DTSTAMP:20260420T180228Z
DTSTART;VALUE=DATE:20141017
SUMMARY:Hindawi SI: IJDSN AMS 2014 Deadline
DESCRIPTION:Special Issue on  Advances in Multimedia Sensor Networks for 
 Health-Care and Related Applications
URL:http://www.wikicfp.com/cfp/servlet/event.showcfp?eventid=39006&copyow
 nerid=68291
UID:cfp465264-D@wikicfp.com
END:VEVENT
BEGIN:VEVENT
DTSTAMP:20260420T180228Z
DTSTART;VALUE=DATE:20150109
SUMMARY:Hindawi SI: IJDSN AMS 2014 Notification Due
DESCRIPTION:Special Issue on  Advances in Multimedia Sensor Networks for 
 Health-Care and Related Applications
URL:http://www.wikicfp.com/cfp/servlet/event.showcfp?eventid=39006&copyow
 nerid=68291
UID:cfp465264-N@wikicfp.com
END:VEVENT
BEGIN:VEVENT
DTSTAMP:20260420T180228Z
DTSTART;VALUE=DATE:20150306
SUMMARY:Hindawi SI: IJDSN AMS 2014 Final Version Due
DESCRIPTION:Special Issue on  Advances in Multimedia Sensor Networks for 
 Health-Care and Related Applications
URL:http://www.wikicfp.com/cfp/servlet/event.showcfp?eventid=39006&copyow
 nerid=68291
UID:cfp465264-N@wikicfp.com
END:VEVENT
BEGIN:VEVENT
DTSTAMP:20260420T180228Z
DTSTART;VALUE=DATE:20150413
DTEND;VALUE=DATE:20150416
SUMMARY:IEEE SAS  2015
DESCRIPTION:IEEE Sensors Applications Symposium 2015
URL:http://www.wikicfp.com/cfp/servlet/event.showcfp?eventid=38357&copyow
 nerid=68291
UID:cfp465261-E@wikicfp.com
END:VEVENT
BEGIN:VEVENT
DTSTAMP:20260420T180228Z
DTSTART;VALUE=DATE:20141024
SUMMARY:IEEE SAS  2015 Deadline
DESCRIPTION:IEEE Sensors Applications Symposium 2015
URL:http://www.wikicfp.com/cfp/servlet/event.showcfp?eventid=38357&copyow
 nerid=68291
UID:cfp465261-D@wikicfp.com
END:VEVENT
BEGIN:VEVENT
DTSTAMP:20260420T180228Z
DTSTART;VALUE=DATE:20150116
SUMMARY:IEEE SAS  2015 Notification Due
DESCRIPTION:IEEE Sensors Applications Symposium 2015
URL:http://www.wikicfp.com/cfp/servlet/event.showcfp?eventid=38357&copyow
 nerid=68291
UID:cfp465261-N@wikicfp.com
END:VEVENT
BEGIN:VEVENT
DTSTAMP:20260420T180228Z
DTSTART;VALUE=DATE:20150206
SUMMARY:IEEE SAS  2015 Final Version Due
DESCRIPTION:IEEE Sensors Applications Symposium 2015
URL:http://www.wikicfp.com/cfp/servlet/event.showcfp?eventid=38357&copyow
 nerid=68291
UID:cfp465261-N@wikicfp.com
END:VEVENT
BEGIN:VEVENT
DTSTAMP:20260420T180228Z
DTSTART;VALUE=DATE:20141227
DTEND;VALUE=DATE:20141229
SUMMARY:WiMoNe 2014
DESCRIPTION:Sixth International Conference on Wireless & Mobile Networks
URL:http://www.wikicfp.com/cfp/servlet/event.showcfp?eventid=39763&copyow
 nerid=68291
UID:cfp465266-E@wikicfp.com
END:VEVENT
BEGIN:VEVENT
DTSTAMP:20260420T180228Z
DTSTART;VALUE=DATE:20141101
SUMMARY:WiMoNe 2014 Deadline
DESCRIPTION:Sixth International Conference on Wireless & Mobile Networks
URL:http://www.wikicfp.com/cfp/servlet/event.showcfp?eventid=39763&copyow
 nerid=68291
UID:cfp465266-D@wikicfp.com
END:VEVENT
BEGIN:VEVENT
DTSTAMP:20260420T180228Z
DTSTART;VALUE=DATE:20141201
SUMMARY:WiMoNe 2014 Notification Due
DESCRIPTION:Sixth International Conference on Wireless & Mobile Networks
URL:http://www.wikicfp.com/cfp/servlet/event.showcfp?eventid=39763&copyow
 nerid=68291
UID:cfp465266-N@wikicfp.com
END:VEVENT
BEGIN:VEVENT
DTSTAMP:20260420T180228Z
DTSTART;VALUE=DATE:20141205
SUMMARY:WiMoNe 2014 Final Version Due
DESCRIPTION:Sixth International Conference on Wireless & Mobile Networks
URL:http://www.wikicfp.com/cfp/servlet/event.showcfp?eventid=39763&copyow
 nerid=68291
UID:cfp465266-N@wikicfp.com
END:VEVENT
BEGIN:VEVENT
DTSTAMP:20260420T180228Z
DTSTART;VALUE=DATE:20141102
SUMMARY:CSIJ 2014 Deadline
DESCRIPTION:Circuits and Systems: An International Journal
URL:http://www.wikicfp.com/cfp/servlet/event.showcfp?eventid=33230&copyow
 nerid=68291
UID:cfp465271-D@wikicfp.com
END:VEVENT
BEGIN:VEVENT
DTSTAMP:20260420T180228Z
DTSTART;VALUE=DATE:20141202
SUMMARY:CSIJ 2014 Notification Due
DESCRIPTION:Circuits and Systems: An International Journal
URL:http://www.wikicfp.com/cfp/servlet/event.showcfp?eventid=33230&copyow
 nerid=68291
UID:cfp465271-N@wikicfp.com
END:VEVENT
BEGIN:VEVENT
DTSTAMP:20260420T180228Z
DTSTART;VALUE=DATE:20141209
SUMMARY:CSIJ 2014 Final Version Due
DESCRIPTION:Circuits and Systems: An International Journal
URL:http://www.wikicfp.com/cfp/servlet/event.showcfp?eventid=33230&copyow
 nerid=68291
UID:cfp465271-N@wikicfp.com
END:VEVENT
BEGIN:VEVENT
DTSTAMP:20260420T180228Z
DTSTART;VALUE=DATE:20150314
SUMMARY:CiVEJ 2015 Deadline
DESCRIPTION:Civil Engineering and Urban Planning: An International Journa
 l 
URL:http://www.wikicfp.com/cfp/servlet/event.showcfp?eventid=36614&copyow
 nerid=68291
UID:cfp465275-D@wikicfp.com
END:VEVENT
BEGIN:VEVENT
DTSTAMP:20260420T180228Z
DTSTART;VALUE=DATE:20150414
SUMMARY:CiVEJ 2015 Notification Due
DESCRIPTION:Civil Engineering and Urban Planning: An International Journa
 l 
URL:http://www.wikicfp.com/cfp/servlet/event.showcfp?eventid=36614&copyow
 nerid=68291
UID:cfp465275-N@wikicfp.com
END:VEVENT
BEGIN:VEVENT
DTSTAMP:20260420T180228Z
DTSTART;VALUE=DATE:20150421
SUMMARY:CiVEJ 2015 Final Version Due
DESCRIPTION:Civil Engineering and Urban Planning: An International Journa
 l 
URL:http://www.wikicfp.com/cfp/servlet/event.showcfp?eventid=36614&copyow
 nerid=68291
UID:cfp465275-N@wikicfp.com
END:VEVENT
BEGIN:VEVENT
DTSTAMP:20260420T180228Z
DTSTART;VALUE=DATE:20150314
SUMMARY:IJDPS 2015 Deadline
DESCRIPTION:International Journal of Distributed and Parallel systems
URL:http://www.wikicfp.com/cfp/servlet/event.showcfp?eventid=36753&copyow
 nerid=68291
UID:cfp465279-D@wikicfp.com
END:VEVENT
BEGIN:VEVENT
DTSTAMP:20260420T180228Z
DTSTART;VALUE=DATE:20150414
SUMMARY:IJDPS 2015 Notification Due
DESCRIPTION:International Journal of Distributed and Parallel systems
URL:http://www.wikicfp.com/cfp/servlet/event.showcfp?eventid=36753&copyow
 nerid=68291
UID:cfp465279-N@wikicfp.com
END:VEVENT
BEGIN:VEVENT
DTSTAMP:20260420T180228Z
DTSTART;VALUE=DATE:20150421
SUMMARY:IJDPS 2015 Final Version Due
DESCRIPTION:International Journal of Distributed and Parallel systems
URL:http://www.wikicfp.com/cfp/servlet/event.showcfp?eventid=36753&copyow
 nerid=68291
UID:cfp465279-N@wikicfp.com
END:VEVENT
BEGIN:VEVENT
DTSTAMP:20260420T180228Z
DTSTART;VALUE=DATE:20150410
SUMMARY:IJANS 2015 Deadline
DESCRIPTION:International Journal on AdHoc Networking Systems
URL:http://www.wikicfp.com/cfp/servlet/event.showcfp?eventid=30006&copyow
 nerid=68291
UID:cfp465256-D@wikicfp.com
END:VEVENT
BEGIN:VEVENT
DTSTAMP:20260420T180228Z
DTSTART;VALUE=DATE:20150510
SUMMARY:IJANS 2015 Notification Due
DESCRIPTION:International Journal on AdHoc Networking Systems
URL:http://www.wikicfp.com/cfp/servlet/event.showcfp?eventid=30006&copyow
 nerid=68291
UID:cfp465256-N@wikicfp.com
END:VEVENT
BEGIN:VEVENT
DTSTAMP:20260420T180228Z
DTSTART;VALUE=DATE:20150517
SUMMARY:IJANS 2015 Final Version Due
DESCRIPTION:International Journal on AdHoc Networking Systems
URL:http://www.wikicfp.com/cfp/servlet/event.showcfp?eventid=30006&copyow
 nerid=68291
UID:cfp465256-N@wikicfp.com
END:VEVENT
BEGIN:VEVENT
DTSTAMP:20260420T180228Z
DTSTART;VALUE=DATE:20150427
SUMMARY:IJCNC 2015 Deadline
DESCRIPTION:International Journal of Computer Networks & Communications-I
 ndexed in THOMSON REUTERS
URL:http://www.wikicfp.com/cfp/servlet/event.showcfp?eventid=37621&copyow
 nerid=68291
UID:cfp465281-D@wikicfp.com
END:VEVENT
BEGIN:VEVENT
DTSTAMP:20260420T180228Z
DTSTART;VALUE=DATE:20150527
SUMMARY:IJCNC 2015 Notification Due
DESCRIPTION:International Journal of Computer Networks & Communications-I
 ndexed in THOMSON REUTERS
URL:http://www.wikicfp.com/cfp/servlet/event.showcfp?eventid=37621&copyow
 nerid=68291
UID:cfp465281-N@wikicfp.com
END:VEVENT
BEGIN:VEVENT
DTSTAMP:20260420T180228Z
DTSTART;VALUE=DATE:20150605
SUMMARY:IJCNC 2015 Final Version Due
DESCRIPTION:International Journal of Computer Networks & Communications-I
 ndexed in THOMSON REUTERS
URL:http://www.wikicfp.com/cfp/servlet/event.showcfp?eventid=37621&copyow
 nerid=68291
UID:cfp465281-N@wikicfp.com
END:VEVENT
BEGIN:VEVENT
DTSTAMP:20260420T180228Z
DTSTART;VALUE=DATE:20151011
DTEND;VALUE=DATE:20151017
SUMMARY:ICCGI 2015
DESCRIPTION:The Tenth International Multi-Conference on Computing in the 
 Global Information Technology
URL:http://www.wikicfp.com/cfp/servlet/event.showcfp?eventid=39797&copyow
 nerid=68291
UID:cfp465282-E@wikicfp.com
END:VEVENT
BEGIN:VEVENT
DTSTAMP:20260420T180228Z
DTSTART;VALUE=DATE:20150512
SUMMARY:ICCGI 2015 Deadline
DESCRIPTION:The Tenth International Multi-Conference on Computing in the 
 Global Information Technology
URL:http://www.wikicfp.com/cfp/servlet/event.showcfp?eventid=39797&copyow
 nerid=68291
UID:cfp465282-D@wikicfp.com
END:VEVENT
BEGIN:VEVENT
DTSTAMP:20260420T180228Z
DTSTART;VALUE=DATE:20150712
SUMMARY:ICCGI 2015 Notification Due
DESCRIPTION:The Tenth International Multi-Conference on Computing in the 
 Global Information Technology
URL:http://www.wikicfp.com/cfp/servlet/event.showcfp?eventid=39797&copyow
 nerid=68291
UID:cfp465282-N@wikicfp.com
END:VEVENT
BEGIN:VEVENT
DTSTAMP:20260420T180228Z
DTSTART;VALUE=DATE:20150830
SUMMARY:ICCGI 2015 Final Version Due
DESCRIPTION:The Tenth International Multi-Conference on Computing in the 
 Global Information Technology
URL:http://www.wikicfp.com/cfp/servlet/event.showcfp?eventid=39797&copyow
 nerid=68291
UID:cfp465282-N@wikicfp.com
END:VEVENT
BEGIN:VEVENT
DTSTAMP:20260420T180228Z
DTSTART;VALUE=DATE:20150209
DTEND;VALUE=DATE:20150212
SUMMARY:EWSN 2015
DESCRIPTION:12th European Conference on Wireless Sensor Networks
URL:http://www.wikicfp.com/cfp/servlet/event.showcfp?eventid=39198&copyow
 nerid=68291
UID:cfp465273-E@wikicfp.com
END:VEVENT
BEGIN:VEVENT
DTSTAMP:20260420T180228Z
DTSTART;VALUE=DATE:20150908
SUMMARY:EWSN 2015 Abstract Due
DESCRIPTION:12th European Conference on Wireless Sensor Networks
URL:http://www.wikicfp.com/cfp/servlet/event.showcfp?eventid=39198&copyow
 nerid=68291
UID:cfp465273-A@wikicfp.com
END:VEVENT
BEGIN:VEVENT
DTSTAMP:20260420T180228Z
DTSTART;VALUE=DATE:20150915
SUMMARY:EWSN 2015 Deadline
DESCRIPTION:12th European Conference on Wireless Sensor Networks
URL:http://www.wikicfp.com/cfp/servlet/event.showcfp?eventid=39198&copyow
 nerid=68291
UID:cfp465273-D@wikicfp.com
END:VEVENT
BEGIN:VEVENT
DTSTAMP:20260420T180228Z
DTSTART;VALUE=DATE:20151116
SUMMARY:EWSN 2015 Notification Due
DESCRIPTION:12th European Conference on Wireless Sensor Networks
URL:http://www.wikicfp.com/cfp/servlet/event.showcfp?eventid=39198&copyow
 nerid=68291
UID:cfp465273-N@wikicfp.com
END:VEVENT
BEGIN:VEVENT
DTSTAMP:20260420T180228Z
DTSTART;VALUE=DATE:20151207
SUMMARY:EWSN 2015 Final Version Due
DESCRIPTION:12th European Conference on Wireless Sensor Networks
URL:http://www.wikicfp.com/cfp/servlet/event.showcfp?eventid=39198&copyow
 nerid=68291
UID:cfp465273-N@wikicfp.com
END:VEVENT
END:VCALENDAR
