BEGIN:VCALENDAR
PRODID:-//WikiCFP//franst 1.0//EN
VERSION:2.0
CALSCALE:GREGORIAN
BEGIN:VEVENT
DTSTAMP:20260424T013058Z
DTSTART;VALUE=DATE:20150323
DTEND;VALUE=DATE:20150328
SUMMARY:ICDT 2015
DESCRIPTION:18th International Conference on Database Theory\,
URL:http://www.wikicfp.com/cfp/servlet/event.showcfp?eventid=38926&copyow
 nerid=67965
UID:cfp463562-E@wikicfp.com
END:VEVENT
BEGIN:VEVENT
DTSTAMP:20260424T013058Z
DTSTART;VALUE=DATE:20140808
SUMMARY:ICDT 2015 Abstract Due
DESCRIPTION:18th International Conference on Database Theory\,
URL:http://www.wikicfp.com/cfp/servlet/event.showcfp?eventid=38926&copyow
 nerid=67965
UID:cfp463562-A@wikicfp.com
END:VEVENT
BEGIN:VEVENT
DTSTAMP:20260424T013058Z
DTSTART;VALUE=DATE:20140815
SUMMARY:ICDT 2015 Deadline
DESCRIPTION:18th International Conference on Database Theory\,
URL:http://www.wikicfp.com/cfp/servlet/event.showcfp?eventid=38926&copyow
 nerid=67965
UID:cfp463562-D@wikicfp.com
END:VEVENT
BEGIN:VEVENT
DTSTAMP:20260424T013058Z
DTSTART;VALUE=DATE:20141107
SUMMARY:ICDT 2015 Notification Due
DESCRIPTION:18th International Conference on Database Theory\,
URL:http://www.wikicfp.com/cfp/servlet/event.showcfp?eventid=38926&copyow
 nerid=67965
UID:cfp463562-N@wikicfp.com
END:VEVENT
BEGIN:VEVENT
DTSTAMP:20260424T013058Z
DTSTART;VALUE=DATE:20141212
SUMMARY:ICDT 2015 Final Version Due
DESCRIPTION:18th International Conference on Database Theory\,
URL:http://www.wikicfp.com/cfp/servlet/event.showcfp?eventid=38926&copyow
 nerid=67965
UID:cfp463562-N@wikicfp.com
END:VEVENT
BEGIN:VEVENT
DTSTAMP:20260424T013058Z
DTSTART;VALUE=DATE:20150104
DTEND;VALUE=DATE:20150108
SUMMARY:CIDR 2015
DESCRIPTION:7th Biennial Conference on Innovative Data Systems Research 
URL:http://www.wikicfp.com/cfp/servlet/event.showcfp?eventid=39224&copyow
 nerid=67965
UID:cfp463563-E@wikicfp.com
END:VEVENT
BEGIN:VEVENT
DTSTAMP:20260424T013058Z
DTSTART;VALUE=DATE:20140819
SUMMARY:CIDR 2015 Deadline
DESCRIPTION:7th Biennial Conference on Innovative Data Systems Research 
URL:http://www.wikicfp.com/cfp/servlet/event.showcfp?eventid=39224&copyow
 nerid=67965
UID:cfp463563-D@wikicfp.com
END:VEVENT
BEGIN:VEVENT
DTSTAMP:20260424T013058Z
DTSTART;VALUE=DATE:20141013
SUMMARY:CIDR 2015 Notification Due
DESCRIPTION:7th Biennial Conference on Innovative Data Systems Research 
URL:http://www.wikicfp.com/cfp/servlet/event.showcfp?eventid=39224&copyow
 nerid=67965
UID:cfp463563-N@wikicfp.com
END:VEVENT
BEGIN:VEVENT
DTSTAMP:20260424T013058Z
DTSTART;VALUE=DATE:20141121
SUMMARY:CIDR 2015 Final Version Due
DESCRIPTION:7th Biennial Conference on Innovative Data Systems Research 
URL:http://www.wikicfp.com/cfp/servlet/event.showcfp?eventid=39224&copyow
 nerid=67965
UID:cfp463563-N@wikicfp.com
END:VEVENT
BEGIN:VEVENT
DTSTAMP:20260424T013058Z
DTSTART;VALUE=DATE:20150516
DTEND;VALUE=DATE:20150525
SUMMARY:ICSE 2015
DESCRIPTION:37th International Conference on Software Engineering
URL:http://www.wikicfp.com/cfp/servlet/event.showcfp?eventid=37010&copyow
 nerid=67965
UID:cfp464928-E@wikicfp.com
END:VEVENT
BEGIN:VEVENT
DTSTAMP:20260424T013058Z
DTSTART;VALUE=DATE:20140905
SUMMARY:ICSE 2015 Deadline
DESCRIPTION:37th International Conference on Software Engineering
URL:http://www.wikicfp.com/cfp/servlet/event.showcfp?eventid=37010&copyow
 nerid=67965
UID:cfp464928-D@wikicfp.com
END:VEVENT
BEGIN:VEVENT
DTSTAMP:20260424T013058Z
DTSTART;VALUE=DATE:20141220
SUMMARY:ICSE 2015 Notification Due
DESCRIPTION:37th International Conference on Software Engineering
URL:http://www.wikicfp.com/cfp/servlet/event.showcfp?eventid=37010&copyow
 nerid=67965
UID:cfp464928-N@wikicfp.com
END:VEVENT
BEGIN:VEVENT
DTSTAMP:20260424T013058Z
DTSTART;VALUE=DATE:20150213
SUMMARY:ICSE 2015 Final Version Due
DESCRIPTION:37th International Conference on Software Engineering
URL:http://www.wikicfp.com/cfp/servlet/event.showcfp?eventid=37010&copyow
 nerid=67965
UID:cfp464928-N@wikicfp.com
END:VEVENT
BEGIN:VEVENT
DTSTAMP:20260424T013058Z
DTSTART;VALUE=DATE:20150531
DTEND;VALUE=DATE:20150605
SUMMARY:SIGMOD 2015
DESCRIPTION:International Conference on Management of Data
URL:http://www.wikicfp.com/cfp/servlet/event.showcfp?eventid=37140&copyow
 nerid=67965
UID:cfp463560-E@wikicfp.com
END:VEVENT
BEGIN:VEVENT
DTSTAMP:20260424T013058Z
DTSTART;VALUE=DATE:20141030
SUMMARY:SIGMOD 2015 Abstract Due
DESCRIPTION:International Conference on Management of Data
URL:http://www.wikicfp.com/cfp/servlet/event.showcfp?eventid=37140&copyow
 nerid=67965
UID:cfp463560-A@wikicfp.com
END:VEVENT
BEGIN:VEVENT
DTSTAMP:20260424T013058Z
DTSTART;VALUE=DATE:20141106
SUMMARY:SIGMOD 2015 Deadline
DESCRIPTION:International Conference on Management of Data
URL:http://www.wikicfp.com/cfp/servlet/event.showcfp?eventid=37140&copyow
 nerid=67965
UID:cfp463560-D@wikicfp.com
END:VEVENT
BEGIN:VEVENT
DTSTAMP:20260424T013058Z
DTSTART;VALUE=DATE:20140112
SUMMARY:SIGMOD 2015 Notification Due
DESCRIPTION:International Conference on Management of Data
URL:http://www.wikicfp.com/cfp/servlet/event.showcfp?eventid=37140&copyow
 nerid=67965
UID:cfp463560-N@wikicfp.com
END:VEVENT
BEGIN:VEVENT
DTSTAMP:20260424T013058Z
DTSTART;VALUE=DATE:20140329
SUMMARY:SIGMOD 2015 Final Version Due
DESCRIPTION:International Conference on Management of Data
URL:http://www.wikicfp.com/cfp/servlet/event.showcfp?eventid=37140&copyow
 nerid=67965
UID:cfp463560-N@wikicfp.com
END:VEVENT
BEGIN:VEVENT
DTSTAMP:20260424T013058Z
DTSTART;VALUE=DATE:20150831
DTEND;VALUE=DATE:20150905
SUMMARY:VLDB 2015
DESCRIPTION:41st International Conference on Very Large Data Bases
URL:http://www.wikicfp.com/cfp/servlet/event.showcfp?eventid=36892&copyow
 nerid=67965
UID:cfp463559-E@wikicfp.com
END:VEVENT
BEGIN:VEVENT
DTSTAMP:20260424T013058Z
DTSTART;VALUE=DATE:20150228
SUMMARY:VLDB 2015 Deadline
DESCRIPTION:41st International Conference on Very Large Data Bases
URL:http://www.wikicfp.com/cfp/servlet/event.showcfp?eventid=36892&copyow
 nerid=67965
UID:cfp463559-D@wikicfp.com
END:VEVENT
END:VCALENDAR
