BEGIN:VCALENDAR
PRODID:-//WikiCFP//suryadalimunthe 1.0//EN
VERSION:2.0
CALSCALE:GREGORIAN
BEGIN:VEVENT
DTSTAMP:20260421T144306Z
DTSTART;VALUE=DATE:20141016
DTEND;VALUE=DATE:20141019
SUMMARY:ICMR 2014
DESCRIPTION:International Conference on Multidisciplinary Research (ICMR)
  2014
URL:http://www.wikicfp.com/cfp/servlet/event.showcfp?eventid=39600&copyow
 nerid=67867
UID:cfp462952-E@wikicfp.com
END:VEVENT
BEGIN:VEVENT
DTSTAMP:20260421T144306Z
DTSTART;VALUE=DATE:20140831
SUMMARY:ICMR 2014 Deadline
DESCRIPTION:International Conference on Multidisciplinary Research (ICMR)
  2014
URL:http://www.wikicfp.com/cfp/servlet/event.showcfp?eventid=39600&copyow
 nerid=67867
UID:cfp462952-D@wikicfp.com
END:VEVENT
END:VCALENDAR
