BEGIN:VCALENDAR
PRODID:-//WikiCFP//constd 1.0//EN
VERSION:2.0
CALSCALE:GREGORIAN
BEGIN:VEVENT
DTSTAMP:20260422T172753Z
DTSTART;VALUE=DATE:20141219
DTEND;VALUE=DATE:20141222
SUMMARY:FCST 2014
DESCRIPTION:The 8th International Conference on Frontier of Computer Scie
 nce and Technology
URL:http://www.wikicfp.com/cfp/servlet/event.showcfp?eventid=37063&copyow
 nerid=67831
UID:cfp462659-E@wikicfp.com
END:VEVENT
BEGIN:VEVENT
DTSTAMP:20260422T172753Z
DTSTART;VALUE=DATE:20140815
SUMMARY:FCST 2014 Deadline
DESCRIPTION:The 8th International Conference on Frontier of Computer Scie
 nce and Technology
URL:http://www.wikicfp.com/cfp/servlet/event.showcfp?eventid=37063&copyow
 nerid=67831
UID:cfp462659-D@wikicfp.com
END:VEVENT
BEGIN:VEVENT
DTSTAMP:20260422T172753Z
DTSTART;VALUE=DATE:20140915
SUMMARY:FCST 2014 Notification Due
DESCRIPTION:The 8th International Conference on Frontier of Computer Scie
 nce and Technology
URL:http://www.wikicfp.com/cfp/servlet/event.showcfp?eventid=37063&copyow
 nerid=67831
UID:cfp462659-N@wikicfp.com
END:VEVENT
BEGIN:VEVENT
DTSTAMP:20260422T172753Z
DTSTART;VALUE=DATE:20140930
SUMMARY:FCST 2014 Final Version Due
DESCRIPTION:The 8th International Conference on Frontier of Computer Scie
 nce and Technology
URL:http://www.wikicfp.com/cfp/servlet/event.showcfp?eventid=37063&copyow
 nerid=67831
UID:cfp462659-N@wikicfp.com
END:VEVENT
END:VCALENDAR
