BEGIN:VCALENDAR
PRODID:-//WikiCFP//sreebodhi 1.0//EN
VERSION:2.0
CALSCALE:GREGORIAN
BEGIN:VEVENT
DTSTAMP:20260422T165845Z
DTSTART;VALUE=DATE:20140917
DTEND;VALUE=DATE:20140919
SUMMARY:ICIVC 2014
DESCRIPTION:2014 3rd International Conference on Image\, Vision and Compu
 ting
URL:http://www.wikicfp.com/cfp/servlet/event.showcfp?eventid=36176&copyow
 nerid=66809
UID:cfp456192-E@wikicfp.com
END:VEVENT
BEGIN:VEVENT
DTSTAMP:20260422T165845Z
DTSTART;VALUE=DATE:20140630
SUMMARY:ICIVC 2014 Deadline
DESCRIPTION:2014 3rd International Conference on Image\, Vision and Compu
 ting
URL:http://www.wikicfp.com/cfp/servlet/event.showcfp?eventid=36176&copyow
 nerid=66809
UID:cfp456192-D@wikicfp.com
END:VEVENT
BEGIN:VEVENT
DTSTAMP:20260422T165845Z
DTSTART;VALUE=DATE:20140725
SUMMARY:ICIVC 2014 Notification Due
DESCRIPTION:2014 3rd International Conference on Image\, Vision and Compu
 ting
URL:http://www.wikicfp.com/cfp/servlet/event.showcfp?eventid=36176&copyow
 nerid=66809
UID:cfp456192-N@wikicfp.com
END:VEVENT
BEGIN:VEVENT
DTSTAMP:20260422T165845Z
DTSTART;VALUE=DATE:20140810
SUMMARY:ICIVC 2014 Final Version Due
DESCRIPTION:2014 3rd International Conference on Image\, Vision and Compu
 ting
URL:http://www.wikicfp.com/cfp/servlet/event.showcfp?eventid=36176&copyow
 nerid=66809
UID:cfp456192-N@wikicfp.com
END:VEVENT
END:VCALENDAR
