BEGIN:VCALENDAR
PRODID:-//WikiCFP//omaima_am 1.0//EN
VERSION:2.0
CALSCALE:GREGORIAN
BEGIN:VEVENT
DTSTAMP:20260423T022358Z
DTSTART;VALUE=DATE:20140915
DTEND;VALUE=DATE:20140920
SUMMARY:DyNaK 2014
DESCRIPTION:2ed International workshop on Dynamic Networks and Knowledge 
 Discovery
URL:http://www.wikicfp.com/cfp/servlet/event.showcfp?eventid=37191&copyow
 nerid=66738
UID:cfp455892-E@wikicfp.com
END:VEVENT
BEGIN:VEVENT
DTSTAMP:20260423T022358Z
DTSTART;VALUE=DATE:20140620
SUMMARY:DyNaK 2014 Deadline
DESCRIPTION:2ed International workshop on Dynamic Networks and Knowledge 
 Discovery
URL:http://www.wikicfp.com/cfp/servlet/event.showcfp?eventid=37191&copyow
 nerid=66738
UID:cfp455892-D@wikicfp.com
END:VEVENT
BEGIN:VEVENT
DTSTAMP:20260423T022358Z
DTSTART;VALUE=DATE:20140711
SUMMARY:DyNaK 2014 Notification Due
DESCRIPTION:2ed International workshop on Dynamic Networks and Knowledge 
 Discovery
URL:http://www.wikicfp.com/cfp/servlet/event.showcfp?eventid=37191&copyow
 nerid=66738
UID:cfp455892-N@wikicfp.com
END:VEVENT
BEGIN:VEVENT
DTSTAMP:20260423T022358Z
DTSTART;VALUE=DATE:20140725
SUMMARY:DyNaK 2014 Final Version Due
DESCRIPTION:2ed International workshop on Dynamic Networks and Knowledge 
 Discovery
URL:http://www.wikicfp.com/cfp/servlet/event.showcfp?eventid=37191&copyow
 nerid=66738
UID:cfp455892-N@wikicfp.com
END:VEVENT
BEGIN:VEVENT
DTSTAMP:20260423T022358Z
DTSTART;VALUE=DATE:20141008
DTEND;VALUE=DATE:20141011
SUMMARY:WiMob-DSoNets 2014
DESCRIPTION:IEEE WiMob 2014 Workshop on Dynamic Social Networks (DSoNets 
 2014)
URL:http://www.wikicfp.com/cfp/servlet/event.showcfp?eventid=37599&copyow
 nerid=66738
UID:cfp455893-E@wikicfp.com
END:VEVENT
BEGIN:VEVENT
DTSTAMP:20260423T022358Z
DTSTART;VALUE=DATE:20140630
SUMMARY:WiMob-DSoNets 2014 Deadline
DESCRIPTION:IEEE WiMob 2014 Workshop on Dynamic Social Networks (DSoNets 
 2014)
URL:http://www.wikicfp.com/cfp/servlet/event.showcfp?eventid=37599&copyow
 nerid=66738
UID:cfp455893-D@wikicfp.com
END:VEVENT
BEGIN:VEVENT
DTSTAMP:20260423T022358Z
DTSTART;VALUE=DATE:20140730
SUMMARY:WiMob-DSoNets 2014 Notification Due
DESCRIPTION:IEEE WiMob 2014 Workshop on Dynamic Social Networks (DSoNets 
 2014)
URL:http://www.wikicfp.com/cfp/servlet/event.showcfp?eventid=37599&copyow
 nerid=66738
UID:cfp455893-N@wikicfp.com
END:VEVENT
BEGIN:VEVENT
DTSTAMP:20260423T022358Z
DTSTART;VALUE=DATE:20140825
SUMMARY:WiMob-DSoNets 2014 Final Version Due
DESCRIPTION:IEEE WiMob 2014 Workshop on Dynamic Social Networks (DSoNets 
 2014)
URL:http://www.wikicfp.com/cfp/servlet/event.showcfp?eventid=37599&copyow
 nerid=66738
UID:cfp455893-N@wikicfp.com
END:VEVENT
BEGIN:VEVENT
DTSTAMP:20260423T022358Z
DTSTART;VALUE=DATE:20141214
DTEND;VALUE=DATE:20141215
SUMMARY:DaMNet 2014
DESCRIPTION:The 4th IEEE ICDM Workshop on Data Mining in Networks
URL:http://www.wikicfp.com/cfp/servlet/event.showcfp?eventid=37784&copyow
 nerid=66738
UID:cfp455894-E@wikicfp.com
END:VEVENT
BEGIN:VEVENT
DTSTAMP:20260423T022358Z
DTSTART;VALUE=DATE:20140801
SUMMARY:DaMNet 2014 Deadline
DESCRIPTION:The 4th IEEE ICDM Workshop on Data Mining in Networks
URL:http://www.wikicfp.com/cfp/servlet/event.showcfp?eventid=37784&copyow
 nerid=66738
UID:cfp455894-D@wikicfp.com
END:VEVENT
BEGIN:VEVENT
DTSTAMP:20260423T022358Z
DTSTART;VALUE=DATE:20140926
SUMMARY:DaMNet 2014 Notification Due
DESCRIPTION:The 4th IEEE ICDM Workshop on Data Mining in Networks
URL:http://www.wikicfp.com/cfp/servlet/event.showcfp?eventid=37784&copyow
 nerid=66738
UID:cfp455894-N@wikicfp.com
END:VEVENT
BEGIN:VEVENT
DTSTAMP:20260423T022358Z
DTSTART;VALUE=DATE:20141023
SUMMARY:DaMNet 2014 Final Version Due
DESCRIPTION:The 4th IEEE ICDM Workshop on Data Mining in Networks
URL:http://www.wikicfp.com/cfp/servlet/event.showcfp?eventid=37784&copyow
 nerid=66738
UID:cfp455894-N@wikicfp.com
END:VEVENT
END:VCALENDAR
