BEGIN:VCALENDAR
PRODID:-//WikiCFP//shariqneshat 1.0//EN
VERSION:2.0
CALSCALE:GREGORIAN
BEGIN:VEVENT
DTSTAMP:20260421T202533Z
DTSTART;VALUE=DATE:20150322
DTEND;VALUE=DATE:20150325
SUMMARY:ACECS'15 -  2015
DESCRIPTION:International Conference on Automation\, Control\, Engineerin
 g and Computer Science (ACECS'15)
URL:http://www.wikicfp.com/cfp/servlet/event.showcfp?eventid=32411&copyow
 nerid=66128
UID:cfp456558-E@wikicfp.com
END:VEVENT
BEGIN:VEVENT
DTSTAMP:20260421T202533Z
DTSTART;VALUE=DATE:20141130
SUMMARY:ACECS'15 -  2015 Deadline
DESCRIPTION:International Conference on Automation\, Control\, Engineerin
 g and Computer Science (ACECS'15)
URL:http://www.wikicfp.com/cfp/servlet/event.showcfp?eventid=32411&copyow
 nerid=66128
UID:cfp456558-D@wikicfp.com
END:VEVENT
BEGIN:VEVENT
DTSTAMP:20260421T202533Z
DTSTART;VALUE=DATE:20150120
SUMMARY:ACECS'15 -  2015 Notification Due
DESCRIPTION:International Conference on Automation\, Control\, Engineerin
 g and Computer Science (ACECS'15)
URL:http://www.wikicfp.com/cfp/servlet/event.showcfp?eventid=32411&copyow
 nerid=66128
UID:cfp456558-N@wikicfp.com
END:VEVENT
BEGIN:VEVENT
DTSTAMP:20260421T202533Z
DTSTART;VALUE=DATE:20150301
SUMMARY:ACECS'15 -  2015 Final Version Due
DESCRIPTION:International Conference on Automation\, Control\, Engineerin
 g and Computer Science (ACECS'15)
URL:http://www.wikicfp.com/cfp/servlet/event.showcfp?eventid=32411&copyow
 nerid=66128
UID:cfp456558-N@wikicfp.com
END:VEVENT
BEGIN:VEVENT
DTSTAMP:20260421T202533Z
DTSTART;VALUE=DATE:20150611
DTEND;VALUE=DATE:20150613
SUMMARY:ICCAR 2015
DESCRIPTION:WASET International Conference on Control\, Automation and Ro
 botics
URL:http://www.wikicfp.com/cfp/servlet/event.showcfp?eventid=38129&copyow
 nerid=66128
UID:cfp456550-E@wikicfp.com
END:VEVENT
BEGIN:VEVENT
DTSTAMP:20260421T202533Z
DTSTART;VALUE=DATE:20141211
SUMMARY:ICCAR 2015 Deadline
DESCRIPTION:WASET International Conference on Control\, Automation and Ro
 botics
URL:http://www.wikicfp.com/cfp/servlet/event.showcfp?eventid=38129&copyow
 nerid=66128
UID:cfp456550-D@wikicfp.com
END:VEVENT
BEGIN:VEVENT
DTSTAMP:20260421T202533Z
DTSTART;VALUE=DATE:20150111
SUMMARY:ICCAR 2015 Notification Due
DESCRIPTION:WASET International Conference on Control\, Automation and Ro
 botics
URL:http://www.wikicfp.com/cfp/servlet/event.showcfp?eventid=38129&copyow
 nerid=66128
UID:cfp456550-N@wikicfp.com
END:VEVENT
BEGIN:VEVENT
DTSTAMP:20260421T202533Z
DTSTART;VALUE=DATE:20150211
SUMMARY:ICCAR 2015 Final Version Due
DESCRIPTION:WASET International Conference on Control\, Automation and Ro
 botics
URL:http://www.wikicfp.com/cfp/servlet/event.showcfp?eventid=38129&copyow
 nerid=66128
UID:cfp456550-N@wikicfp.com
END:VEVENT
BEGIN:VEVENT
DTSTAMP:20260421T202533Z
DTSTART;VALUE=DATE:20141230
SUMMARY:Robotics 2014 Deadline
DESCRIPTION:Free Paper Invitation --- Robotics (ISSN 2218-6581 http://www
 .mdpi.com/journal/robotics)
URL:http://www.wikicfp.com/cfp/servlet/event.showcfp?eventid=37585&copyow
 nerid=66128
UID:cfp456551-D@wikicfp.com
END:VEVENT
BEGIN:VEVENT
DTSTAMP:20260421T202533Z
DTSTART;VALUE=DATE:20140630
SUMMARY:Robotics 2014 Notification Due
DESCRIPTION:Free Paper Invitation --- Robotics (ISSN 2218-6581 http://www
 .mdpi.com/journal/robotics)
URL:http://www.wikicfp.com/cfp/servlet/event.showcfp?eventid=37585&copyow
 nerid=66128
UID:cfp456551-N@wikicfp.com
END:VEVENT
BEGIN:VEVENT
DTSTAMP:20260421T202533Z
DTSTART;VALUE=DATE:20141230
SUMMARY:Robotics 2014 Final Version Due
DESCRIPTION:Free Paper Invitation --- Robotics (ISSN 2218-6581 http://www
 .mdpi.com/journal/robotics)
URL:http://www.wikicfp.com/cfp/servlet/event.showcfp?eventid=37585&copyow
 nerid=66128
UID:cfp456551-N@wikicfp.com
END:VEVENT
BEGIN:VEVENT
DTSTAMP:20260421T202533Z
DTSTART;VALUE=DATE:20150806
DTEND;VALUE=DATE:20150808
SUMMARY:ICCDSR 2015
DESCRIPTION:WASET International Conference on Control\, Dynamic Systems a
 nd Robotics
URL:http://www.wikicfp.com/cfp/servlet/event.showcfp?eventid=38089&copyow
 nerid=66128
UID:cfp456560-E@wikicfp.com
END:VEVENT
BEGIN:VEVENT
DTSTAMP:20260421T202533Z
DTSTART;VALUE=DATE:20150120
SUMMARY:ICCDSR 2015 Deadline
DESCRIPTION:WASET International Conference on Control\, Dynamic Systems a
 nd Robotics
URL:http://www.wikicfp.com/cfp/servlet/event.showcfp?eventid=38089&copyow
 nerid=66128
UID:cfp456560-D@wikicfp.com
END:VEVENT
BEGIN:VEVENT
DTSTAMP:20260421T202533Z
DTSTART;VALUE=DATE:20150306
SUMMARY:ICCDSR 2015 Notification Due
DESCRIPTION:WASET International Conference on Control\, Dynamic Systems a
 nd Robotics
URL:http://www.wikicfp.com/cfp/servlet/event.showcfp?eventid=38089&copyow
 nerid=66128
UID:cfp456560-N@wikicfp.com
END:VEVENT
BEGIN:VEVENT
DTSTAMP:20260421T202533Z
DTSTART;VALUE=DATE:20150406
SUMMARY:ICCDSR 2015 Final Version Due
DESCRIPTION:WASET International Conference on Control\, Dynamic Systems a
 nd Robotics
URL:http://www.wikicfp.com/cfp/servlet/event.showcfp?eventid=38089&copyow
 nerid=66128
UID:cfp456560-N@wikicfp.com
END:VEVENT
BEGIN:VEVENT
DTSTAMP:20260421T202533Z
DTSTART;VALUE=DATE:20150624
DTEND;VALUE=DATE:20150627
SUMMARY:MICNON 2015
DESCRIPTION:IFAC Conference on Modelling\, Identification and Control of 
 Nonlinear Systems
URL:http://www.wikicfp.com/cfp/servlet/event.showcfp?eventid=38078&copyow
 nerid=66128
UID:cfp456559-E@wikicfp.com
END:VEVENT
BEGIN:VEVENT
DTSTAMP:20260421T202533Z
DTSTART;VALUE=DATE:20150126
SUMMARY:MICNON 2015 Deadline
DESCRIPTION:IFAC Conference on Modelling\, Identification and Control of 
 Nonlinear Systems
URL:http://www.wikicfp.com/cfp/servlet/event.showcfp?eventid=38078&copyow
 nerid=66128
UID:cfp456559-D@wikicfp.com
END:VEVENT
BEGIN:VEVENT
DTSTAMP:20260421T202533Z
DTSTART;VALUE=DATE:20150115
DTEND;VALUE=DATE:20150118
SUMMARY:CISCA 2015
DESCRIPTION:1st International Conference on Communications\, Information 
 Systems\, Control and their Applications
URL:http://www.wikicfp.com/cfp/servlet/event.showcfp?eventid=37312&copyow
 nerid=66128
UID:cfp456561-E@wikicfp.com
END:VEVENT
BEGIN:VEVENT
DTSTAMP:20260421T202533Z
DTSTART;VALUE=DATE:20150915
SUMMARY:CISCA 2015 Deadline
DESCRIPTION:1st International Conference on Communications\, Information 
 Systems\, Control and their Applications
URL:http://www.wikicfp.com/cfp/servlet/event.showcfp?eventid=37312&copyow
 nerid=66128
UID:cfp456561-D@wikicfp.com
END:VEVENT
BEGIN:VEVENT
DTSTAMP:20260421T202533Z
DTSTART;VALUE=DATE:20151015
SUMMARY:CISCA 2015 Notification Due
DESCRIPTION:1st International Conference on Communications\, Information 
 Systems\, Control and their Applications
URL:http://www.wikicfp.com/cfp/servlet/event.showcfp?eventid=37312&copyow
 nerid=66128
UID:cfp456561-N@wikicfp.com
END:VEVENT
BEGIN:VEVENT
DTSTAMP:20260421T202533Z
DTSTART;VALUE=DATE:20151030
SUMMARY:CISCA 2015 Final Version Due
DESCRIPTION:1st International Conference on Communications\, Information 
 Systems\, Control and their Applications
URL:http://www.wikicfp.com/cfp/servlet/event.showcfp?eventid=37312&copyow
 nerid=66128
UID:cfp456561-N@wikicfp.com
END:VEVENT
BEGIN:VEVENT
DTSTAMP:20260421T202533Z
DTSTART;VALUE=DATE:20160327
DTEND;VALUE=DATE:20160329
SUMMARY:ICCAE 2016
DESCRIPTION:WASET International Conference on Control and Automation Engi
 neering
URL:http://www.wikicfp.com/cfp/servlet/event.showcfp?eventid=38087&copyow
 nerid=66128
UID:cfp456562-E@wikicfp.com
END:VEVENT
BEGIN:VEVENT
DTSTAMP:20260421T202533Z
DTSTART;VALUE=DATE:20150927
SUMMARY:ICCAE 2016 Deadline
DESCRIPTION:WASET International Conference on Control and Automation Engi
 neering
URL:http://www.wikicfp.com/cfp/servlet/event.showcfp?eventid=38087&copyow
 nerid=66128
UID:cfp456562-D@wikicfp.com
END:VEVENT
BEGIN:VEVENT
DTSTAMP:20260421T202533Z
DTSTART;VALUE=DATE:20151027
SUMMARY:ICCAE 2016 Notification Due
DESCRIPTION:WASET International Conference on Control and Automation Engi
 neering
URL:http://www.wikicfp.com/cfp/servlet/event.showcfp?eventid=38087&copyow
 nerid=66128
UID:cfp456562-N@wikicfp.com
END:VEVENT
BEGIN:VEVENT
DTSTAMP:20260421T202533Z
DTSTART;VALUE=DATE:20151127
SUMMARY:ICCAE 2016 Final Version Due
DESCRIPTION:WASET International Conference on Control and Automation Engi
 neering
URL:http://www.wikicfp.com/cfp/servlet/event.showcfp?eventid=38087&copyow
 nerid=66128
UID:cfp456562-N@wikicfp.com
END:VEVENT
BEGIN:VEVENT
DTSTAMP:20260421T202533Z
DTSTART;VALUE=DATE:20160505
DTEND;VALUE=DATE:20160507
SUMMARY:ICCA 2016
DESCRIPTION:WASET International Conference on Control and Applications
URL:http://www.wikicfp.com/cfp/servlet/event.showcfp?eventid=38132&copyow
 nerid=66128
UID:cfp456563-E@wikicfp.com
END:VEVENT
BEGIN:VEVENT
DTSTAMP:20260421T202533Z
DTSTART;VALUE=DATE:20151105
SUMMARY:ICCA 2016 Deadline
DESCRIPTION:WASET International Conference on Control and Applications
URL:http://www.wikicfp.com/cfp/servlet/event.showcfp?eventid=38132&copyow
 nerid=66128
UID:cfp456563-D@wikicfp.com
END:VEVENT
BEGIN:VEVENT
DTSTAMP:20260421T202533Z
DTSTART;VALUE=DATE:20151205
SUMMARY:ICCA 2016 Notification Due
DESCRIPTION:WASET International Conference on Control and Applications
URL:http://www.wikicfp.com/cfp/servlet/event.showcfp?eventid=38132&copyow
 nerid=66128
UID:cfp456563-N@wikicfp.com
END:VEVENT
BEGIN:VEVENT
DTSTAMP:20260421T202533Z
DTSTART;VALUE=DATE:20160105
SUMMARY:ICCA 2016 Final Version Due
DESCRIPTION:WASET International Conference on Control and Applications
URL:http://www.wikicfp.com/cfp/servlet/event.showcfp?eventid=38132&copyow
 nerid=66128
UID:cfp456563-N@wikicfp.com
END:VEVENT
BEGIN:VEVENT
DTSTAMP:20260421T202533Z
DTSTART;VALUE=DATE:20160609
DTEND;VALUE=DATE:20160611
SUMMARY:ICCAR 2016
DESCRIPTION:WASET International Conference on Control\, Automation and Ro
 botics
URL:http://www.wikicfp.com/cfp/servlet/event.showcfp?eventid=38130&copyow
 nerid=66128
UID:cfp456552-E@wikicfp.com
END:VEVENT
BEGIN:VEVENT
DTSTAMP:20260421T202533Z
DTSTART;VALUE=DATE:20151227
SUMMARY:ICCAR 2016 Deadline
DESCRIPTION:WASET International Conference on Control\, Automation and Ro
 botics
URL:http://www.wikicfp.com/cfp/servlet/event.showcfp?eventid=38130&copyow
 nerid=66128
UID:cfp456552-D@wikicfp.com
END:VEVENT
BEGIN:VEVENT
DTSTAMP:20260421T202533Z
DTSTART;VALUE=DATE:20160127
SUMMARY:ICCAR 2016 Notification Due
DESCRIPTION:WASET International Conference on Control\, Automation and Ro
 botics
URL:http://www.wikicfp.com/cfp/servlet/event.showcfp?eventid=38130&copyow
 nerid=66128
UID:cfp456552-N@wikicfp.com
END:VEVENT
BEGIN:VEVENT
DTSTAMP:20260421T202533Z
DTSTART;VALUE=DATE:20160227
SUMMARY:ICCAR 2016 Final Version Due
DESCRIPTION:WASET International Conference on Control\, Automation and Ro
 botics
URL:http://www.wikicfp.com/cfp/servlet/event.showcfp?eventid=38130&copyow
 nerid=66128
UID:cfp456552-N@wikicfp.com
END:VEVENT
BEGIN:VEVENT
DTSTAMP:20260421T202533Z
DTSTART;VALUE=DATE:20160804
DTEND;VALUE=DATE:20160806
SUMMARY:ICCDSR 2016
DESCRIPTION:WASET International Conference on Control\, Dynamic Systems a
 nd Robotics
URL:http://www.wikicfp.com/cfp/servlet/event.showcfp?eventid=38091&copyow
 nerid=66128
UID:cfp456564-E@wikicfp.com
END:VEVENT
BEGIN:VEVENT
DTSTAMP:20260421T202533Z
DTSTART;VALUE=DATE:20160204
SUMMARY:ICCDSR 2016 Deadline
DESCRIPTION:WASET International Conference on Control\, Dynamic Systems a
 nd Robotics
URL:http://www.wikicfp.com/cfp/servlet/event.showcfp?eventid=38091&copyow
 nerid=66128
UID:cfp456564-D@wikicfp.com
END:VEVENT
BEGIN:VEVENT
DTSTAMP:20260421T202533Z
DTSTART;VALUE=DATE:20160304
SUMMARY:ICCDSR 2016 Notification Due
DESCRIPTION:WASET International Conference on Control\, Dynamic Systems a
 nd Robotics
URL:http://www.wikicfp.com/cfp/servlet/event.showcfp?eventid=38091&copyow
 nerid=66128
UID:cfp456564-N@wikicfp.com
END:VEVENT
BEGIN:VEVENT
DTSTAMP:20260421T202533Z
DTSTART;VALUE=DATE:20160404
SUMMARY:ICCDSR 2016 Final Version Due
DESCRIPTION:WASET International Conference on Control\, Dynamic Systems a
 nd Robotics
URL:http://www.wikicfp.com/cfp/servlet/event.showcfp?eventid=38091&copyow
 nerid=66128
UID:cfp456564-N@wikicfp.com
END:VEVENT
END:VCALENDAR
