BEGIN:VCALENDAR
PRODID:-//WikiCFP//soulx 1.0//EN
VERSION:2.0
CALSCALE:GREGORIAN
BEGIN:VEVENT
DTSTAMP:20260422T144517Z
DTSTART;VALUE=DATE:20141117
DTEND;VALUE=DATE:20141120
SUMMARY:AIPR 2014
DESCRIPTION:The International Conference on Artificial Intelligence and P
 attern Recognition
URL:http://www.wikicfp.com/cfp/servlet/event.showcfp?eventid=34313&copyow
 nerid=66085
UID:cfp452501-E@wikicfp.com
END:VEVENT
BEGIN:VEVENT
DTSTAMP:20260422T144517Z
DTSTART;VALUE=DATE:20141107
SUMMARY:AIPR 2014 Abstract Due
DESCRIPTION:The International Conference on Artificial Intelligence and P
 attern Recognition
URL:http://www.wikicfp.com/cfp/servlet/event.showcfp?eventid=34313&copyow
 nerid=66085
UID:cfp452501-A@wikicfp.com
END:VEVENT
BEGIN:VEVENT
DTSTAMP:20260422T144517Z
DTSTART;VALUE=DATE:20141017
SUMMARY:AIPR 2014 Deadline
DESCRIPTION:The International Conference on Artificial Intelligence and P
 attern Recognition
URL:http://www.wikicfp.com/cfp/servlet/event.showcfp?eventid=34313&copyow
 nerid=66085
UID:cfp452501-D@wikicfp.com
END:VEVENT
BEGIN:VEVENT
DTSTAMP:20260422T144517Z
DTSTART;VALUE=DATE:20141103
SUMMARY:AIPR 2014 Notification Due
DESCRIPTION:The International Conference on Artificial Intelligence and P
 attern Recognition
URL:http://www.wikicfp.com/cfp/servlet/event.showcfp?eventid=34313&copyow
 nerid=66085
UID:cfp452501-N@wikicfp.com
END:VEVENT
END:VCALENDAR
