BEGIN:VCALENDAR
PRODID:-//WikiCFP//beachprint 1.0//EN
VERSION:2.0
CALSCALE:GREGORIAN
BEGIN:VEVENT
DTSTAMP:20260420T095723Z
DTSTART;VALUE=DATE:20141024
DTEND;VALUE=DATE:20141027
SUMMARY:ICCP  2014
DESCRIPTION:2014 International Conference On Communication Problem-Solvin
 g 
URL:http://www.wikicfp.com/cfp/servlet/event.showcfp?eventid=36438&copyow
 nerid=65781
UID:cfp494052-E@wikicfp.com
END:VEVENT
BEGIN:VEVENT
DTSTAMP:20260420T095723Z
DTSTART;VALUE=DATE:20140601
SUMMARY:ICCP  2014 Deadline
DESCRIPTION:2014 International Conference On Communication Problem-Solvin
 g 
URL:http://www.wikicfp.com/cfp/servlet/event.showcfp?eventid=36438&copyow
 nerid=65781
UID:cfp494052-D@wikicfp.com
END:VEVENT
BEGIN:VEVENT
DTSTAMP:20260420T095723Z
DTSTART;VALUE=DATE:20140701
SUMMARY:ICCP  2014 Notification Due
DESCRIPTION:2014 International Conference On Communication Problem-Solvin
 g 
URL:http://www.wikicfp.com/cfp/servlet/event.showcfp?eventid=36438&copyow
 nerid=65781
UID:cfp494052-N@wikicfp.com
END:VEVENT
BEGIN:VEVENT
DTSTAMP:20260420T095723Z
DTSTART;VALUE=DATE:20140815
SUMMARY:ICCP  2014 Final Version Due
DESCRIPTION:2014 International Conference On Communication Problem-Solvin
 g 
URL:http://www.wikicfp.com/cfp/servlet/event.showcfp?eventid=36438&copyow
 nerid=65781
UID:cfp494052-N@wikicfp.com
END:VEVENT
BEGIN:VEVENT
DTSTAMP:20260420T095723Z
DTSTART;VALUE=DATE:20141208
DTEND;VALUE=DATE:20141214
SUMMARY:NIPS 2014
DESCRIPTION:Neural Information Processing Systems Conference
URL:http://www.wikicfp.com/cfp/servlet/event.showcfp?eventid=21362&copyow
 nerid=65781
UID:cfp490950-E@wikicfp.com
END:VEVENT
BEGIN:VEVENT
DTSTAMP:20260420T095723Z
DTSTART;VALUE=DATE:20140606
SUMMARY:NIPS 2014 Deadline
DESCRIPTION:Neural Information Processing Systems Conference
URL:http://www.wikicfp.com/cfp/servlet/event.showcfp?eventid=21362&copyow
 nerid=65781
UID:cfp490950-D@wikicfp.com
END:VEVENT
BEGIN:VEVENT
DTSTAMP:20260420T095723Z
DTSTART;VALUE=DATE:20141207
DTEND;VALUE=DATE:20141211
SUMMARY:VCIP 2014
DESCRIPTION:IEEE Conference on Visual Communications and Image Processing
 
URL:http://www.wikicfp.com/cfp/servlet/event.showcfp?eventid=34546&copyow
 nerid=65781
UID:cfp450749-E@wikicfp.com
END:VEVENT
BEGIN:VEVENT
DTSTAMP:20260420T095723Z
DTSTART;VALUE=DATE:20140615
SUMMARY:VCIP 2014 Deadline
DESCRIPTION:IEEE Conference on Visual Communications and Image Processing
 
URL:http://www.wikicfp.com/cfp/servlet/event.showcfp?eventid=34546&copyow
 nerid=65781
UID:cfp450749-D@wikicfp.com
END:VEVENT
BEGIN:VEVENT
DTSTAMP:20260420T095723Z
DTSTART;VALUE=DATE:20140824
SUMMARY:VCIP 2014 Notification Due
DESCRIPTION:IEEE Conference on Visual Communications and Image Processing
 
URL:http://www.wikicfp.com/cfp/servlet/event.showcfp?eventid=34546&copyow
 nerid=65781
UID:cfp450749-N@wikicfp.com
END:VEVENT
BEGIN:VEVENT
DTSTAMP:20260420T095723Z
DTSTART;VALUE=DATE:20140912
SUMMARY:VCIP 2014 Final Version Due
DESCRIPTION:IEEE Conference on Visual Communications and Image Processing
 
URL:http://www.wikicfp.com/cfp/servlet/event.showcfp?eventid=34546&copyow
 nerid=65781
UID:cfp450749-N@wikicfp.com
END:VEVENT
BEGIN:VEVENT
DTSTAMP:20260420T095723Z
DTSTART;VALUE=DATE:20141019
DTEND;VALUE=DATE:20141024
SUMMARY:ICSP 2014
DESCRIPTION:The 12th IEEE International Conference on Signal Processing  
   
URL:http://www.wikicfp.com/cfp/servlet/event.showcfp?eventid=37709&copyow
 nerid=65781
UID:cfp450748-E@wikicfp.com
END:VEVENT
BEGIN:VEVENT
DTSTAMP:20260420T095723Z
DTSTART;VALUE=DATE:20140615
SUMMARY:ICSP 2014 Deadline
DESCRIPTION:The 12th IEEE International Conference on Signal Processing  
   
URL:http://www.wikicfp.com/cfp/servlet/event.showcfp?eventid=37709&copyow
 nerid=65781
UID:cfp450748-D@wikicfp.com
END:VEVENT
BEGIN:VEVENT
DTSTAMP:20260420T095723Z
DTSTART;VALUE=DATE:20140715
SUMMARY:ICSP 2014 Notification Due
DESCRIPTION:The 12th IEEE International Conference on Signal Processing  
   
URL:http://www.wikicfp.com/cfp/servlet/event.showcfp?eventid=37709&copyow
 nerid=65781
UID:cfp450748-N@wikicfp.com
END:VEVENT
BEGIN:VEVENT
DTSTAMP:20260420T095723Z
DTSTART;VALUE=DATE:20140815
SUMMARY:ICSP 2014 Final Version Due
DESCRIPTION:The 12th IEEE International Conference on Signal Processing  
   
URL:http://www.wikicfp.com/cfp/servlet/event.showcfp?eventid=37709&copyow
 nerid=65781
UID:cfp450748-N@wikicfp.com
END:VEVENT
BEGIN:VEVENT
DTSTAMP:20260420T095723Z
DTSTART;VALUE=DATE:20141024
DTEND;VALUE=DATE:20141027
SUMMARY:ICGIP 2014
DESCRIPTION:2014 6th International Conference on Graphic and Image Proces
 sing
URL:http://www.wikicfp.com/cfp/servlet/event.showcfp?eventid=36320&copyow
 nerid=65781
UID:cfp450745-E@wikicfp.com
END:VEVENT
BEGIN:VEVENT
DTSTAMP:20260420T095723Z
DTSTART;VALUE=DATE:20140810
SUMMARY:ICGIP 2014 Deadline
DESCRIPTION:2014 6th International Conference on Graphic and Image Proces
 sing
URL:http://www.wikicfp.com/cfp/servlet/event.showcfp?eventid=36320&copyow
 nerid=65781
UID:cfp450745-D@wikicfp.com
END:VEVENT
BEGIN:VEVENT
DTSTAMP:20260420T095723Z
DTSTART;VALUE=DATE:20140905
SUMMARY:ICGIP 2014 Notification Due
DESCRIPTION:2014 6th International Conference on Graphic and Image Proces
 sing
URL:http://www.wikicfp.com/cfp/servlet/event.showcfp?eventid=36320&copyow
 nerid=65781
UID:cfp450745-N@wikicfp.com
END:VEVENT
BEGIN:VEVENT
DTSTAMP:20260420T095723Z
DTSTART;VALUE=DATE:20140920
SUMMARY:ICGIP 2014 Final Version Due
DESCRIPTION:2014 6th International Conference on Graphic and Image Proces
 sing
URL:http://www.wikicfp.com/cfp/servlet/event.showcfp?eventid=36320&copyow
 nerid=65781
UID:cfp450745-N@wikicfp.com
END:VEVENT
BEGIN:VEVENT
DTSTAMP:20260420T095723Z
DTSTART;VALUE=DATE:20150607
DTEND;VALUE=DATE:20150613
SUMMARY:CVPR 2015
DESCRIPTION:28th IEEE Conference on Computer Vision and Pattern Recogniti
 on
URL:http://www.wikicfp.com/cfp/servlet/event.showcfp?eventid=36730&copyow
 nerid=65781
UID:cfp490262-E@wikicfp.com
END:VEVENT
BEGIN:VEVENT
DTSTAMP:20260420T095723Z
DTSTART;VALUE=DATE:20141114
SUMMARY:CVPR 2015 Deadline
DESCRIPTION:28th IEEE Conference on Computer Vision and Pattern Recogniti
 on
URL:http://www.wikicfp.com/cfp/servlet/event.showcfp?eventid=36730&copyow
 nerid=65781
UID:cfp490262-D@wikicfp.com
END:VEVENT
BEGIN:VEVENT
DTSTAMP:20260420T095723Z
DTSTART;VALUE=DATE:20150629
DTEND;VALUE=DATE:20150704
SUMMARY:ICME 2015
DESCRIPTION:IEEE International Conference on Multimedia and Expo
URL:http://www.wikicfp.com/cfp/servlet/event.showcfp?eventid=40704&copyow
 nerid=65781
UID:cfp490256-E@wikicfp.com
END:VEVENT
BEGIN:VEVENT
DTSTAMP:20260420T095723Z
DTSTART;VALUE=DATE:20141128
SUMMARY:ICME 2015 Deadline
DESCRIPTION:IEEE International Conference on Multimedia and Expo
URL:http://www.wikicfp.com/cfp/servlet/event.showcfp?eventid=40704&copyow
 nerid=65781
UID:cfp490256-D@wikicfp.com
END:VEVENT
BEGIN:VEVENT
DTSTAMP:20260420T095723Z
DTSTART;VALUE=DATE:20150315
SUMMARY:ICME 2015 Notification Due
DESCRIPTION:IEEE International Conference on Multimedia and Expo
URL:http://www.wikicfp.com/cfp/servlet/event.showcfp?eventid=40704&copyow
 nerid=65781
UID:cfp490256-N@wikicfp.com
END:VEVENT
BEGIN:VEVENT
DTSTAMP:20260420T095723Z
DTSTART;VALUE=DATE:20150403
SUMMARY:ICME 2015 Final Version Due
DESCRIPTION:IEEE International Conference on Multimedia and Expo
URL:http://www.wikicfp.com/cfp/servlet/event.showcfp?eventid=40704&copyow
 nerid=65781
UID:cfp490256-N@wikicfp.com
END:VEVENT
BEGIN:VEVENT
DTSTAMP:20260420T095723Z
DTSTART;VALUE=DATE:20150927
DTEND;VALUE=DATE:20151001
SUMMARY:ICIP 2015
DESCRIPTION:International Conference on Image Processing
URL:http://www.wikicfp.com/cfp/servlet/event.showcfp?eventid=40319&copyow
 nerid=65781
UID:cfp490251-E@wikicfp.com
END:VEVENT
BEGIN:VEVENT
DTSTAMP:20260420T095723Z
DTSTART;VALUE=DATE:20150115
SUMMARY:ICIP 2015 Deadline
DESCRIPTION:International Conference on Image Processing
URL:http://www.wikicfp.com/cfp/servlet/event.showcfp?eventid=40319&copyow
 nerid=65781
UID:cfp490251-D@wikicfp.com
END:VEVENT
BEGIN:VEVENT
DTSTAMP:20260420T095723Z
DTSTART;VALUE=DATE:20150706
DTEND;VALUE=DATE:20150712
SUMMARY:ICML 2015
DESCRIPTION:International Conference on Machine Learning 2015
URL:http://www.wikicfp.com/cfp/servlet/event.showcfp?eventid=40054&copyow
 nerid=65781
UID:cfp490951-E@wikicfp.com
END:VEVENT
BEGIN:VEVENT
DTSTAMP:20260420T095723Z
DTSTART;VALUE=DATE:20150206
SUMMARY:ICML 2015 Deadline
DESCRIPTION:International Conference on Machine Learning 2015
URL:http://www.wikicfp.com/cfp/servlet/event.showcfp?eventid=40054&copyow
 nerid=65781
UID:cfp490951-D@wikicfp.com
END:VEVENT
BEGIN:VEVENT
DTSTAMP:20260420T095723Z
DTSTART;VALUE=DATE:20150424
SUMMARY:ICML 2015 Notification Due
DESCRIPTION:International Conference on Machine Learning 2015
URL:http://www.wikicfp.com/cfp/servlet/event.showcfp?eventid=40054&copyow
 nerid=65781
UID:cfp490951-N@wikicfp.com
END:VEVENT
BEGIN:VEVENT
DTSTAMP:20260420T095723Z
DTSTART;VALUE=DATE:20151211
DTEND;VALUE=DATE:20151219
SUMMARY:ICCV 2015
DESCRIPTION:International Conference on Computer Vision
URL:http://www.wikicfp.com/cfp/servlet/event.showcfp?eventid=41902&copyow
 nerid=65781
UID:cfp490260-E@wikicfp.com
END:VEVENT
BEGIN:VEVENT
DTSTAMP:20260420T095723Z
DTSTART;VALUE=DATE:20150401
SUMMARY:ICCV 2015 Deadline
DESCRIPTION:International Conference on Computer Vision
URL:http://www.wikicfp.com/cfp/servlet/event.showcfp?eventid=41902&copyow
 nerid=65781
UID:cfp490260-D@wikicfp.com
END:VEVENT
BEGIN:VEVENT
DTSTAMP:20260420T095723Z
DTSTART;VALUE=DATE:20151214
DTEND;VALUE=DATE:20151217
SUMMARY:GlobalSIP 2015
DESCRIPTION:IEEE Global Conference on Signal and Information Processing
URL:http://www.wikicfp.com/cfp/servlet/event.showcfp?eventid=42404&copyow
 nerid=65781
UID:cfp494053-E@wikicfp.com
END:VEVENT
BEGIN:VEVENT
DTSTAMP:20260420T095723Z
DTSTART;VALUE=DATE:20150515
SUMMARY:GlobalSIP 2015 Deadline
DESCRIPTION:IEEE Global Conference on Signal and Information Processing
URL:http://www.wikicfp.com/cfp/servlet/event.showcfp?eventid=42404&copyow
 nerid=65781
UID:cfp494053-D@wikicfp.com
END:VEVENT
BEGIN:VEVENT
DTSTAMP:20260420T095723Z
DTSTART;VALUE=DATE:20150630
SUMMARY:GlobalSIP 2015 Notification Due
DESCRIPTION:IEEE Global Conference on Signal and Information Processing
URL:http://www.wikicfp.com/cfp/servlet/event.showcfp?eventid=42404&copyow
 nerid=65781
UID:cfp494053-N@wikicfp.com
END:VEVENT
BEGIN:VEVENT
DTSTAMP:20260420T095723Z
DTSTART;VALUE=DATE:20151103
DTEND;VALUE=DATE:20151107
SUMMARY:ACPR 2015
DESCRIPTION:3rd Asian Conference on Pattern Recognition
URL:http://www.wikicfp.com/cfp/servlet/event.showcfp?eventid=39134&copyow
 nerid=65781
UID:cfp490255-E@wikicfp.com
END:VEVENT
BEGIN:VEVENT
DTSTAMP:20260420T095723Z
DTSTART;VALUE=DATE:20150601
SUMMARY:ACPR 2015 Deadline
DESCRIPTION:3rd Asian Conference on Pattern Recognition
URL:http://www.wikicfp.com/cfp/servlet/event.showcfp?eventid=39134&copyow
 nerid=65781
UID:cfp490255-D@wikicfp.com
END:VEVENT
BEGIN:VEVENT
DTSTAMP:20260420T095723Z
DTSTART;VALUE=DATE:20150817
SUMMARY:ACPR 2015 Notification Due
DESCRIPTION:3rd Asian Conference on Pattern Recognition
URL:http://www.wikicfp.com/cfp/servlet/event.showcfp?eventid=39134&copyow
 nerid=65781
UID:cfp490255-N@wikicfp.com
END:VEVENT
BEGIN:VEVENT
DTSTAMP:20260420T095723Z
DTSTART;VALUE=DATE:20150911
SUMMARY:ACPR 2015 Final Version Due
DESCRIPTION:3rd Asian Conference on Pattern Recognition
URL:http://www.wikicfp.com/cfp/servlet/event.showcfp?eventid=39134&copyow
 nerid=65781
UID:cfp490255-N@wikicfp.com
END:VEVENT
END:VCALENDAR
