BEGIN:VCALENDAR
PRODID:-//WikiCFP//semantics2014 1.0//EN
VERSION:2.0
CALSCALE:GREGORIAN
BEGIN:VEVENT
DTSTAMP:20260423T202853Z
DTSTART;VALUE=DATE:20140904
DTEND;VALUE=DATE:20140906
SUMMARY:SEMANTICS 2014
DESCRIPTION:10th International Conference on Semantic Systems
URL:http://www.wikicfp.com/cfp/servlet/event.showcfp?eventid=37300&copyow
 nerid=63526
UID:cfp439255-E@wikicfp.com
END:VEVENT
BEGIN:VEVENT
DTSTAMP:20260423T202853Z
DTSTART;VALUE=DATE:20140523
SUMMARY:SEMANTICS 2014 Abstract Due
DESCRIPTION:10th International Conference on Semantic Systems
URL:http://www.wikicfp.com/cfp/servlet/event.showcfp?eventid=37300&copyow
 nerid=63526
UID:cfp439255-A@wikicfp.com
END:VEVENT
BEGIN:VEVENT
DTSTAMP:20260423T202853Z
DTSTART;VALUE=DATE:20140530
SUMMARY:SEMANTICS 2014 Deadline
DESCRIPTION:10th International Conference on Semantic Systems
URL:http://www.wikicfp.com/cfp/servlet/event.showcfp?eventid=37300&copyow
 nerid=63526
UID:cfp439255-D@wikicfp.com
END:VEVENT
BEGIN:VEVENT
DTSTAMP:20260423T202853Z
DTSTART;VALUE=DATE:20140627
SUMMARY:SEMANTICS 2014 Notification Due
DESCRIPTION:10th International Conference on Semantic Systems
URL:http://www.wikicfp.com/cfp/servlet/event.showcfp?eventid=37300&copyow
 nerid=63526
UID:cfp439255-N@wikicfp.com
END:VEVENT
BEGIN:VEVENT
DTSTAMP:20260423T202853Z
DTSTART;VALUE=DATE:20140714
SUMMARY:SEMANTICS 2014 Final Version Due
DESCRIPTION:10th International Conference on Semantic Systems
URL:http://www.wikicfp.com/cfp/servlet/event.showcfp?eventid=37300&copyow
 nerid=63526
UID:cfp439255-N@wikicfp.com
END:VEVENT
BEGIN:VEVENT
DTSTAMP:20260423T202853Z
DTSTART;VALUE=DATE:20150915
DTEND;VALUE=DATE:20150918
SUMMARY:SEMANTiCS 2015
DESCRIPTION:11th International Conference on Semantic Systems (Posters an
 d Demos)
URL:http://www.wikicfp.com/cfp/servlet/event.showcfp?eventid=46117&copyow
 nerid=63526
UID:cfp528175-E@wikicfp.com
END:VEVENT
BEGIN:VEVENT
DTSTAMP:20260423T202853Z
DTSTART;VALUE=DATE:20150617
SUMMARY:SEMANTiCS 2015 Deadline
DESCRIPTION:11th International Conference on Semantic Systems (Posters an
 d Demos)
URL:http://www.wikicfp.com/cfp/servlet/event.showcfp?eventid=46117&copyow
 nerid=63526
UID:cfp528175-D@wikicfp.com
END:VEVENT
BEGIN:VEVENT
DTSTAMP:20260423T202853Z
DTSTART;VALUE=DATE:20150710
SUMMARY:SEMANTiCS 2015 Notification Due
DESCRIPTION:11th International Conference on Semantic Systems (Posters an
 d Demos)
URL:http://www.wikicfp.com/cfp/servlet/event.showcfp?eventid=46117&copyow
 nerid=63526
UID:cfp528175-N@wikicfp.com
END:VEVENT
BEGIN:VEVENT
DTSTAMP:20260423T202853Z
DTSTART;VALUE=DATE:20150801
SUMMARY:SEMANTiCS 2015 Final Version Due
DESCRIPTION:11th International Conference on Semantic Systems (Posters an
 d Demos)
URL:http://www.wikicfp.com/cfp/servlet/event.showcfp?eventid=46117&copyow
 nerid=63526
UID:cfp528175-N@wikicfp.com
END:VEVENT
END:VCALENDAR
