BEGIN:VCALENDAR
PRODID:-//WikiCFP//DaveCochran 1.0//EN
VERSION:2.0
CALSCALE:GREGORIAN
BEGIN:VEVENT
DTSTAMP:20260421T194318Z
DTSTART;VALUE=DATE:20071130
DTEND;VALUE=DATE:20071202
SUMMARY:CoPaLaSt 2007
DESCRIPTION:Computational Paradigms and Language Structure
URL:http://www.wikicfp.com/cfp/servlet/event.showcfp?eventid=189&copyowne
 rid=63
UID:cfp498-E@wikicfp.com
END:VEVENT
BEGIN:VEVENT
DTSTAMP:20260421T194318Z
DTSTART;VALUE=DATE:20071001
SUMMARY:CoPaLaSt 2007 Deadline
DESCRIPTION:Computational Paradigms and Language Structure
URL:http://www.wikicfp.com/cfp/servlet/event.showcfp?eventid=189&copyowne
 rid=63
UID:cfp498-D@wikicfp.com
END:VEVENT
BEGIN:VEVENT
DTSTAMP:20260421T194318Z
DTSTART;VALUE=DATE:20080728
DTEND;VALUE=DATE:20080802
SUMMARY:IASCL 2008
DESCRIPTION:International Congress for the Study of Child Language
URL:http://www.wikicfp.com/cfp/servlet/event.showcfp?eventid=299&copyowne
 rid=63
UID:cfp497-E@wikicfp.com
END:VEVENT
BEGIN:VEVENT
DTSTAMP:20260421T194318Z
DTSTART;VALUE=DATE:20071015
SUMMARY:IASCL 2008 Deadline
DESCRIPTION:International Congress for the Study of Child Language
URL:http://www.wikicfp.com/cfp/servlet/event.showcfp?eventid=299&copyowne
 rid=63
UID:cfp497-D@wikicfp.com
END:VEVENT
BEGIN:VEVENT
DTSTAMP:20260421T194318Z
DTSTART;VALUE=DATE:20080515
DTEND;VALUE=DATE:20080518
SUMMARY:FLAIRS 2008
DESCRIPTION:The 21st International Florida Artificial Intelligence Resear
 ch Society Conference
URL:http://www.wikicfp.com/cfp/servlet/event.showcfp?eventid=380&copyowne
 rid=63
UID:cfp504-E@wikicfp.com
END:VEVENT
BEGIN:VEVENT
DTSTAMP:20260421T194318Z
DTSTART;VALUE=DATE:20071119
SUMMARY:FLAIRS 2008 Deadline
DESCRIPTION:The 21st International Florida Artificial Intelligence Resear
 ch Society Conference
URL:http://www.wikicfp.com/cfp/servlet/event.showcfp?eventid=380&copyowne
 rid=63
UID:cfp504-D@wikicfp.com
END:VEVENT
BEGIN:VEVENT
DTSTAMP:20260421T194318Z
DTSTART;VALUE=DATE:20080804
DTEND;VALUE=DATE:20080808
SUMMARY:LCC 2008
DESCRIPTION:Language\, Communication and Cognition
URL:http://www.wikicfp.com/cfp/servlet/event.showcfp?eventid=301&copyowne
 rid=63
UID:cfp496-E@wikicfp.com
END:VEVENT
BEGIN:VEVENT
DTSTAMP:20260421T194318Z
DTSTART;VALUE=DATE:20071126
SUMMARY:LCC 2008 Deadline
DESCRIPTION:Language\, Communication and Cognition
URL:http://www.wikicfp.com/cfp/servlet/event.showcfp?eventid=301&copyowne
 rid=63
UID:cfp496-D@wikicfp.com
END:VEVENT
BEGIN:VEVENT
DTSTAMP:20260421T194318Z
DTSTART;VALUE=DATE:20080615
DTEND;VALUE=DATE:20080621
SUMMARY:ACL 2008
DESCRIPTION:The 46th Annual Meeting of the Association for Computational 
 Linguistics
URL:http://www.wikicfp.com/cfp/servlet/event.showcfp?eventid=362&copyowne
 rid=63
UID:cfp495-E@wikicfp.com
END:VEVENT
BEGIN:VEVENT
DTSTAMP:20260421T194318Z
DTSTART;VALUE=DATE:20080110
SUMMARY:ACL 2008 Deadline
DESCRIPTION:The 46th Annual Meeting of the Association for Computational 
 Linguistics
URL:http://www.wikicfp.com/cfp/servlet/event.showcfp?eventid=362&copyowne
 rid=63
UID:cfp495-D@wikicfp.com
END:VEVENT
BEGIN:VEVENT
DTSTAMP:20260421T194318Z
DTSTART;VALUE=DATE:20080529
DTEND;VALUE=DATE:20080602
SUMMARY:CFP 2008
DESCRIPTION:Cognitive and Functional Perspectives on Dynamic Tendencies
URL:http://www.wikicfp.com/cfp/servlet/event.showcfp?eventid=342&copyowne
 rid=63
UID:cfp500-E@wikicfp.com
END:VEVENT
BEGIN:VEVENT
DTSTAMP:20260421T194318Z
DTSTART;VALUE=DATE:20080115
SUMMARY:CFP 2008 Deadline
DESCRIPTION:Cognitive and Functional Perspectives on Dynamic Tendencies
URL:http://www.wikicfp.com/cfp/servlet/event.showcfp?eventid=342&copyowne
 rid=63
UID:cfp500-D@wikicfp.com
END:VEVENT
BEGIN:VEVENT
DTSTAMP:20260421T194318Z
DTSTART;VALUE=DATE:20080723
DTEND;VALUE=DATE:20080728
SUMMARY:CogSci 2008
DESCRIPTION:30th Annual Meeting of the Cognitive Science Society 
URL:http://www.wikicfp.com/cfp/servlet/event.showcfp?eventid=383&copyowne
 rid=63
UID:cfp502-E@wikicfp.com
END:VEVENT
BEGIN:VEVENT
DTSTAMP:20260421T194318Z
DTSTART;VALUE=DATE:20080201
SUMMARY:CogSci 2008 Deadline
DESCRIPTION:30th Annual Meeting of the Cognitive Science Society 
URL:http://www.wikicfp.com/cfp/servlet/event.showcfp?eventid=383&copyowne
 rid=63
UID:cfp502-D@wikicfp.com
END:VEVENT
BEGIN:VEVENT
DTSTAMP:20260421T194318Z
DTSTART;VALUE=DATE:20080818
DTEND;VALUE=DATE:20080823
SUMMARY:COLING 2008
DESCRIPTION:The 22nd International Conference on Computational Linguistic
 s
URL:http://www.wikicfp.com/cfp/servlet/event.showcfp?eventid=158&copyowne
 rid=63
UID:cfp499-E@wikicfp.com
END:VEVENT
BEGIN:VEVENT
DTSTAMP:20260421T194318Z
DTSTART;VALUE=DATE:20080330
SUMMARY:COLING 2008 Deadline
DESCRIPTION:The 22nd International Conference on Computational Linguistic
 s
URL:http://www.wikicfp.com/cfp/servlet/event.showcfp?eventid=158&copyowne
 rid=63
UID:cfp499-D@wikicfp.com
END:VEVENT
BEGIN:VEVENT
DTSTAMP:20260421T194318Z
DTSTART;VALUE=DATE:20080530
SUMMARY:COLING 2008 Notification Due
DESCRIPTION:The 22nd International Conference on Computational Linguistic
 s
URL:http://www.wikicfp.com/cfp/servlet/event.showcfp?eventid=158&copyowne
 rid=63
UID:cfp499-N@wikicfp.com
END:VEVENT
END:VCALENDAR
