BEGIN:VCALENDAR
PRODID:-//WikiCFP//michele_tan 1.0//EN
VERSION:2.0
CALSCALE:GREGORIAN
BEGIN:VEVENT
DTSTAMP:20260425T194746Z
DTSTART;VALUE=DATE:20140502
DTEND;VALUE=DATE:20140504
SUMMARY:WCCCE 2014
DESCRIPTION:The 19th Western Canadian Conference on Computing Education
URL:http://www.wikicfp.com/cfp/servlet/event.showcfp?eventid=32905&copyow
 nerid=62983
UID:cfp436026-E@wikicfp.com
END:VEVENT
BEGIN:VEVENT
DTSTAMP:20260425T194746Z
DTSTART;VALUE=DATE:20140318
SUMMARY:WCCCE 2014 Deadline
DESCRIPTION:The 19th Western Canadian Conference on Computing Education
URL:http://www.wikicfp.com/cfp/servlet/event.showcfp?eventid=32905&copyow
 nerid=62983
UID:cfp436026-D@wikicfp.com
END:VEVENT
BEGIN:VEVENT
DTSTAMP:20260425T194746Z
DTSTART;VALUE=DATE:20140401
SUMMARY:WCCCE 2014 Notification Due
DESCRIPTION:The 19th Western Canadian Conference on Computing Education
URL:http://www.wikicfp.com/cfp/servlet/event.showcfp?eventid=32905&copyow
 nerid=62983
UID:cfp436026-N@wikicfp.com
END:VEVENT
BEGIN:VEVENT
DTSTAMP:20260425T194746Z
DTSTART;VALUE=DATE:20140408
SUMMARY:WCCCE 2014 Final Version Due
DESCRIPTION:The 19th Western Canadian Conference on Computing Education
URL:http://www.wikicfp.com/cfp/servlet/event.showcfp?eventid=32905&copyow
 nerid=62983
UID:cfp436026-N@wikicfp.com
END:VEVENT
BEGIN:VEVENT
DTSTAMP:20260425T194746Z
DTSTART;VALUE=DATE:20140616
DTEND;VALUE=DATE:20140618
SUMMARY:ICTES 2014
DESCRIPTION:2014 International Conference on Teaching and Education Scien
 ces
URL:http://www.wikicfp.com/cfp/servlet/event.showcfp?eventid=34251&copyow
 nerid=62983
UID:cfp436027-E@wikicfp.com
END:VEVENT
BEGIN:VEVENT
DTSTAMP:20260425T194746Z
DTSTART;VALUE=DATE:20140425
SUMMARY:ICTES 2014 Deadline
DESCRIPTION:2014 International Conference on Teaching and Education Scien
 ces
URL:http://www.wikicfp.com/cfp/servlet/event.showcfp?eventid=34251&copyow
 nerid=62983
UID:cfp436027-D@wikicfp.com
END:VEVENT
BEGIN:VEVENT
DTSTAMP:20260425T194746Z
DTSTART;VALUE=DATE:20140510
SUMMARY:ICTES 2014 Notification Due
DESCRIPTION:2014 International Conference on Teaching and Education Scien
 ces
URL:http://www.wikicfp.com/cfp/servlet/event.showcfp?eventid=34251&copyow
 nerid=62983
UID:cfp436027-N@wikicfp.com
END:VEVENT
BEGIN:VEVENT
DTSTAMP:20260425T194746Z
DTSTART;VALUE=DATE:20140520
SUMMARY:ICTES 2014 Final Version Due
DESCRIPTION:2014 International Conference on Teaching and Education Scien
 ces
URL:http://www.wikicfp.com/cfp/servlet/event.showcfp?eventid=34251&copyow
 nerid=62983
UID:cfp436027-N@wikicfp.com
END:VEVENT
BEGIN:VEVENT
DTSTAMP:20260425T194746Z
DTSTART;VALUE=DATE:20141110
DTEND;VALUE=DATE:20141113
SUMMARY:LICE 2014
DESCRIPTION:London International Conference on Education 
URL:http://www.wikicfp.com/cfp/servlet/event.showcfp?eventid=35844&copyow
 nerid=62983
UID:cfp436031-E@wikicfp.com
END:VEVENT
BEGIN:VEVENT
DTSTAMP:20260425T194746Z
DTSTART;VALUE=DATE:20140720
SUMMARY:LICE 2014 Abstract Due
DESCRIPTION:London International Conference on Education 
URL:http://www.wikicfp.com/cfp/servlet/event.showcfp?eventid=35844&copyow
 nerid=62983
UID:cfp436031-A@wikicfp.com
END:VEVENT
BEGIN:VEVENT
DTSTAMP:20260425T194746Z
DTSTART;VALUE=DATE:20140801
SUMMARY:LICE 2014 Deadline
DESCRIPTION:London International Conference on Education 
URL:http://www.wikicfp.com/cfp/servlet/event.showcfp?eventid=35844&copyow
 nerid=62983
UID:cfp436031-D@wikicfp.com
END:VEVENT
BEGIN:VEVENT
DTSTAMP:20260425T194746Z
DTSTART;VALUE=DATE:20140815
SUMMARY:LICE 2014 Notification Due
DESCRIPTION:London International Conference on Education 
URL:http://www.wikicfp.com/cfp/servlet/event.showcfp?eventid=35844&copyow
 nerid=62983
UID:cfp436031-N@wikicfp.com
END:VEVENT
BEGIN:VEVENT
DTSTAMP:20260425T194746Z
DTSTART;VALUE=DATE:20140915
SUMMARY:LICE 2014 Final Version Due
DESCRIPTION:London International Conference on Education 
URL:http://www.wikicfp.com/cfp/servlet/event.showcfp?eventid=35844&copyow
 nerid=62983
UID:cfp436031-N@wikicfp.com
END:VEVENT
END:VCALENDAR
