BEGIN:VCALENDAR
PRODID:-//WikiCFP//leroux 1.0//EN
VERSION:2.0
CALSCALE:GREGORIAN
BEGIN:VEVENT
DTSTAMP:20260426T040709Z
DTSTART;VALUE=DATE:20140508
DTEND;VALUE=DATE:20140510
SUMMARY:ARbD 2014
DESCRIPTION:ARbDâ14 - Fourth International Conference on Architectural 
 Research by Design: Unifying Academia and Practice through Research
URL:http://www.wikicfp.com/cfp/servlet/event.showcfp?eventid=36081&copyow
 nerid=62800
UID:cfp434558-E@wikicfp.com
END:VEVENT
BEGIN:VEVENT
DTSTAMP:20260426T040709Z
DTSTART;VALUE=DATE:20140314
SUMMARY:ARbD 2014 Deadline
DESCRIPTION:ARbDâ14 - Fourth International Conference on Architectural 
 Research by Design: Unifying Academia and Practice through Research
URL:http://www.wikicfp.com/cfp/servlet/event.showcfp?eventid=36081&copyow
 nerid=62800
UID:cfp434558-D@wikicfp.com
END:VEVENT
BEGIN:VEVENT
DTSTAMP:20260426T040709Z
DTSTART;VALUE=DATE:20140321
SUMMARY:ARbD 2014 Notification Due
DESCRIPTION:ARbDâ14 - Fourth International Conference on Architectural 
 Research by Design: Unifying Academia and Practice through Research
URL:http://www.wikicfp.com/cfp/servlet/event.showcfp?eventid=36081&copyow
 nerid=62800
UID:cfp434558-N@wikicfp.com
END:VEVENT
BEGIN:VEVENT
DTSTAMP:20260426T040709Z
DTSTART;VALUE=DATE:20140418
SUMMARY:ARbD 2014 Final Version Due
DESCRIPTION:ARbDâ14 - Fourth International Conference on Architectural 
 Research by Design: Unifying Academia and Practice through Research
URL:http://www.wikicfp.com/cfp/servlet/event.showcfp?eventid=36081&copyow
 nerid=62800
UID:cfp434558-N@wikicfp.com
END:VEVENT
BEGIN:VEVENT
DTSTAMP:20260426T040709Z
DTSTART;VALUE=DATE:20140321
SUMMARY:AfE 2014 Deadline
DESCRIPTION:Architectures for Emergencies II
URL:http://www.wikicfp.com/cfp/servlet/event.showcfp?eventid=35689&copyow
 nerid=62800
UID:cfp434565-D@wikicfp.com
END:VEVENT
BEGIN:VEVENT
DTSTAMP:20260426T040709Z
DTSTART;VALUE=DATE:20140331
SUMMARY:AfE 2014 Notification Due
DESCRIPTION:Architectures for Emergencies II
URL:http://www.wikicfp.com/cfp/servlet/event.showcfp?eventid=35689&copyow
 nerid=62800
UID:cfp434565-N@wikicfp.com
END:VEVENT
BEGIN:VEVENT
DTSTAMP:20260426T040709Z
DTSTART;VALUE=DATE:20140430
SUMMARY:AfE 2014 Final Version Due
DESCRIPTION:Architectures for Emergencies II
URL:http://www.wikicfp.com/cfp/servlet/event.showcfp?eventid=35689&copyow
 nerid=62800
UID:cfp434565-N@wikicfp.com
END:VEVENT
BEGIN:VEVENT
DTSTAMP:20260426T040709Z
DTSTART;VALUE=DATE:20140630
DTEND;VALUE=DATE:20140702
SUMMARY:IUIC 2014
DESCRIPTION:2nd Intelligent Users / Intelligent Cities Workshop
URL:http://www.wikicfp.com/cfp/servlet/event.showcfp?eventid=36765&copyow
 nerid=62800
UID:cfp434559-E@wikicfp.com
END:VEVENT
BEGIN:VEVENT
DTSTAMP:20260426T040709Z
DTSTART;VALUE=DATE:20140404
SUMMARY:IUIC 2014 Abstract Due
DESCRIPTION:2nd Intelligent Users / Intelligent Cities Workshop
URL:http://www.wikicfp.com/cfp/servlet/event.showcfp?eventid=36765&copyow
 nerid=62800
UID:cfp434559-A@wikicfp.com
END:VEVENT
BEGIN:VEVENT
DTSTAMP:20260426T040709Z
DTSTART;VALUE=DATE:20140404
SUMMARY:IUIC 2014 Deadline
DESCRIPTION:2nd Intelligent Users / Intelligent Cities Workshop
URL:http://www.wikicfp.com/cfp/servlet/event.showcfp?eventid=36765&copyow
 nerid=62800
UID:cfp434559-D@wikicfp.com
END:VEVENT
BEGIN:VEVENT
DTSTAMP:20260426T040709Z
DTSTART;VALUE=DATE:20140425
SUMMARY:IUIC 2014 Notification Due
DESCRIPTION:2nd Intelligent Users / Intelligent Cities Workshop
URL:http://www.wikicfp.com/cfp/servlet/event.showcfp?eventid=36765&copyow
 nerid=62800
UID:cfp434559-N@wikicfp.com
END:VEVENT
BEGIN:VEVENT
DTSTAMP:20260426T040709Z
DTSTART;VALUE=DATE:20140506
SUMMARY:IUIC 2014 Final Version Due
DESCRIPTION:2nd Intelligent Users / Intelligent Cities Workshop
URL:http://www.wikicfp.com/cfp/servlet/event.showcfp?eventid=36765&copyow
 nerid=62800
UID:cfp434559-N@wikicfp.com
END:VEVENT
BEGIN:VEVENT
DTSTAMP:20260426T040709Z
DTSTART;VALUE=DATE:20141010
DTEND;VALUE=DATE:20141012
SUMMARY:UFSC.2050 2014
DESCRIPTION:International Conference on Urban Futures-Squaring Circles: E
 urope\, China and the World in 2050
URL:http://www.wikicfp.com/cfp/servlet/event.showcfp?eventid=35625&copyow
 nerid=62800
UID:cfp434564-E@wikicfp.com
END:VEVENT
BEGIN:VEVENT
DTSTAMP:20260426T040709Z
DTSTART;VALUE=DATE:20140412
SUMMARY:UFSC.2050 2014 Deadline
DESCRIPTION:International Conference on Urban Futures-Squaring Circles: E
 urope\, China and the World in 2050
URL:http://www.wikicfp.com/cfp/servlet/event.showcfp?eventid=35625&copyow
 nerid=62800
UID:cfp434564-D@wikicfp.com
END:VEVENT
BEGIN:VEVENT
DTSTAMP:20260426T040709Z
DTSTART;VALUE=DATE:20140515
SUMMARY:UFSC.2050 2014 Notification Due
DESCRIPTION:International Conference on Urban Futures-Squaring Circles: E
 urope\, China and the World in 2050
URL:http://www.wikicfp.com/cfp/servlet/event.showcfp?eventid=35625&copyow
 nerid=62800
UID:cfp434564-N@wikicfp.com
END:VEVENT
BEGIN:VEVENT
DTSTAMP:20260426T040709Z
DTSTART;VALUE=DATE:20140715
SUMMARY:UFSC.2050 2014 Final Version Due
DESCRIPTION:International Conference on Urban Futures-Squaring Circles: E
 urope\, China and the World in 2050
URL:http://www.wikicfp.com/cfp/servlet/event.showcfp?eventid=35625&copyow
 nerid=62800
UID:cfp434564-N@wikicfp.com
END:VEVENT
BEGIN:VEVENT
DTSTAMP:20260426T040709Z
DTSTART;VALUE=DATE:20141210
DTEND;VALUE=DATE:20141214
SUMMARY:ASA 2014
DESCRIPTION:International Conference of the Architectural Science Associa
 tion 
URL:http://www.wikicfp.com/cfp/servlet/event.showcfp?eventid=36694&copyow
 nerid=62800
UID:cfp434561-E@wikicfp.com
END:VEVENT
BEGIN:VEVENT
DTSTAMP:20260426T040709Z
DTSTART;VALUE=DATE:20140414
SUMMARY:ASA 2014 Deadline
DESCRIPTION:International Conference of the Architectural Science Associa
 tion 
URL:http://www.wikicfp.com/cfp/servlet/event.showcfp?eventid=36694&copyow
 nerid=62800
UID:cfp434561-D@wikicfp.com
END:VEVENT
BEGIN:VEVENT
DTSTAMP:20260426T040709Z
DTSTART;VALUE=DATE:20140512
SUMMARY:ASA 2014 Notification Due
DESCRIPTION:International Conference of the Architectural Science Associa
 tion 
URL:http://www.wikicfp.com/cfp/servlet/event.showcfp?eventid=36694&copyow
 nerid=62800
UID:cfp434561-N@wikicfp.com
END:VEVENT
BEGIN:VEVENT
DTSTAMP:20260426T040709Z
DTSTART;VALUE=DATE:20140929
SUMMARY:ASA 2014 Final Version Due
DESCRIPTION:International Conference of the Architectural Science Associa
 tion 
URL:http://www.wikicfp.com/cfp/servlet/event.showcfp?eventid=36694&copyow
 nerid=62800
UID:cfp434561-N@wikicfp.com
END:VEVENT
BEGIN:VEVENT
DTSTAMP:20260426T040709Z
DTSTART;VALUE=DATE:20141029
DTEND;VALUE=DATE:20141101
SUMMARY:GLOBELICS 2014
DESCRIPTION:The 12th Globelics International Conference
URL:http://www.wikicfp.com/cfp/servlet/event.showcfp?eventid=35524&copyow
 nerid=62800
UID:cfp434563-E@wikicfp.com
END:VEVENT
BEGIN:VEVENT
DTSTAMP:20260426T040709Z
DTSTART;VALUE=DATE:20140423
SUMMARY:GLOBELICS 2014 Deadline
DESCRIPTION:The 12th Globelics International Conference
URL:http://www.wikicfp.com/cfp/servlet/event.showcfp?eventid=35524&copyow
 nerid=62800
UID:cfp434563-D@wikicfp.com
END:VEVENT
BEGIN:VEVENT
DTSTAMP:20260426T040709Z
DTSTART;VALUE=DATE:20140602
SUMMARY:GLOBELICS 2014 Notification Due
DESCRIPTION:The 12th Globelics International Conference
URL:http://www.wikicfp.com/cfp/servlet/event.showcfp?eventid=35524&copyow
 nerid=62800
UID:cfp434563-N@wikicfp.com
END:VEVENT
BEGIN:VEVENT
DTSTAMP:20260426T040709Z
DTSTART;VALUE=DATE:20140608
DTEND;VALUE=DATE:20140612
SUMMARY:GRF-SPaC 2014
DESCRIPTION:Sustainable Production and Consumption Conference
URL:http://www.wikicfp.com/cfp/servlet/event.showcfp?eventid=33938&copyow
 nerid=62800
UID:cfp434562-E@wikicfp.com
END:VEVENT
BEGIN:VEVENT
DTSTAMP:20260426T040709Z
DTSTART;VALUE=DATE:20131215
SUMMARY:GRF-SPaC 2014 Abstract Due
DESCRIPTION:Sustainable Production and Consumption Conference
URL:http://www.wikicfp.com/cfp/servlet/event.showcfp?eventid=33938&copyow
 nerid=62800
UID:cfp434562-A@wikicfp.com
END:VEVENT
BEGIN:VEVENT
DTSTAMP:20260426T040709Z
DTSTART;VALUE=DATE:20140515
SUMMARY:GRF-SPaC 2014 Deadline
DESCRIPTION:Sustainable Production and Consumption Conference
URL:http://www.wikicfp.com/cfp/servlet/event.showcfp?eventid=33938&copyow
 nerid=62800
UID:cfp434562-D@wikicfp.com
END:VEVENT
BEGIN:VEVENT
DTSTAMP:20260426T040709Z
DTSTART;VALUE=DATE:20140115
SUMMARY:GRF-SPaC 2014 Notification Due
DESCRIPTION:Sustainable Production and Consumption Conference
URL:http://www.wikicfp.com/cfp/servlet/event.showcfp?eventid=33938&copyow
 nerid=62800
UID:cfp434562-N@wikicfp.com
END:VEVENT
BEGIN:VEVENT
DTSTAMP:20260426T040709Z
DTSTART;VALUE=DATE:20141016
DTEND;VALUE=DATE:20141018
SUMMARY:CEC 2014
DESCRIPTION:Fifth International Conference on the Constructed Environment
 
URL:http://www.wikicfp.com/cfp/servlet/event.showcfp?eventid=32952&copyow
 nerid=62800
UID:cfp434560-E@wikicfp.com
END:VEVENT
BEGIN:VEVENT
DTSTAMP:20260426T040709Z
DTSTART;VALUE=DATE:20141016
SUMMARY:CEC 2014 Deadline
DESCRIPTION:Fifth International Conference on the Constructed Environment
 
URL:http://www.wikicfp.com/cfp/servlet/event.showcfp?eventid=32952&copyow
 nerid=62800
UID:cfp434560-D@wikicfp.com
END:VEVENT
END:VCALENDAR
