BEGIN:VCALENDAR
PRODID:-//WikiCFP//NDThibault 1.0//EN
VERSION:2.0
CALSCALE:GREGORIAN
BEGIN:VEVENT
DTSTAMP:20260423T144751Z
DTSTART;VALUE=DATE:20130927
SUMMARY:LLC-CMN 2014 Deadline
DESCRIPTION:Literary & Linguistic Computing Special Issue on Computationa
 l Models of Narrative 
URL:http://www.wikicfp.com/cfp/servlet/event.showcfp?eventid=29578&copyow
 nerid=62505
UID:cfp432356-D@wikicfp.com
END:VEVENT
BEGIN:VEVENT
DTSTAMP:20260423T144751Z
DTSTART;VALUE=DATE:20140214
SUMMARY:LLC-CMN 2014 Notification Due
DESCRIPTION:Literary & Linguistic Computing Special Issue on Computationa
 l Models of Narrative 
URL:http://www.wikicfp.com/cfp/servlet/event.showcfp?eventid=29578&copyow
 nerid=62505
UID:cfp432356-N@wikicfp.com
END:VEVENT
BEGIN:VEVENT
DTSTAMP:20260423T144751Z
DTSTART;VALUE=DATE:20140314
SUMMARY:LLC-CMN 2014 Final Version Due
DESCRIPTION:Literary & Linguistic Computing Special Issue on Computationa
 l Models of Narrative 
URL:http://www.wikicfp.com/cfp/servlet/event.showcfp?eventid=29578&copyow
 nerid=62505
UID:cfp432356-N@wikicfp.com
END:VEVENT
BEGIN:VEVENT
DTSTAMP:20260423T144751Z
DTSTART;VALUE=DATE:20131020
SUMMARY:ISIJ 2013 Deadline
DESCRIPTION:Cybersecurity and Cyberdefence\, special issue of Information
  & Security: An International Journal
URL:http://www.wikicfp.com/cfp/servlet/event.showcfp?eventid=32229&copyow
 nerid=62505
UID:cfp432351-D@wikicfp.com
END:VEVENT
BEGIN:VEVENT
DTSTAMP:20260423T144751Z
DTSTART;VALUE=DATE:20131110
SUMMARY:ISIJ 2013 Notification Due
DESCRIPTION:Cybersecurity and Cyberdefence\, special issue of Information
  & Security: An International Journal
URL:http://www.wikicfp.com/cfp/servlet/event.showcfp?eventid=32229&copyow
 nerid=62505
UID:cfp432351-N@wikicfp.com
END:VEVENT
BEGIN:VEVENT
DTSTAMP:20260423T144751Z
DTSTART;VALUE=DATE:20131120
SUMMARY:ISIJ 2013 Final Version Due
DESCRIPTION:Cybersecurity and Cyberdefence\, special issue of Information
  & Security: An International Journal
URL:http://www.wikicfp.com/cfp/servlet/event.showcfp?eventid=32229&copyow
 nerid=62505
UID:cfp432351-N@wikicfp.com
END:VEVENT
BEGIN:VEVENT
DTSTAMP:20260423T144751Z
DTSTART;VALUE=DATE:20140408
DTEND;VALUE=DATE:20140409
SUMMARY:CyberSecurity 2014
DESCRIPTION:Cybersecurity Symposium: Public/Private Partnerships
URL:http://www.wikicfp.com/cfp/servlet/event.showcfp?eventid=35468&copyow
 nerid=62505
UID:cfp432352-E@wikicfp.com
END:VEVENT
BEGIN:VEVENT
DTSTAMP:20260423T144751Z
DTSTART;VALUE=DATE:20140210
SUMMARY:CyberSecurity 2014 Deadline
DESCRIPTION:Cybersecurity Symposium: Public/Private Partnerships
URL:http://www.wikicfp.com/cfp/servlet/event.showcfp?eventid=35468&copyow
 nerid=62505
UID:cfp432352-D@wikicfp.com
END:VEVENT
BEGIN:VEVENT
DTSTAMP:20260423T144751Z
DTSTART;VALUE=DATE:20140310
SUMMARY:CyberSecurity 2014 Notification Due
DESCRIPTION:Cybersecurity Symposium: Public/Private Partnerships
URL:http://www.wikicfp.com/cfp/servlet/event.showcfp?eventid=35468&copyow
 nerid=62505
UID:cfp432352-N@wikicfp.com
END:VEVENT
BEGIN:VEVENT
DTSTAMP:20260423T144751Z
DTSTART;VALUE=DATE:20140401
SUMMARY:CyberSecurity 2014 Final Version Due
DESCRIPTION:Cybersecurity Symposium: Public/Private Partnerships
URL:http://www.wikicfp.com/cfp/servlet/event.showcfp?eventid=35468&copyow
 nerid=62505
UID:cfp432352-N@wikicfp.com
END:VEVENT
BEGIN:VEVENT
DTSTAMP:20260423T144751Z
DTSTART;VALUE=DATE:20140901
DTEND;VALUE=DATE:20140905
SUMMARY:Hypertext 2014
DESCRIPTION:25th ACM Conference on Hypertext and Social Media
URL:http://www.wikicfp.com/cfp/servlet/event.showcfp?eventid=33377&copyow
 nerid=62505
UID:cfp432761-E@wikicfp.com
END:VEVENT
BEGIN:VEVENT
DTSTAMP:20260423T144751Z
DTSTART;VALUE=DATE:20140321
SUMMARY:Hypertext 2014 Deadline
DESCRIPTION:25th ACM Conference on Hypertext and Social Media
URL:http://www.wikicfp.com/cfp/servlet/event.showcfp?eventid=33377&copyow
 nerid=62505
UID:cfp432761-D@wikicfp.com
END:VEVENT
BEGIN:VEVENT
DTSTAMP:20260423T144751Z
DTSTART;VALUE=DATE:20140731
DTEND;VALUE=DATE:20140803
SUMMARY:CMN 2014
DESCRIPTION:Computational Models of Narrative (CMN'14)
URL:http://www.wikicfp.com/cfp/servlet/event.showcfp?eventid=35544&copyow
 nerid=62505
UID:cfp432760-E@wikicfp.com
END:VEVENT
BEGIN:VEVENT
DTSTAMP:20260423T144751Z
DTSTART;VALUE=DATE:20140404
SUMMARY:CMN 2014 Deadline
DESCRIPTION:Computational Models of Narrative (CMN'14)
URL:http://www.wikicfp.com/cfp/servlet/event.showcfp?eventid=35544&copyow
 nerid=62505
UID:cfp432760-D@wikicfp.com
END:VEVENT
BEGIN:VEVENT
DTSTAMP:20260423T144751Z
DTSTART;VALUE=DATE:20140509
SUMMARY:CMN 2014 Notification Due
DESCRIPTION:Computational Models of Narrative (CMN'14)
URL:http://www.wikicfp.com/cfp/servlet/event.showcfp?eventid=35544&copyow
 nerid=62505
UID:cfp432760-N@wikicfp.com
END:VEVENT
BEGIN:VEVENT
DTSTAMP:20260423T144751Z
DTSTART;VALUE=DATE:20140530
SUMMARY:CMN 2014 Final Version Due
DESCRIPTION:Computational Models of Narrative (CMN'14)
URL:http://www.wikicfp.com/cfp/servlet/event.showcfp?eventid=35544&copyow
 nerid=62505
UID:cfp432760-N@wikicfp.com
END:VEVENT
BEGIN:VEVENT
DTSTAMP:20260423T144751Z
DTSTART;VALUE=DATE:20141006
DTEND;VALUE=DATE:20141009
SUMMARY:IOT 2014
DESCRIPTION:Fourth International Conference on the Internet of Things
URL:http://www.wikicfp.com/cfp/servlet/event.showcfp?eventid=36510&copyow
 nerid=62505
UID:cfp432763-E@wikicfp.com
END:VEVENT
BEGIN:VEVENT
DTSTAMP:20260423T144751Z
DTSTART;VALUE=DATE:20140418
SUMMARY:IOT 2014 Deadline
DESCRIPTION:Fourth International Conference on the Internet of Things
URL:http://www.wikicfp.com/cfp/servlet/event.showcfp?eventid=36510&copyow
 nerid=62505
UID:cfp432763-D@wikicfp.com
END:VEVENT
BEGIN:VEVENT
DTSTAMP:20260423T144751Z
DTSTART;VALUE=DATE:20140606
SUMMARY:IOT 2014 Notification Due
DESCRIPTION:Fourth International Conference on the Internet of Things
URL:http://www.wikicfp.com/cfp/servlet/event.showcfp?eventid=36510&copyow
 nerid=62505
UID:cfp432763-N@wikicfp.com
END:VEVENT
BEGIN:VEVENT
DTSTAMP:20260423T144751Z
DTSTART;VALUE=DATE:20140808
SUMMARY:IOT 2014 Final Version Due
DESCRIPTION:Fourth International Conference on the Internet of Things
URL:http://www.wikicfp.com/cfp/servlet/event.showcfp?eventid=36510&copyow
 nerid=62505
UID:cfp432763-N@wikicfp.com
END:VEVENT
BEGIN:VEVENT
DTSTAMP:20260423T144751Z
DTSTART;VALUE=DATE:20140908
DTEND;VALUE=DATE:20140912
SUMMARY:SenseApp 2014
DESCRIPTION:Ninth IEEE International Workshop on Practical Issues in Buil
 ding Sensor Network Applications
URL:http://www.wikicfp.com/cfp/servlet/event.showcfp?eventid=36058&copyow
 nerid=62505
UID:cfp432762-E@wikicfp.com
END:VEVENT
BEGIN:VEVENT
DTSTAMP:20260423T144751Z
DTSTART;VALUE=DATE:20140425
SUMMARY:SenseApp 2014 Deadline
DESCRIPTION:Ninth IEEE International Workshop on Practical Issues in Buil
 ding Sensor Network Applications
URL:http://www.wikicfp.com/cfp/servlet/event.showcfp?eventid=36058&copyow
 nerid=62505
UID:cfp432762-D@wikicfp.com
END:VEVENT
BEGIN:VEVENT
DTSTAMP:20260423T144751Z
DTSTART;VALUE=DATE:20140530
SUMMARY:SenseApp 2014 Notification Due
DESCRIPTION:Ninth IEEE International Workshop on Practical Issues in Buil
 ding Sensor Network Applications
URL:http://www.wikicfp.com/cfp/servlet/event.showcfp?eventid=36058&copyow
 nerid=62505
UID:cfp432762-N@wikicfp.com
END:VEVENT
BEGIN:VEVENT
DTSTAMP:20260423T144751Z
DTSTART;VALUE=DATE:20140630
SUMMARY:SenseApp 2014 Final Version Due
DESCRIPTION:Ninth IEEE International Workshop on Practical Issues in Buil
 ding Sensor Network Applications
URL:http://www.wikicfp.com/cfp/servlet/event.showcfp?eventid=36058&copyow
 nerid=62505
UID:cfp432762-N@wikicfp.com
END:VEVENT
BEGIN:VEVENT
DTSTAMP:20260423T144751Z
DTSTART;VALUE=DATE:20140516
DTEND;VALUE=DATE:20140517
SUMMARY:FHI 2014
DESCRIPTION:The future human image: Whom and How to educate in younger ge
 neration
URL:http://www.wikicfp.com/cfp/servlet/event.showcfp?eventid=35375&copyow
 nerid=62505
UID:cfp432765-E@wikicfp.com
END:VEVENT
BEGIN:VEVENT
DTSTAMP:20260423T144751Z
DTSTART;VALUE=DATE:20140501
SUMMARY:FHI 2014 Deadline
DESCRIPTION:The future human image: Whom and How to educate in younger ge
 neration
URL:http://www.wikicfp.com/cfp/servlet/event.showcfp?eventid=35375&copyow
 nerid=62505
UID:cfp432765-D@wikicfp.com
END:VEVENT
BEGIN:VEVENT
DTSTAMP:20260423T144751Z
DTSTART;VALUE=DATE:20140505
SUMMARY:FHI 2014 Notification Due
DESCRIPTION:The future human image: Whom and How to educate in younger ge
 neration
URL:http://www.wikicfp.com/cfp/servlet/event.showcfp?eventid=35375&copyow
 nerid=62505
UID:cfp432765-N@wikicfp.com
END:VEVENT
BEGIN:VEVENT
DTSTAMP:20260423T144751Z
DTSTART;VALUE=DATE:20140711
DTEND;VALUE=DATE:20140713
SUMMARY:CAMDA 2014
DESCRIPTION:13th International Conference on the Critical Assessment of M
 assive Data Analysis
URL:http://www.wikicfp.com/cfp/servlet/event.showcfp?eventid=36712&copyow
 nerid=62505
UID:cfp432347-E@wikicfp.com
END:VEVENT
BEGIN:VEVENT
DTSTAMP:20260423T144751Z
DTSTART;VALUE=DATE:20140520
SUMMARY:CAMDA 2014 Deadline
DESCRIPTION:13th International Conference on the Critical Assessment of M
 assive Data Analysis
URL:http://www.wikicfp.com/cfp/servlet/event.showcfp?eventid=36712&copyow
 nerid=62505
UID:cfp432347-D@wikicfp.com
END:VEVENT
BEGIN:VEVENT
DTSTAMP:20260423T144751Z
DTSTART;VALUE=DATE:20140530
SUMMARY:CAMDA 2014 Notification Due
DESCRIPTION:13th International Conference on the Critical Assessment of M
 assive Data Analysis
URL:http://www.wikicfp.com/cfp/servlet/event.showcfp?eventid=36712&copyow
 nerid=62505
UID:cfp432347-N@wikicfp.com
END:VEVENT
BEGIN:VEVENT
DTSTAMP:20260423T144751Z
DTSTART;VALUE=DATE:20140930
SUMMARY:CAMDA 2014 Final Version Due
DESCRIPTION:13th International Conference on the Critical Assessment of M
 assive Data Analysis
URL:http://www.wikicfp.com/cfp/servlet/event.showcfp?eventid=36712&copyow
 nerid=62505
UID:cfp432347-N@wikicfp.com
END:VEVENT
BEGIN:VEVENT
DTSTAMP:20260423T144751Z
DTSTART;VALUE=DATE:20141010
DTEND;VALUE=DATE:20141013
SUMMARY:CyberC 2014
DESCRIPTION:The 6th International Conference on Cyber-Enabled Distributed
  Computing and Knowledge Discovery 
URL:http://www.wikicfp.com/cfp/servlet/event.showcfp?eventid=36700&copyow
 nerid=62505
UID:cfp432343-E@wikicfp.com
END:VEVENT
BEGIN:VEVENT
DTSTAMP:20260423T144751Z
DTSTART;VALUE=DATE:20140613
SUMMARY:CyberC 2014 Deadline
DESCRIPTION:The 6th International Conference on Cyber-Enabled Distributed
  Computing and Knowledge Discovery 
URL:http://www.wikicfp.com/cfp/servlet/event.showcfp?eventid=36700&copyow
 nerid=62505
UID:cfp432343-D@wikicfp.com
END:VEVENT
BEGIN:VEVENT
DTSTAMP:20260423T144751Z
DTSTART;VALUE=DATE:20140713
SUMMARY:CyberC 2014 Notification Due
DESCRIPTION:The 6th International Conference on Cyber-Enabled Distributed
  Computing and Knowledge Discovery 
URL:http://www.wikicfp.com/cfp/servlet/event.showcfp?eventid=36700&copyow
 nerid=62505
UID:cfp432343-N@wikicfp.com
END:VEVENT
BEGIN:VEVENT
DTSTAMP:20260423T144751Z
DTSTART;VALUE=DATE:20140801
SUMMARY:CyberC 2014 Final Version Due
DESCRIPTION:The 6th International Conference on Cyber-Enabled Distributed
  Computing and Knowledge Discovery 
URL:http://www.wikicfp.com/cfp/servlet/event.showcfp?eventid=36700&copyow
 nerid=62505
UID:cfp432343-N@wikicfp.com
END:VEVENT
BEGIN:VEVENT
DTSTAMP:20260423T144751Z
DTSTART;VALUE=DATE:20141010
DTEND;VALUE=DATE:20141013
SUMMARY:Big Data 2014
DESCRIPTION:The 2nd International Workshop on Big Data 
URL:http://www.wikicfp.com/cfp/servlet/event.showcfp?eventid=36701&copyow
 nerid=62505
UID:cfp432344-E@wikicfp.com
END:VEVENT
BEGIN:VEVENT
DTSTAMP:20260423T144751Z
DTSTART;VALUE=DATE:20140613
SUMMARY:Big Data 2014 Deadline
DESCRIPTION:The 2nd International Workshop on Big Data 
URL:http://www.wikicfp.com/cfp/servlet/event.showcfp?eventid=36701&copyow
 nerid=62505
UID:cfp432344-D@wikicfp.com
END:VEVENT
BEGIN:VEVENT
DTSTAMP:20260423T144751Z
DTSTART;VALUE=DATE:20140713
SUMMARY:Big Data 2014 Notification Due
DESCRIPTION:The 2nd International Workshop on Big Data 
URL:http://www.wikicfp.com/cfp/servlet/event.showcfp?eventid=36701&copyow
 nerid=62505
UID:cfp432344-N@wikicfp.com
END:VEVENT
BEGIN:VEVENT
DTSTAMP:20260423T144751Z
DTSTART;VALUE=DATE:20140801
SUMMARY:Big Data 2014 Final Version Due
DESCRIPTION:The 2nd International Workshop on Big Data 
URL:http://www.wikicfp.com/cfp/servlet/event.showcfp?eventid=36701&copyow
 nerid=62505
UID:cfp432344-N@wikicfp.com
END:VEVENT
BEGIN:VEVENT
DTSTAMP:20260423T144751Z
DTSTART;VALUE=DATE:20141010
DTEND;VALUE=DATE:20141013
SUMMARY:CSP 2014
DESCRIPTION:The 3rd International Workshop on Cyber Security and Privacy 
 
URL:http://www.wikicfp.com/cfp/servlet/event.showcfp?eventid=36703&copyow
 nerid=62505
UID:cfp432345-E@wikicfp.com
END:VEVENT
BEGIN:VEVENT
DTSTAMP:20260423T144751Z
DTSTART;VALUE=DATE:20140613
SUMMARY:CSP 2014 Deadline
DESCRIPTION:The 3rd International Workshop on Cyber Security and Privacy 
 
URL:http://www.wikicfp.com/cfp/servlet/event.showcfp?eventid=36703&copyow
 nerid=62505
UID:cfp432345-D@wikicfp.com
END:VEVENT
BEGIN:VEVENT
DTSTAMP:20260423T144751Z
DTSTART;VALUE=DATE:20140713
SUMMARY:CSP 2014 Notification Due
DESCRIPTION:The 3rd International Workshop on Cyber Security and Privacy 
 
URL:http://www.wikicfp.com/cfp/servlet/event.showcfp?eventid=36703&copyow
 nerid=62505
UID:cfp432345-N@wikicfp.com
END:VEVENT
BEGIN:VEVENT
DTSTAMP:20260423T144751Z
DTSTART;VALUE=DATE:20140801
SUMMARY:CSP 2014 Final Version Due
DESCRIPTION:The 3rd International Workshop on Cyber Security and Privacy 
 
URL:http://www.wikicfp.com/cfp/servlet/event.showcfp?eventid=36703&copyow
 nerid=62505
UID:cfp432345-N@wikicfp.com
END:VEVENT
BEGIN:VEVENT
DTSTAMP:20260423T144751Z
DTSTART;VALUE=DATE:20141010
DTEND;VALUE=DATE:20141013
SUMMARY:Cognitive 2014
DESCRIPTION:The 4th International Workshop on Cognitive-Inspired Networks
 \, Systems and Applications
URL:http://www.wikicfp.com/cfp/servlet/event.showcfp?eventid=36704&copyow
 nerid=62505
UID:cfp432346-E@wikicfp.com
END:VEVENT
BEGIN:VEVENT
DTSTAMP:20260423T144751Z
DTSTART;VALUE=DATE:20140613
SUMMARY:Cognitive 2014 Deadline
DESCRIPTION:The 4th International Workshop on Cognitive-Inspired Networks
 \, Systems and Applications
URL:http://www.wikicfp.com/cfp/servlet/event.showcfp?eventid=36704&copyow
 nerid=62505
UID:cfp432346-D@wikicfp.com
END:VEVENT
BEGIN:VEVENT
DTSTAMP:20260423T144751Z
DTSTART;VALUE=DATE:20140713
SUMMARY:Cognitive 2014 Notification Due
DESCRIPTION:The 4th International Workshop on Cognitive-Inspired Networks
 \, Systems and Applications
URL:http://www.wikicfp.com/cfp/servlet/event.showcfp?eventid=36704&copyow
 nerid=62505
UID:cfp432346-N@wikicfp.com
END:VEVENT
BEGIN:VEVENT
DTSTAMP:20260423T144751Z
DTSTART;VALUE=DATE:20140801
SUMMARY:Cognitive 2014 Final Version Due
DESCRIPTION:The 4th International Workshop on Cognitive-Inspired Networks
 \, Systems and Applications
URL:http://www.wikicfp.com/cfp/servlet/event.showcfp?eventid=36704&copyow
 nerid=62505
UID:cfp432346-N@wikicfp.com
END:VEVENT
BEGIN:VEVENT
DTSTAMP:20260423T144751Z
DTSTART;VALUE=DATE:20141110
DTEND;VALUE=DATE:20141111
SUMMARY:VizSec 2014
DESCRIPTION:Visualization for Cyber Security 2014
URL:http://www.wikicfp.com/cfp/servlet/event.showcfp?eventid=36674&copyow
 nerid=62505
UID:cfp432350-E@wikicfp.com
END:VEVENT
BEGIN:VEVENT
DTSTAMP:20260423T144751Z
DTSTART;VALUE=DATE:20140801
SUMMARY:VizSec 2014 Deadline
DESCRIPTION:Visualization for Cyber Security 2014
URL:http://www.wikicfp.com/cfp/servlet/event.showcfp?eventid=36674&copyow
 nerid=62505
UID:cfp432350-D@wikicfp.com
END:VEVENT
BEGIN:VEVENT
DTSTAMP:20260423T144751Z
DTSTART;VALUE=DATE:20140905
SUMMARY:VizSec 2014 Notification Due
DESCRIPTION:Visualization for Cyber Security 2014
URL:http://www.wikicfp.com/cfp/servlet/event.showcfp?eventid=36674&copyow
 nerid=62505
UID:cfp432350-N@wikicfp.com
END:VEVENT
BEGIN:VEVENT
DTSTAMP:20260423T144751Z
DTSTART;VALUE=DATE:20140926
SUMMARY:VizSec 2014 Final Version Due
DESCRIPTION:Visualization for Cyber Security 2014
URL:http://www.wikicfp.com/cfp/servlet/event.showcfp?eventid=36674&copyow
 nerid=62505
UID:cfp432350-N@wikicfp.com
END:VEVENT
BEGIN:VEVENT
DTSTAMP:20260423T144751Z
DTSTART;VALUE=DATE:20140922
DTEND;VALUE=DATE:20140925
SUMMARY:ICIEIS 2014
DESCRIPTION:The Third International Conference on Informatics Engineering
  and Information Science 
URL:http://www.wikicfp.com/cfp/servlet/event.showcfp?eventid=33211&copyow
 nerid=62505
UID:cfp432348-E@wikicfp.com
END:VEVENT
BEGIN:VEVENT
DTSTAMP:20260423T144751Z
DTSTART;VALUE=DATE:20140822
SUMMARY:ICIEIS 2014 Deadline
DESCRIPTION:The Third International Conference on Informatics Engineering
  and Information Science 
URL:http://www.wikicfp.com/cfp/servlet/event.showcfp?eventid=33211&copyow
 nerid=62505
UID:cfp432348-D@wikicfp.com
END:VEVENT
BEGIN:VEVENT
DTSTAMP:20260423T144751Z
DTSTART;VALUE=DATE:20140906
SUMMARY:ICIEIS 2014 Notification Due
DESCRIPTION:The Third International Conference on Informatics Engineering
  and Information Science 
URL:http://www.wikicfp.com/cfp/servlet/event.showcfp?eventid=33211&copyow
 nerid=62505
UID:cfp432348-N@wikicfp.com
END:VEVENT
BEGIN:VEVENT
DTSTAMP:20260423T144751Z
DTSTART;VALUE=DATE:20140912
SUMMARY:ICIEIS 2014 Final Version Due
DESCRIPTION:The Third International Conference on Informatics Engineering
  and Information Science 
URL:http://www.wikicfp.com/cfp/servlet/event.showcfp?eventid=33211&copyow
 nerid=62505
UID:cfp432348-N@wikicfp.com
END:VEVENT
END:VCALENDAR
